BEGIN:VCALENDAR
VERSION:2.0
PRODID:-//LIVING for free - ECPv6.15.20//NONSGML v1.0//EN
CALSCALE:GREGORIAN
METHOD:PUBLISH
X-WR-CALNAME:LIVING for free
X-ORIGINAL-URL:https://livingforfree.gr
X-WR-CALDESC:Events for LIVING for free
REFRESH-INTERVAL;VALUE=DURATION:PT1H
X-Robots-Tag:noindex
X-PUBLISHED-TTL:PT1H
BEGIN:VTIMEZONE
TZID:Europe/Athens
BEGIN:DAYLIGHT
TZOFFSETFROM:+0200
TZOFFSETTO:+0300
TZNAME:EEST
DTSTART:20240331T010000
END:DAYLIGHT
BEGIN:STANDARD
TZOFFSETFROM:+0300
TZOFFSETTO:+0200
TZNAME:EET
DTSTART:20241027T010000
END:STANDARD
BEGIN:DAYLIGHT
TZOFFSETFROM:+0200
TZOFFSETTO:+0300
TZNAME:EEST
DTSTART:20250330T010000
END:DAYLIGHT
BEGIN:STANDARD
TZOFFSETFROM:+0300
TZOFFSETTO:+0200
TZNAME:EET
DTSTART:20251026T010000
END:STANDARD
BEGIN:DAYLIGHT
TZOFFSETFROM:+0200
TZOFFSETTO:+0300
TZNAME:EEST
DTSTART:20260329T010000
END:DAYLIGHT
BEGIN:STANDARD
TZOFFSETFROM:+0300
TZOFFSETTO:+0200
TZNAME:EET
DTSTART:20261025T010000
END:STANDARD
END:VTIMEZONE
BEGIN:VEVENT
DTSTART;TZID=Europe/Athens:20251118T093000
DTEND;TZID=Europe/Athens:20251118T160000
DTSTAMP:20260420T024256
CREATED:20251113T114704Z
LAST-MODIFIED:20251113T114704Z
UID:10014096-1763458200-1763481600@livingforfree.gr
SUMMARY:Ημερίδα Επιχειρηματικής και Επαγγελματικής Ενδυνάμωσης
DESCRIPTION:Ημερίδα Επιχειρηματικής και Επαγγελματικής ενδυνάμωσης στο Λουτράκι στις 18 Νοεμβρίου\nΗ Wise Greece\, με την υποστήριξη του TUI Care Foundation και σε συνεργασία με το Peloponnese Tourism Academy\, σας προσκαλεί στην Ημερίδα Επιχειρηματικής και Επαγγελματικής Ενδυνάμωσης – μια μοναδική ευκαιρία για επαγγελματίες ή επιχειρηματίες να ενισχύσουν τις γνώσεις και τις δεξιότητές τους. \nΚατά τη διάρκεια της Ημερίδας\, οι συμμετέχοντες θα έχουν τη δυνατότητα να ενημερωθούν και να εξοικειωθούν με θέματα όπως: \n\nBusiness Plan: Πώς να δημιουργήσετε ένα επιτυχημένο επιχειρηματικό πλάνο.\nΣτρατηγική marketing και προώθηση προϊόντων στα social media – πώς να αναδεικνύετε αποτελεσματικά την  επιχείρησή σας και να φτάνετε στο σωστό κοινό.\nΒιωσιμότητα και υπεύθυνη επιχειρηματικότητα – πρακτικοί τρόποι ενσωμάτωσης φιλικών προς το περιβάλλον πρακτικών\, στον τρόπο λειτουργίας της επιχείρησής σας.\nΔημιουργία επιτυχημένου brand – πώς να διαμορφώσετε μια ξεχωριστή ταυτότητα για την επιχείρηση ή τα προϊόντα σας\, που να ξεχωρίζει στην αγορά.\nΚαι πολλά ακόμη εργαλεία και στρατηγικές που θα υποστηρίξουν την ανάπτυξη της επαγγελματικής ή επιχειρηματικής σας δραστηριότητας.\n\nΗ Ημερίδα απευθύνεται σε επαγγελματίες ή επιχειρηματίες\, που δραστηριοποιούνται στους τομείς του Τουρισμού\, της Γαστρονομίας\, της Εστίασης\, της Παραγωγής Τροφίμων\, του Πολιτισμού\, της Φυσικής Κοσμετολογίας και των Τεχνών & Χειροτεχνιών. Πρόκειται για μια μοναδική ευκαιρία να δικτυωθείτε με επαγγελματίες του κλάδου\, να ανταλλάξετε εμπειρίες και να αντλήσετε γνώση από έμπειρους ανθρώπους της αγοράς. \nΗ συμμετοχή του κοινού στην Ημερίδα είναι ΔΩΡΕΑΝ. \nΤοποθεσία: Αλεξάνδρειο Συνεδριακό Κέντρο Λουτρακίου\nΗμερομηνία: 18 Νοεμβρίου 2025\nΏρα: 9:30 – 10:00 Εγγραφές | 10:00 – 16:00 Εκπαιδεύσεις \nΠραγματοποιήστε την εγγραφή σας εδώ\nΠερισσότερες πληροφορίες www.futureshapers.gr / 2130276559
URL:https://livingforfree.gr/event/imerida-epichirimatikis-ke-epangelmatikis-endynamosis/
LOCATION:Αλεξάνδρειο Συνεδριακό Κέντρο Λουτρακίου\, 5ο Χλμ Ισθμού-Λουτρακίου\, Λουτράκι\, Κόρινθος\, 20300\, Greece
CATEGORIES:Για επαγγελματίες,Ομιλίες
ATTACH;FMTTYPE=image/jpeg:https://livingforfree.gr/wp-content/uploads/2025/11/Ημερίδα-Επιχειρηματικής-και-Επαγγελματικής-Ενδυνάμωσης.jpg
GEO:37.931796;22.992099
X-APPLE-STRUCTURED-LOCATION;VALUE=URI;X-ADDRESS=Αλεξάνδρειο Συνεδριακό Κέντρο Λουτρακίου 5ο Χλμ Ισθμού-Λουτρακίου Λουτράκι Κόρινθος 20300 Greece;X-APPLE-RADIUS=500;X-TITLE=5ο Χλμ Ισθμού-Λουτρακίου:geo:22.992099,37.931796
END:VEVENT
BEGIN:VEVENT
DTSTART;TZID=Europe/Athens:20251118T180000
DTEND;TZID=Europe/Athens:20251118T200000
DTSTAMP:20260420T024256
CREATED:20251113T182912Z
LAST-MODIFIED:20251113T182912Z
UID:10014144-1763488800-1763496000@livingforfree.gr
SUMMARY:Γυναικείες μορφές σε τέσσερις ταινίες του Παντελή Βούλγαρη
DESCRIPTION:Γυναικείες μορφές σε τέσσερις ταινίες του Παντελή Βούλγαρη\nΕικαστική έκθεση στο Ιδρυμα Μιχάλης Κακογιάννης Στο πλαίσιο του 38ου Πανοράματος Ευρωπαϊκού Κινηματογράφου Από 18/11 έως 7/12/2025 Είσοδος Ελεύθερη \nΕμπνευσμένη από τις εμβληματικές ταινίες του σπουδαίου σκηνοθέτη Παντελή Βούλγαρη\, Το προξενιό της Άννας\, Τα πέτρινα χρόνια\, Νύφες και Μικρά Αγγλία\, είναι η εικαστική έκθεση «Γυναικείες μορφές σε τέσσερις ταινίες του Παντελή Βούλγαρη» που εγκαινιάζεται στο Ιδρυμα Μιχάλης Κακογιάννης την Τρίτη 18 Νοεμβρίου 2025\, στις 19.30. Τα έργα δημιουργήθηκαν από οκτώ ζωγράφους – τέσσερις γυναίκες και τέσσερις άνδρες – αποφοίτους της Ανωτάτης Σχολής Καλών Τεχνών\, υπό την επιμέλεια του ομότιμου καθηγητή και ζωγράφου Γιάννη Ψυχοπαίδη. Η έκθεση αποτελεί έναν εικαστικό διάλογο ανάμεσα στη ζωγραφική και τον κινηματογράφο\, φωτίζοντας τη θέση και το ρόλο της γυναίκας μέσα από το έργο του σημαντικού Έλληνα σκηνοθέτη. Στην έκθεση συμμετέχουν οι εικαστικοί: Βιργινία Αξιώτη\, Αλέξανδρος Βέργης\, Δημήτρης Κατσούδας\, Ιβάν Μαστερόπουλος\, Βασίλης Παφίλης\, Δέσποινα Φλέσσα\, Δήμητρα Χανιώτη\, Κατερίνα Χριστοπούλου. \nΗ έκθεση πραγματοποιείται στο πλαίσιο του 38ου Πανοράματος Ευρωπαϊκού Κινηματογράφου. \nΔιάρκεια: Τρίτη 18 Νοεμβρίου – Κυριακή 7 Δεκεμβρίου\nΧώρος: Ίδρυμα Μιχάλης Κακογιάννης\, Πειραιώς 206\, Ταύρος\n(Εκθεσιακός χώρος 1ου ορόφου) \nΕπιμέλεια: Γιάννης Ψυχοπαίδης \nΕγκαίνια: Τρίτη 18 Νοεμβρίου\nΏρες λειτουργίας: Καθημερινά\, 18:00 – 22:00\nΕίσοδος ελεύθερη
URL:https://livingforfree.gr/event/gynekies-morfes-se-tesseris-tenies-tou-panteli-voulgari/
LOCATION:Ίδρυμα Μιχάλη Κακογιάννη\, Πειραιώς 206\, Ταύρος\, Αττική\, 17778\, Greece
CATEGORIES:Εικαστικά
ATTACH;FMTTYPE=image/jpeg:https://livingforfree.gr/wp-content/uploads/2025/11/1200x400_slider-site-photo.jpg
GEO:37.9675461;23.6965941
X-APPLE-STRUCTURED-LOCATION;VALUE=URI;X-ADDRESS=Ίδρυμα Μιχάλη Κακογιάννη Πειραιώς 206 Ταύρος Αττική 17778 Greece;X-APPLE-RADIUS=500;X-TITLE=Πειραιώς 206:geo:23.6965941,37.9675461
END:VEVENT
BEGIN:VEVENT
DTSTART;TZID=Europe/Athens:20251118T190000
DTEND;TZID=Europe/Athens:20251118T210000
DTSTAMP:20260420T024256
CREATED:20251113T180217Z
LAST-MODIFIED:20251113T180217Z
UID:10014138-1763492400-1763499600@livingforfree.gr
SUMMARY:Πικρά χρόνια εισβολής\, κατοχής\, τραύματα και νοσταλγία
DESCRIPTION:Παρουσίαση του βιβλίου\nΠικρά χρόνια εισβολής\, κατοχής\, τραύματα και νοσταλγία\nΗ Μαρία Ιωάννου-Φίλη γεννήθηκε στην Κατεχόµενη Αµµόχωστο. Είναι Τεχνολόγος Μηχανικός. Έχει εκδώσει δύο ποιητικές συλλογές\, «Αµµόχωστος καρδιά µου» και «Απόσταγµα ψυχής µε τα Κρινάκια της Ζωής»\, ένα Παραµύθι µε τίτλο «H Πηνελόπη\, η Αµµόχωστος και το κοχύλι της» που έχει εγκριθεί από το Υπουργείο Παιδείας\, Αθλητισµού και Νεολαίας (ΥΠΑΝ) της Κυπριακής Δηµοκρατίας και δύο Ιστορικά Λευκώµατα: «Αµµόχωστος µου εσύ και η Αλήθεια σου\, Μαρτυρίες Αδερφών Αµµοχωστιανών» καθώς και το «Πικρά xρόνια εισβολής\, κατοχής\, τραύµατα και νοσταλγία ΔΕΝ ΞΕΧΝΩ» το οποίο είναι\, επίσης\, εγκεκριµένο από το ΥΠΑΝ για την αγορά και διάθεσή του στις Σχολικές Βιβλιοθήκες των σχολείων της Κύπρου. Ποιήµατά της έχουν µελοποιηθεί και περιλαµβάνονται σε ανθολογίες\, περιοδικά κ.λπ. Θηριωδίες\, βιασµοί\, δολοφονίες\, αγνοούµενοι\, που σηµάδεψαν την ψυχή της συγγραφέως η οποία επιχειρεί µε τον πιο άµεσο τρόπο να τα περιγράψει µέσα από τα δικά της βιώµατα αλλά και των θυµάτων της Εισβολής. Tο Δεν Ξεχνώ για τη συγγραφέα δεν είναι σύνθηµα είναι στάση ζωής\, είναι µια διαδροµή µέσα από τις στάχτες προς την ανάµνηση και από εκεί προς την κάθαρση και την λευτεριά \nΔιοργάνωση: Σπίτι της Κύπρου\nΧαιρετισμοί:\nΣταύρος Αυγουστίδης\nΠρέσβης Κυπριακής Δημοκρατίας\nΓιώργος Συλλούρης\nΠρόεδρος Ομοσπονδίας Κυπριακών Οργανώσεων Ελλάδας (Ο.Κ.Ο.Ε.)\nΔημήτρης Φύκιρης\nΕκδότης «Εκδοτικού Οίκου Κούρος»\nΟμιλητές:\nΜαίρη Σταυρινίδου-Ευθυμίου\nΦιλόλογος\, Συγγραφέας\nΒασίλης Μαστρογιάννης\nΔιδάκτωρ Δημοσίου Δικαίου\nΔιδάσκων στο ΕΑΠ\, Συγγραφέας\nΣυντονισμός: Σταυρούλα Βενιέρη\nΣυγγραφέας Παραμυθιών και Παιδικής Λογοτεχνίας\nΥπεύθυνη Δημοσίων Σχέσεων\n«Εκδοτικού Οίκου Κούρος»\nΑπόσπασμα από το βιβλίο θα διαβάσει ο Γενικός Γραμματέας Ο.Κ.Ο.Ε. Λευτέρης Κωνσταντινίδης\nΜουσικό πρόγραμμα:\nΘανάσης Παπαβασιλείου\nMουσικοσυνθέτης\nΕρμηνεύουν:\nΘανάσης Παπαβασιλείου\nΒάλια Μαστρογιάννη\nΣτο πιάνο η Μάρσια Παπαδοπούλου \nΣύνδεσμος παρακολούθησης:\nhttps://new.diavlos.grnet.gr/el/room/5062/event/6799
URL:https://livingforfree.gr/event/pikra-chronia-isvolis-katochis-travmata-ke-nostalgia/
LOCATION:Το σπίτι της Κύπρου (Πρεσβεία Κύπρου)\, Ξενοφώντος 2\, Αθήνα\, Αττική\, 10557\, Greece
CATEGORIES:Αφήγηση - Βιβλίο
ATTACH;FMTTYPE=image/jpeg:https://livingforfree.gr/wp-content/uploads/2025/11/Πικρά-χρόνια-εισβολής-κατοχής-τραύματα-και-νοσταλγία.jpg
GEO:37.974159;23.7347695
X-APPLE-STRUCTURED-LOCATION;VALUE=URI;X-ADDRESS=Το σπίτι της Κύπρου (Πρεσβεία Κύπρου) Ξενοφώντος 2 Αθήνα Αττική 10557 Greece;X-APPLE-RADIUS=500;X-TITLE=Ξενοφώντος 2:geo:23.7347695,37.974159
END:VEVENT
BEGIN:VEVENT
DTSTART;TZID=Europe/Athens:20251118T190000
DTEND;TZID=Europe/Athens:20251118T220000
DTSTAMP:20260420T024256
CREATED:20251113T171831Z
LAST-MODIFIED:20251113T171831Z
UID:10014131-1763492400-1763503200@livingforfree.gr
SUMMARY:Εγκαίνια Οι Αόρατοι της Γης στο Ίδρυμα Κακογιάννη
DESCRIPTION:«Οι Αόρατοι της Γης»\, η έκθεση ζωγραφικής από την Σμαρώ Τζενανίδου στο Ίδρυμα Μιχάλης Κακογιάννης.\nΕγκαίνια: 18 Νοεμβρίου 2025\nΟ Δήμος Μοσχάτου–Ταύρου\, σε συνδιοργάνωση με την Περιφερειακή Ένωση Δήμων Αττικής (ΠΕΔΑ)\, παρουσιάζει την εικαστική έκθεση της Σμαρώς Τζενανίδου «Οι Αόρατοι της Γης». Μια καλλιτεχνική πρόταση που επιχειρεί να φέρει στο επίκεντρο έναν από τους πιο ανησυχητικούς και λιγότερο προβεβλημένους αντίκτυπους της κλιματικής αλλαγής: την αναγκαστική μετακίνηση εκατομμυρίων ανθρώπων σε όλον τον κόσμο. Τα εγκαίνια της έκθεσης είναι την Τρίτη 18 Νοεμβρίου\, στις 19.00\, στο Ίδρυμα Μιχάλης Κακογιάννης (Πειραιώς 206\, Ταύρος). Η έκθεση θα φιλοξενηθεί έως τις 7 Δεκεμβρίου\, ενώ οι πολίτες θα μπορούν καθημερινά και Σαββατοκύριακα να επισκέπτονται την έκθεση από τις 18.00 έως τις 22.00. \nΣε μια περίοδο όπου τα φαινόμενα της κλιματικής κρίσης οξύνονται\, εκατομμύρια άνθρωποι εγκαταλείπουν τις πατρογονικές τους εστίες αναζητώντας ασφάλεια και μια νέα αρχή. Παρά το εύρος του φαινομένου\, οι λεγόμενοι «κλιματικοί πρόσφυγες» παραμένουν χωρίς θεσμική αναγνώριση και χωρίς προστατευτικό πλαίσιο από τη διεθνή κοινότητα. Η καλλιτέχνιδα επιλέγει να στρέψει τον προβολέα σε αυτούς τους ανθρώπους που συχνά μένουν στο περιθώριο — στους «αόρατους» της σύγχρονης πραγματικότητας. \nΗ έκθεση περιλαμβάνει έργα που δημιουργήθηκαν αποκλειστικά για την παρούσα παρουσίαση και αποτελούν την ολοκλήρωση μιας τριλογίας που ξεκίνησε το 2011 με την Αθωότητα\, συνεχίστηκε το 2014 με τη Μνήμη και τώρα κορυφώνεται στη Σκέψη. Με έντονη χρωματική παλέτα και ιμπρεσιονιστική γραφή\, η Τζενανίδου αποτυπώνει τον διαρκή αγώνα ανάμεσα στο φως και το σκοτάδι\, την απόγνωση και την ελπίδα\, την απώλεια και την αναγέννηση. \nΤην έκθεση συνδιοργανώνουν ο Δήμος Μοσχάτου – Ταύρου και η Περιφερειακή Ένωση Δήμων Αττικής (ΠΕΔΑ) και τελεί υπό την Αιγίδα της Α.Θ. Παναγιότητας του Οικουμενικού Πατριάρχη κ.κ. Βαρθολομαίου. \nΟ Δήμαρχος Μοσχάτου-Ταύρου\, Ανδρέας Ευθυμίου\, δήλωσε: «Ως Δήμος\, έχουμε την ευθύνη να αναδεικνύουμε όχι μόνο την πολιτιστική δημιουργία\, αλλά και τα κρίσιμα κοινωνικά ζητήματα που καθορίζουν το παρόν και το μέλλον μας. Η έκθεση “Οι Αόρατοι της Γης” δεν είναι απλώς μια καλλιτεχνική πρόταση· είναι μια πρόσκληση σε συλλογική ενσυναίσθηση και δράση. Η Σμαρώ Τζενανίδου μας υπενθυμίζει\, μέσα από τη δύναμη της τέχνης\, ότι πίσω από κάθε στατιστικό στοιχείο υπάρχει μια ανθρώπινη ιστορία. Εκατομμύρια άνθρωποι μετακινούνται σήμερα εξαιτίας της κλιματικής κρίσης\, συχνά χωρίς καμία προστασία ή αναγνώριση. Οφείλουμε ως κοινωνίες να τους κάνουμε ορατούς\, να τους δώσουμε φωνή και να διεκδικήσουμε λύσεις. Ευχαριστώ τη δημιουργό για το βαθιά ανθρώπινο έργο της και καλώ τους δημότες μας να επισκεφθούν την έκθεση και να συμμετάσχουν σε αυτόν τον απαραίτητο διάλογο ανάμεσα στην τέχνη και την κοινωνική πραγματικότητα“
URL:https://livingforfree.gr/event/egkenia-i-aorati-tis-gis-sto-idryma-kakogianni/
LOCATION:Ίδρυμα Μιχάλη Κακογιάννη\, Πειραιώς 206\, Ταύρος\, Αττική\, 17778\, Greece
CATEGORIES:Εικαστικά
ATTACH;FMTTYPE=image/jpeg:https://livingforfree.gr/wp-content/uploads/2025/11/Οι-Αόρατοι-της-Γης.jpg
GEO:37.9675461;23.6965941
X-APPLE-STRUCTURED-LOCATION;VALUE=URI;X-ADDRESS=Ίδρυμα Μιχάλη Κακογιάννη Πειραιώς 206 Ταύρος Αττική 17778 Greece;X-APPLE-RADIUS=500;X-TITLE=Πειραιώς 206:geo:23.6965941,37.9675461
END:VEVENT
BEGIN:VEVENT
DTSTART;TZID=Europe/Athens:20251118T200000
DTEND;TZID=Europe/Athens:20251118T220000
DTSTAMP:20260420T024256
CREATED:20251117T073158Z
LAST-MODIFIED:20251117T073158Z
UID:10014150-1763496000-1763503200@livingforfree.gr
SUMMARY:Σινεμά & Ψυχολογία στα Βριλήσσια
DESCRIPTION:6η Συνάντηση Σεμιναρίου «Σινεμά & Ψυχολογία»\, Τρίτη 18 Νοεμβρίου 2025\, 8:00μμ\, ζωντανά και διαδικτυακά\nΣτην 6η Συνάντηση του Σεμιναρίου «Σινεμά & Ψυχολογία» (Τρίτη 18/11\, 8:00μμ) συζητάμε την «Φθινοπωρινή Σονάτα» του Ingmar Bergman. Μια πικρή\, στοχαστική ταινία γραμμένη\, σκηνοθετημένη και ερμηνευμένη με συγκλονιστική επιδεξιότητα\, ώστε είναι αδύνατο να αφήσει ανεπηρέαστο τον οποιοδήποτε θεατή. Δύο αποξενωμένοι χαρακτήρες εκ διαμέτρου αντίθετοι\, μια εγωκεντρική μάνα που απαιτεί να την αγαπάς αλλά της είναι δύσκολο να αγαπήσει και η συνεσταλμένη\, υποταγμένη κόρη της που εύκολα αγαπά αλλά δύσκολα αγαπιέται\, συναντιούνται μετά από χρόνια και η συνάντηση τους μέσα από μια σειρά εξομολογήσεων που ξεχειλίζουν από αγάπη και μίσος εξελίσσεται σε τρομερή σύγκρουση που πληγώνει ανεπανόρθωτά όλους τους εμπλεκόμενους. Όλα τα προβλήματα\, οι δυσαρέσκειες\, ο πόνος\, τα τραύματα\, τα παράπονα\, η οργή που κρύβει η ανύπαρκτη σχέση τους βγαίνουν στην επιφάνεια και τα ψέματα δίνουν τη θέση τους σε πικρές αλήθειες. Το ερώτημα που παραμένει είναι αν τέτοιες σχέσεις μπορούν να διορθωθούν. Οι συναντήσεις γίνονται ζωντανά στο στέκι της ΔΡΑΣΗΣ για μια Άλλη Πόλη και διαδικτυακά μέσω της πλατφόρμας zoom στη διεύθυνση: https://us06web.zoom.us/j/86868047020?pwd=0stO5LQ9rpaJ6LVHaUZpTgw01CT1Wm.1#success \nΦθινοπωρινή Σονάτα/Hostsonaten/ Autumn Sonata\nΣουηδία\, Δραματική\, 1978. Διάρκεια: 99’. Σκηνοθεσία: Ingmar Bergman. Πρωταγωνιστούν: Ingrid Bergman\, Liv Ullmann\, Lena Nyman\, Halvar Bjork\, Gunnar Bjornstrand\, Erland Josephson.\nΈπειτα από επτά χρόνια απόστασης\, η διάσημη πιανίστα Σάρλοτ επισκέπτεται την κόρη της Εύα\, που ζει σε ένα εξοχικό σπίτι με τον ιερέα σύζυγό της και την ανάπηρη αδελφή της. Η Σάρλοτ έχει κάνει μια μεγάλη καριέρα ως πιανίστα\, τόσο σπουδαία ώστε να έχει εγκαταλείψει τις δυο της κόρες. Έχοντας χάσει πρόσφατα τον σύντροφό της\, αποφασίζει να δεχτεί την πρόσκληση της Εύας την οποία έχει να δει επτά χρόνια. Μέσα σε αυτό το διάστημα\, εκείνη έχει παντρευτεί και έχει γεννήσει ένα αγόρι το οποίο έχει χάσει από πνιγμό και έχει κοντά της την ανάπηρη αδελφή της\, Έλενα\, την οποία η μητέρα τους είχε εγκαταλείψει σε ίδρυμα. Σε όλες αυτές τις σημαντικές στιγμές της ζωής της Εύας\, η Σάρλοτ ήταν απούσα.\nΌταν φτάσει θα μπει στο σπίτι με αέρα star. Ταιριάζοντας την ομιλία της με μεγάλες κινήσεις και φέρνοντας ένα set αποσκευών που η Εύα θα κουβαλήσει μόνη της. Μητέρα και κόρη είναι εντελώς διαφορετικές. Η μία είναι μια γυναίκα του κόσμου\, επιτυχημένη\, λαμπερή και με κάποια επιτήδευση. Η άλλη είναι συνεσταλμένη\, κοιτάζει χαμηλά και η εμφάνισή της ταιριάζει σε πολύ μεγαλύτερη ηλικιακά γυναίκα. Όταν η Σάρλοτ μάθει ότι στο σπίτι βρίσκεται και η Έλενα\, η διάθεση και το ύφος της θα αλλάξουν αστραπιαία. Δεν διστάζει να προβάλλει τον εγωκεντρισμό της\, είτε δηλώνοντας ότι ήταν πολύ απασχολημένη για να γνωρίσει τον εγγονό που έχασε χωρίς να συναντήσει ποτέ της\, είτε κάνοντας παρατηρήσεις στην Εύα για τον τρόπο που παίζει πιάνο. Η σκηνή αυτή είναι συντριπτική για την Εύα\, που μαζεύει όση αντοχή έχει για να παίξει ένα πρελούδιο του Σοπέν μπροστά στη μητέρα της\, τη διάσημη πιανίστα\, ζητώντας λίγη αποδοχή. Εκείνη\, φυσικά\, είναι αδύνατον να κρατηθεί και να μην της κάνει μερικές επαγγελματικές παρατηρήσεις\, όπως ότι ο Σοπέν χρειάζεται συναίσθημα και όχι συναισθηματισμό. Από τη στάση της γίνεται προφανές ότι η Σάρλοτ δεν αντέχει να αντιμετωπίζει στη ζωή της πράγματα και καταστάσεις που τη βαραίνουν και την δυσκολεύουν. Αλλά οι ημέρες που θα ακολουθήσουν θα φέρουν μόνο δυσκολίες και θα είναι γεμάτες πόνο\, πικρία και αντιπαραθέσεις ανάμεσα στις δυο γυναίκες.\nΟ Ingmar Bergman είχε δηλώσει ότι δεν θα έκανε την ταινία αν δεν είχε αυτές τις δύο πρωταγωνίστριες. Και αν δεν αντλούσε στοιχεία για το σενάριο από τη ζωή τους\, αλλά και τη δική του. Η Liv Ullmann είχε μιλήσει ανοιχτά για τις ενοχές της ως μητέρας. Η Ingmar Bergman. επιδίωξε με πάθος να κάνει μια ταινία με τον συνεπώνυμο συμπατριώτη της\, αλλά στην τελευταία της φιλμική εμφάνιση (και δική του σκηνοθεσία\, αφού οι επόμενες δουλειές του ήταν τηλεοπτικές\, παρά την κινηματογραφική τους διανομή)\, βρέθηκε μπροστά σε έναν ρόλο που τόνιζε και το δικό της ενοχικό παρελθόν\, όταν εγκατέλειψε το πρώτο της παιδί για να ζήσει τον έρωτα με τον Roberto Rosselini. Από την άλλη πλευρά\, ούτε ο Bergman ήταν ο πιο στοργικός πατέρας του κόσμου.\nΚύριες Διακρίσεις: Το φιλμ ήταν υποψήφιο για Όσκαρ Πρώτου Γυναικείου Ρόλου (Ingrid Bergman) και Αυθεντικού Σεναρίου\, για Χρυσή Σφαίρα Ξενόγλωσσης Ταινίας και Πρώτου Γυναικείου Ρόλου (Ingrid Bergman) σε δράμα: Φτωχή συλλογή\, αν σκεφτούμε ότι ταινίες που ξεχνιούνται σε πέντε-δέκα χρόνια αποσπούν αναρίθμητα βραβεία…
URL:https://livingforfree.gr/event/sinema-psychologia-sta-vrilissia-3/
LOCATION:Κίνηση Δημοτών Βριλησσίων Δράση\, Πάρνηθος 21\, Βριλήσσια\, Αττική\, 15235\, Greece
CATEGORIES:Online,Ομιλίες
ATTACH;FMTTYPE=image/jpeg:https://livingforfree.gr/wp-content/uploads/2025/11/584029018_10240832972463815_7643065248110628938_n.jpg
GEO:38.038096;23.833127
X-APPLE-STRUCTURED-LOCATION;VALUE=URI;X-ADDRESS=Κίνηση Δημοτών Βριλησσίων Δράση Πάρνηθος 21 Βριλήσσια Αττική 15235 Greece;X-APPLE-RADIUS=500;X-TITLE=Πάρνηθος 21:geo:23.833127,38.038096
END:VEVENT
BEGIN:VEVENT
DTSTART;TZID=Europe/Athens:20251118T200000
DTEND;TZID=Europe/Athens:20251118T220000
DTSTAMP:20260420T024256
CREATED:20251118T105207Z
LAST-MODIFIED:20251118T105207Z
UID:10014153-1763496000-1763503200@livingforfree.gr
SUMMARY:Εκδήλωση ενάντια στην βία κατά των γυναικών
DESCRIPTION:Σας προσκαλούμε να ενώσουμε της φωνές μας ενάντια στην βία κατά των γυναικών\, σε μια εκδήλωση αφιερωμένη στη μνήμη\, την ενημέρωση και την ελπίδα. Την Τρίτη 18 Νοεμβρίου 2025 Ώρα 20:00 στο Δημοτικό Θέατρο Καλλιθέας (Φιλαρέτου και Κρέμου). \nΜετά τις ομιλίες θα ακολουθήσει η θεατρική παράσταση «Άγουρα Κεράσια» με την Τάνια Τρύπη και τον Κωνσταντίνο Καζάκο. Με την παρουσία σας ενισχύετε το μήνυμα ζωής και ισότητας.
URL:https://livingforfree.gr/event/ekdilosi-enantia-stin-via-kata-ton-gynekon/
LOCATION:Δημοτικό Θέατρο Καλλιθέας\, Κρέμου 123\, Καλλιθέα\, Αττική\, Greece
CATEGORIES:Ομιλίες
ATTACH;FMTTYPE=image/jpeg:https://livingforfree.gr/wp-content/uploads/2025/11/agoura_kerasia18112025_S.jpg
GEO:37.9571468;23.6985763
X-APPLE-STRUCTURED-LOCATION;VALUE=URI;X-ADDRESS=Δημοτικό Θέατρο Καλλιθέας Κρέμου 123 Καλλιθέα Αττική Greece;X-APPLE-RADIUS=500;X-TITLE=Κρέμου 123:geo:23.6985763,37.9571468
END:VEVENT
END:VCALENDAR