BEGIN:VCALENDAR
VERSION:2.0
PRODID:-//LIVING for free - ECPv6.15.20//NONSGML v1.0//EN
CALSCALE:GREGORIAN
METHOD:PUBLISH
X-ORIGINAL-URL:https://livingforfree.gr
X-WR-CALDESC:Events for LIVING for free
REFRESH-INTERVAL;VALUE=DURATION:PT1H
X-Robots-Tag:noindex
X-PUBLISHED-TTL:PT1H
BEGIN:VTIMEZONE
TZID:Europe/Athens
BEGIN:DAYLIGHT
TZOFFSETFROM:+0200
TZOFFSETTO:+0300
TZNAME:EEST
DTSTART:20240331T010000
END:DAYLIGHT
BEGIN:STANDARD
TZOFFSETFROM:+0300
TZOFFSETTO:+0200
TZNAME:EET
DTSTART:20241027T010000
END:STANDARD
BEGIN:DAYLIGHT
TZOFFSETFROM:+0200
TZOFFSETTO:+0300
TZNAME:EEST
DTSTART:20250330T010000
END:DAYLIGHT
BEGIN:STANDARD
TZOFFSETFROM:+0300
TZOFFSETTO:+0200
TZNAME:EET
DTSTART:20251026T010000
END:STANDARD
BEGIN:DAYLIGHT
TZOFFSETFROM:+0200
TZOFFSETTO:+0300
TZNAME:EEST
DTSTART:20260329T010000
END:DAYLIGHT
BEGIN:STANDARD
TZOFFSETFROM:+0300
TZOFFSETTO:+0200
TZNAME:EET
DTSTART:20261025T010000
END:STANDARD
END:VTIMEZONE
BEGIN:VEVENT
DTSTART;TZID=Europe/Athens:20251124T183000
DTEND;TZID=Europe/Athens:20251124T203000
DTSTAMP:20260420T041049
CREATED:20251118T154002Z
LAST-MODIFIED:20251118T154002Z
UID:10014184-1764009000-1764016200@livingforfree.gr
SUMMARY:Χλομά Βουνά στην Ηλιούπολη
DESCRIPTION:Χλομά Βουνά στην Ηλιούπολη\nΗ Δημοτική Βιβλιοθήκη Ηλιούπολης\, οι εκδόσεις ΑΩ και η Λέσχη Ανάγνωσης Ηλιούπολης έχουν την τιμή να σας προσκαλέσουν στην παρουσίαση του βιβλίου της Τίνας Κουτσουμπού «Χλομά Βουνά – Στ’ αχνάρια του Χρηστομάννου» τη Δευτέρα 24 Νοεμβρίου 2025\, στις 18.30 μ.μ. στη Δημοτική Βιβλιοθήκη Ηλιούπολης (Νικομάχου 18\, Ηλιούπολη). \nΓια το βιβλίο θα μιλήσουν οι: \n\nΒιβή Γεωργαντοπούλου\, βιβλιοκριτικός\, συντονίστρια της Λέσχης Ανάγνωσης Degas\nΔιώνη Δημητριάδου\, ποιήτρια\, κριτικός λογοτεχνίας\nΔήμητρα Καραχάλιου\, συντονίστρια Λέσχης Ανάγνωσης Δημοτικής Βιβλιοθήκης Αγίας Παρασκευής\nΜαργαρίτα Παπαγεωργίου\, φιλόλογος\, ποιήτρια\nΑποσπάσματα θα διαβάσει η Δήμητρα Λιαράκου\, ποιήτρια.\nΣτην κιθάρα ο Λεωνίδας Καλογεράς\nΜε την συγγραφέα θα συνομιλήσει η Σοφία Γιαννακάκη\, υπεύθυνη της Λέσχης Ανάγνωσης Ηλιούπολης\n\nΓια περισσότερες πληροφορίες μπορείτε να επικοινωνείτε τηλεφωνικά στο 210 99 40 699
URL:https://livingforfree.gr/event/chloma-vouna-stin-ilioupoli/
LOCATION:Δημοτική Βιβλιοθήκη Ηλιούπολης\, Νικομάχου 18\, Ηλιούπολη\, Αττική\, Greece
CATEGORIES:Αφήγηση - Βιβλίο
ATTACH;FMTTYPE=image/jpeg:https://livingforfree.gr/wp-content/uploads/2025/11/Χλομά-Βουνά.jpg
GEO:37.9274026;23.7498041
X-APPLE-STRUCTURED-LOCATION;VALUE=URI;X-ADDRESS=Δημοτική Βιβλιοθήκη Ηλιούπολης Νικομάχου 18 Ηλιούπολη Αττική Greece;X-APPLE-RADIUS=500;X-TITLE=Νικομάχου 18:geo:23.7498041,37.9274026
END:VEVENT
BEGIN:VEVENT
DTSTART;TZID=Europe/Athens:20251124T190000
DTEND;TZID=Europe/Athens:20251124T200000
DTSTAMP:20260420T041049
CREATED:20251113T101139Z
LAST-MODIFIED:20251113T101139Z
UID:10014085-1764010800-1764014400@livingforfree.gr
SUMMARY:Έκθεση Εγώ\, ο Ανδρέας Βουτσινάς
DESCRIPTION:Εγώ\, ο Ανδρέας Βουτσινάς\nΗ Ελληνοαμερικανική Ένωση παρουσιάζει την έκθεση «Εγώ\, ο Ανδρέας Βουτσινάς»\, μια ιστορική αναδρομή στη ζωή και το έργο του σπουδαίου σκηνοθέτη\, ηθοποιού και δασκάλου του θεάτρου. Με αφορμή τη συμπλήρωση δεκαπέντε ετών από τον θάνατό του\, η έκθεση\, που τελεί υπό την αιγίδα και τη στήριξη της Βουλής των Ελλήνων\, επιχειρεί να φωτίσει την πληθωρική προσωπικότητα και το πολυσχιδές έργο ενός δημιουργού που άφησε ανεξίτηλο αποτύπωμα στην Ελλάδα και το εξωτερικό. Την επιμέλεια υπογράφουν η Ίρις Κρητικού\, ο Σταμάτης Γκίκας και ο Μάριος-Άγγελος Βουτσινάς. \nΣτην Γκαλερί Κέννεντυ\, ο θεατής περιηγείται στη ζωή του Ανδρέα Βουτσινά μέσα από προσωπικά τεκμήρια\, επιστολές\, συλλεκτικά αντικείμενα και εικοσιπέντε εμβληματικά πορτρέτα του\, φιλοτεχνημένα από καλλιτέχνες και φίλους του\, όπως ο Γιάννης Τσαρούχης\, η Lila de Nobili και ο Αλέκος Φασιανός. Παράλληλα\, παρουσιάζεται ένα εντυπωσιακό δίκτυο σχέσεων με 50 διεθνείς προσωπικότητες του θεάτρου και του κινηματογράφου – από τον Λι Στράσμπεργκ και τον Ελία Καζάν έως τη Μέριλιν Μονρό και τον Φεντερίκο Φελίνι – που συνδέθηκαν στενά μαζί του. \nΗ Γκαλερί Χατζηκυριάκος-Γκίκας εστιάζει στο θεατρικό του έργο\, παρουσιάζοντας σκηνικά\, μακέτες\, φωτογραφίες και προγράμματα από τις παραστάσεις που σημάδεψαν την πορεία του σε Ελλάδα και εξωτερικό. Περισσότερα από 180 θεατρικά projects – από το Actors Studio και το Théâtre de Cinquante έως τις σκηνές της Αθήνας και της Επιδαύρου – αναδεικνύουν τον Ανδρέα Βουτσινά ως δάσκαλο\, σκηνοθέτη και καθοδηγητή γενεών ηθοποιών. Η έκθεση συνοδεύεται από συλλεκτική εφημερίδα-μονογραφία και πλαισιώνεται από παράλληλες εκδηλώσεις\, προβολές και ξεναγήσεις\, συνεχίζοντας τη ζωντανή συνομιλία με τον μύθο ενός αληθινού θεατράνθρωπου. \nΣτο πλαίσιο της έκθεσης θα κυκλοφορήσει συλλεκτική εφημερίδα-μονογραφία με αρχειακό υλικό και κείμενα για τον Ανδρέα Βουτσινά από το Τυπογραφείο του Ελληνικού Κοινοβουλίου. Την έκθεση θα πλαισιώσει σειρά παράλληλων εκδηλώσεων\, προβολών και ξεναγήσεων. Το πρόγραμμα θα ανακοινωθεί σύντομα. \nΣυντελεστές\nΊρις Κρητικού\, αρχαιολόγος και ιστορικός της τέχνης\,\nΣταμάτης Γκίκας\, ηθοποιός (Atelier Andréas Voutsinas)\, επιμελητής εκδόσεων και\nΜάριος-Άγγελος Βουτσινάς\, εικαστικός καλλιτέχνης – Επιμέλεια Έκθεσης\nΧρήστος Παρίδης\, δημοσιογράφος\, κειμενογράφος – Σύνταξη Βιογραφικού του Ανδρέα Βουτσινά\nMichèle Simonnet\, ηθοποιός (Atelier Andréas Voutsinas)\, μεταφράστρια\,\nβοηθός του Ανδρέα Βουτσινά – Καλλιτεχνικός Σύμβουλος\nJean Cassiès\, ηθοποιός (Atelier Andréas Voutsinas)\, συγγραφέας\,\nσεναριογράφος – Καλλιτεχνικός Σύμβουλος\nΠαυλίνα Λαδά-Βοσινάκη\, διακοσμήτρια – Αρχειοθέτηση\nΣπύρος Ν. Ταραβήρας\, σκηνοθέτης\, σεναριογράφος\, παραγωγός –\nΝτοκιμαντέρ για τον Ανδρέα Βουτσινά\nΧρήστος Δήμας\, σκηνοθέτης – Οπτικοακουστική Μελέτη Έκθεσης\nΑναστασία Δάλμα\, αρχιτέκτων – Αρχιτεκτονική Μελέτη Έκθεσης\nΔημήτρης Μητσιάνης\, γραφίστας – Σχεδιασμός Εντύπων Έκθεσης\nΕλίζα Πολυχρονιάδου\, συντηρήτρια έργων τέχνης –\nΣυντήρηση Αρχειακού Υλικού\nΜαρία Τσολάκη\, επικοινωνιολόγος – Επικοινωνία Έκθεσης\nΟργάνωση: Ελληνοαμερικανική Ένωση\nΥπό την αιγίδα και τη στήριξη της Βουλής των Ελλήνων \nΕγκαίνια: Δευτέρα 24 Νοεμβρίου 2025\, 19:00\nΠρόγραμμα\nΏρες Λειτουργίας:\nΔευτέρα-Παρασκευή: 12:00-20:00\nΣάββατο: 10:00-14:00\nΕίσοδος ελεύθερη\nΓκαλερί Ελληνοαμερικανικής Ένωσης Μασσαλίας 22\, Αθήνα
URL:https://livingforfree.gr/event/ekthesi-ego-o-andreas-voutsinas/
LOCATION:Ελληνοαμερικάνικη Ένωση HAU\, Μασσαλίας 22\, Αθήνα\, Αττική\, 10680\, Greece
CATEGORIES:Εικαστικά
ATTACH;FMTTYPE=image/jpeg:https://livingforfree.gr/wp-content/uploads/2025/11/0-3.jpg
GEO:37.981923;23.737333
X-APPLE-STRUCTURED-LOCATION;VALUE=URI;X-ADDRESS=Ελληνοαμερικάνικη Ένωση HAU Μασσαλίας 22 Αθήνα Αττική 10680 Greece;X-APPLE-RADIUS=500;X-TITLE=Μασσαλίας 22:geo:23.737333,37.981923
END:VEVENT
BEGIN:VEVENT
DTSTART;TZID=Europe/Athens:20251124T190000
DTEND;TZID=Europe/Athens:20251124T210000
DTSTAMP:20260420T041049
CREATED:20251017T211152Z
LAST-MODIFIED:20251017T213006Z
UID:10013796-1764010800-1764018000@livingforfree.gr
SUMMARY:Ανοικτό Πανεπιστήμιο Περιστερίου
DESCRIPTION:Δημοτικό Ελεύθερο Ανοικτό Πανεπιστήμιο Περιστερίου\nΑκαδημαϊκό Έτος 2025 – 2026\nΤο Δημοτικό Ελεύθερο Ανοικτό Πανεπιστήμιο (ΔΕΑΠ) Περιστερίου με τη συνεργασία της Δημοτικής Βιβλιοθήκης και της Κοινωφελούς Δημοτικής Επιχείρησης Πολιτιστικής Ανάπτυξης του Δήμου Περιστερίου (ΔΕΠΑΔΠ)\, ανοίγει τις πύλες του για το ακαδημαϊκό έτος 2025–2026\, συνεχίζοντας τον επιτυχημένο θεσμό που έχει κερδίσει την εμπιστοσύνη και τη συμμετοχή χιλιάδων πολιτών.\nΓια περισσότερες πληροφορίες – συμμετοχές: Δημοτική Βιβλιοθήκη Περιστερίου\, τηλ.: 210 5716057\, www.dvivlper.gr \, email: info@dvivlper.gr\nΟι διαλέξεις θα πραγματοποιούνται στο Συνεδριακό – Πολιτιστικό Κέντρο του Δημαρχιακού Μεγάρου (Καραθεοδωρή και Εθν. Αντιστάσεως – στάση Μετρό «Περιστέρι»)\, κάθε Δευτέρα 19:00 – 21:00. \nΠατήστε εδώ για να δείτε το πλήρες πρόγραμμα \n24 ΝΟΕΜΒΡΙΟΥ 2025: Χαλβατσιώτης Παναγιώτης\, Αν. Καθηγητής Παθολογίας – Διαβήτη\, ΕΚΠΑ – Πανεπ. Γεν. Νοσ. “Αττικόν”\, Θέμα: “Οξειδωτικό στρες: Πόσο μας βλάπτει και πώς μπορούμε να το καταπολεμήσουμε;”
URL:https://livingforfree.gr/event/deap2526-05/
LOCATION:Δημαρχείο Περιστερίου\, πλατεία Δημοκρατίας\, Περιστέρι\, Αττική\, Greece
CATEGORIES:Ομιλίες
ATTACH;FMTTYPE=image/jpeg:https://livingforfree.gr/wp-content/uploads/2025/09/SCREEN_PANEPISTHMIO-03.jpg
GEO:38.0125971;23.6957835
X-APPLE-STRUCTURED-LOCATION;VALUE=URI;X-ADDRESS=Δημαρχείο Περιστερίου πλατεία Δημοκρατίας Περιστέρι Αττική Greece;X-APPLE-RADIUS=500;X-TITLE=πλατεία Δημοκρατίας:geo:23.6957835,38.0125971
END:VEVENT
BEGIN:VEVENT
DTSTART;TZID=Europe/Athens:20251124T190000
DTEND;TZID=Europe/Athens:20251124T210000
DTSTAMP:20260420T041049
CREATED:20251106T204721Z
LAST-MODIFIED:20251106T204721Z
UID:10014045-1764010800-1764018000@livingforfree.gr
SUMMARY:Διατροφή γονιών Διατροφή παιδιών στη Γλυφάδα
DESCRIPTION:Δημοτικό Ελεύθερο Ανοικτό Πανεπιστήμιο Γλυφάδας \nΠώς η υιοθέτηση ενός υγιούς τρόπου διατροφής των γονιών βελτιώνει τη διατροφική συμπεριφορά των παιδιών \nΕύα Ζήκου Διαιτολόγος – Διατροφολόγος\, Διδάκτωρ Ιατρικής Σχολής Εθνικού και Καποδιστριακού Πανεπιστημίου Αθηνών \nΘέμα: «Διατροφή γονιών – Διατροφή παιδιών: Πώς η υιοθέτηση ενός υγιούς τρόπου διατροφής των γονιών βελτιώνει τη διατροφική συμπεριφορά των παιδιών». \nΚινηματοθέατρο Μελίνα Μερκούρη Γλυφάδα\n24 Νοεμβρίου 2025 19:00 – 21:00
URL:https://livingforfree.gr/event/diatrofi-gonion-diatrofi-pedion-sti-glyfada/
LOCATION:Κινηματοθέατρο Μελίνα Μερκούρη Γλυφάδα\, Ανατολικής Ρωμυλίας 123\, Γλυφάδα\, Αττική\, Greece
CATEGORIES:Ομιλίες
ATTACH;FMTTYPE=image/jpeg:https://livingforfree.gr/wp-content/uploads/2025/11/Διατροφή-γονιών-Διατροφή-παιδιών-στη-Γλυφάδα.jpg
GEO:37.8898994;23.7685123
X-APPLE-STRUCTURED-LOCATION;VALUE=URI;X-ADDRESS=Κινηματοθέατρο Μελίνα Μερκούρη Γλυφάδα Ανατολικής Ρωμυλίας 123 Γλυφάδα Αττική Greece;X-APPLE-RADIUS=500;X-TITLE=Ανατολικής Ρωμυλίας 123:geo:23.7685123,37.8898994
END:VEVENT
BEGIN:VEVENT
DTSTART;TZID=Europe/Athens:20251124T190000
DTEND;TZID=Europe/Athens:20251124T210000
DTSTAMP:20260420T041049
CREATED:20251120T113150Z
LAST-MODIFIED:20251120T113150Z
UID:10014228-1764010800-1764018000@livingforfree.gr
SUMMARY:Η Τελευταία νύχτα στο σπίτι της Κύπρου
DESCRIPTION:Προβολή της ταινίας ντοκιμαντέρ Η Τελευταία νύχτα παραγωγής Cosmote TV\, 2020 διάρκεια 82΄\nΔΙΟΡΓΑΝΩΤΕΣ\nΕταιρεία Μελέτης Νεότερης και Σύγχρονης Ιστορίας – Ιωάννης Καποδίστριας (Ε.ΜΕ.Ν.Σ.Ι.)\nΣπίτι της Κύπρου | Κέντρο Πολιτισμού \n«Ναύπλιο 1831. Ο Ιωάννης Καποδίστριας\, κορυφαίος Ευρωπαίος διπλωμάτης και πρώτος Κυβερνήτης της ελεύθερης Ελλάδας\, βρίσκεται μόνος τις τελευταίες δώδεκα ώρες πριν από τη δολοφονία του. Ο άνθρωπος που παρέλαβε μια χώρα κατεστραμμένη για να φτιάξει ένα κράτος εκ του μηδενός\, δέχεται ενορχηστρωμένη επίθεση από την Αντιπολίτευση\, από αγγλικές εφημερίδες καθώς και απειλές για τη ζωή του. Εκείνη τη νύχτα\, τα πρόσωπα που σημάδεψαν τη ζωή του ζωντανεύουν στη μνήμη του\, ξαναγράφοντας την ιστορία του αλλά και το δραματικό ξεκίνημα της νεοσύστατης Ελλάδας».\nΗ προβολή πραγματοποιείται με αφορμή το μεγάλο αφιέρωμα στον Ιωάννη Καποδίστρια – Ιδρυτή του Ελληνικού Κράτους.\nΜετά την προβολή θα ακολουθήσει συζήτηση με τον Νίκο Κουρκουμέλη\, Διδάκτορα Νεότερης Ιστορίας\, Υποστράτηγο ε.α.\, και τον Ανδρέα Κούκο\, Ιστορικό\, Νομικό\, Πρόεδρο Δ.Σ. Ε.ΜΕ.Ν.Σ.Ι.\, Επιστημονικό Επιμελητή της ταινίας.\nΣυντονίζει η Πηνελόπη Νικολέ\, Έφορος Ε.ΜΕ.Ν.Σ.Ι.
URL:https://livingforfree.gr/event/i-teleftea-nychta-sto-spiti-tis-kyprou/
LOCATION:Το σπίτι της Κύπρου (Πρεσβεία Κύπρου)\, Ξενοφώντος 2\, Αθήνα\, Αττική\, 10557\, Greece
CATEGORIES:Προβολή
ATTACH;FMTTYPE=image/jpeg:https://livingforfree.gr/wp-content/uploads/2025/11/Η-Τελευταία-νύχτα.jpg
GEO:37.974159;23.7347695
X-APPLE-STRUCTURED-LOCATION;VALUE=URI;X-ADDRESS=Το σπίτι της Κύπρου (Πρεσβεία Κύπρου) Ξενοφώντος 2 Αθήνα Αττική 10557 Greece;X-APPLE-RADIUS=500;X-TITLE=Ξενοφώντος 2:geo:23.7347695,37.974159
END:VEVENT
BEGIN:VEVENT
DTSTART;TZID=Europe/Athens:20251124T200000
DTEND;TZID=Europe/Athens:20251124T220000
DTSTAMP:20260420T041049
CREATED:20251112T183746Z
LAST-MODIFIED:20251112T184451Z
UID:10014079-1764014400-1764021600@livingforfree.gr
SUMMARY:Μουσική και Καρδιά στην Καλλιθέα
DESCRIPTION:Μουσική και Καρδιά στην Καλλιθέα \nΔευτέρα 24 Νοεμβρίου 2025\n20.00 «ΜΟΥΣΙΚΗ ΚΑΙ ΚΑΡΔΙΑ»\nΕπιστημονικό και μουσικό αφιέρωμα στο έργο του καρδιολόγου και συνθέτη Θανάση Δρίτσα.\nΕΙΣΟΔΟΣ ΕΛΕΥΘΕΡΗ \nΔΗΜΟΤΙΚΟ ΘΕΑΤΡΟ ΚΑΛΛΙΘΕΑΣ (Κρέμου 123 & Φιλαρέτου) \nΤμήμα Ερασιτεχνικής Δημιουργίας και Εκδηλώσεων\nΔιεύθυνση Πολιτισμού – Παιδείας & Νέας Γενιάς Δήμου Καλλιθέας\nΦιλαρέτου 108\, 176 76 Καλλιθέα
URL:https://livingforfree.gr/event/mousiki-ke-kardia-stin-kallithea/
LOCATION:Δημοτικό Θέατρο Καλλιθέας\, Κρέμου 123\, Καλλιθέα\, Αττική\, Greece
CATEGORIES:Μουσική
ATTACH;FMTTYPE=image/jpeg:https://livingforfree.gr/wp-content/uploads/2025/11/24-11-25-600ΜΟΥΣΙΚΗ-ΚΑΡΔΙΑ.jpg
GEO:37.9571468;23.6985763
X-APPLE-STRUCTURED-LOCATION;VALUE=URI;X-ADDRESS=Δημοτικό Θέατρο Καλλιθέας Κρέμου 123 Καλλιθέα Αττική Greece;X-APPLE-RADIUS=500;X-TITLE=Κρέμου 123:geo:23.6985763,37.9571468
END:VEVENT
END:VCALENDAR