BEGIN:VCALENDAR
VERSION:2.0
PRODID:-//LIVING for free - ECPv6.15.20//NONSGML v1.0//EN
CALSCALE:GREGORIAN
METHOD:PUBLISH
X-WR-CALNAME:LIVING for free
X-ORIGINAL-URL:https://livingforfree.gr
X-WR-CALDESC:Events for LIVING for free
REFRESH-INTERVAL;VALUE=DURATION:PT1H
X-Robots-Tag:noindex
X-PUBLISHED-TTL:PT1H
BEGIN:VTIMEZONE
TZID:Europe/Athens
BEGIN:DAYLIGHT
TZOFFSETFROM:+0200
TZOFFSETTO:+0300
TZNAME:EEST
DTSTART:20240331T010000
END:DAYLIGHT
BEGIN:STANDARD
TZOFFSETFROM:+0300
TZOFFSETTO:+0200
TZNAME:EET
DTSTART:20241027T010000
END:STANDARD
BEGIN:DAYLIGHT
TZOFFSETFROM:+0200
TZOFFSETTO:+0300
TZNAME:EEST
DTSTART:20250330T010000
END:DAYLIGHT
BEGIN:STANDARD
TZOFFSETFROM:+0300
TZOFFSETTO:+0200
TZNAME:EET
DTSTART:20251026T010000
END:STANDARD
BEGIN:DAYLIGHT
TZOFFSETFROM:+0200
TZOFFSETTO:+0300
TZNAME:EEST
DTSTART:20260329T010000
END:DAYLIGHT
BEGIN:STANDARD
TZOFFSETFROM:+0300
TZOFFSETTO:+0200
TZNAME:EET
DTSTART:20261025T010000
END:STANDARD
END:VTIMEZONE
BEGIN:VEVENT
DTSTART;TZID=Europe/Athens:20251216T150000
DTEND;TZID=Europe/Athens:20251216T180000
DTSTAMP:20260420T040938
CREATED:20251212T182853Z
LAST-MODIFIED:20251212T183201Z
UID:10014496-1765897200-1765908000@livingforfree.gr
SUMMARY:Προβολή Στόχος των Εκτελεστών
DESCRIPTION:Την ερχόμενη εβδομάδα τα απογεύματά σας αποκτούν ιδιαίτερο κινηματογραφικό ενδιαφέρον με τα masterclasses του μεταφεστιβαλικού μας προγράμματος! \nΔευτέρα 15\, Τρίτη 16 κ Τετάρτη 17 του Δεκέμβρη\, από τις 3:00 ως τις 6:00 μ.μ.\, στον πάντα φιλόξενο και γεμάτο κινηματογραφική ιστορία χώρο της Σχολής Σταυράκου o σκηνοθέτης\, κριτικός κινηματογράφου και συγγραφέας Δημήτρης Κολιοδήμος θα αναπτύξει για σας δύο εξαιρετικά ενδιαφέρουσες θεματικές: \n«𝝚𝝺𝝺𝝶𝝼𝝸𝝹ός 𝝴𝞀𝞈𝞃𝝸𝝹ός 𝝹𝝸𝝼𝝶𝝻𝝰𝞃𝝾𝝲𝞀ά𝞅𝝾ς 𝞃𝝶ς 𝝳𝝴𝝹𝝰𝝴𝞃ί𝝰ς 𝞃𝝾𝞄 ❜𝟳𝟬»\nΣτις αρχές της δεκαετίας του ’70 ο ελληνικός κινηματογράφος έμπαινε σε μια περίοδο κρίσης. Μία από τις όψεις της λεγόταν «κρίση θεματολογίας» και μία από τις εξόδους άκουγε στο όνομα «ερωτικός κινηματογράφος». Το είδος ήταν ήδη γνωστό από την πληθώρα των ξένων ταινιών\, που διανέμονταν στις ελληνικές αίθουσες με την ένδειξη «αυστηρώς ακατάλληλο» και η ντόπια εκδοχή του είχε πολλές παραλλαγές. Όπως είχε και πολλά πρόσωπα\, εμπρός και πίσω από την κάμερα\, που κυριάρχησαν στο κινηματογραφικό στερέωμα για μια δεκαετία. \n«𝝚𝝺𝝺𝝶𝝼𝝸𝝹ός 𝝟𝝸𝝼𝝶𝝻𝝰𝞃𝝾𝝲𝞀ά𝞅𝝾ς 𝝹𝝰𝝸 𝝨𝞄𝝻𝝿𝝰𝞀𝝰𝝲𝞈𝝲ή 𝞂𝞃𝝶 𝝳𝝴𝝹𝝰𝝴𝞃ί𝝰 𝞃𝝾𝞄 ‘𝟴𝟬» με όχημα 2 επιλεγμένες ταινίες της πρωτεργάτη παραγωγού Υβόνης Ρόμαν\nΤο τοπίο της συμπαραγωγής στη δεκαετία του ‘80 ήταν εντελώς διαφορετικό από αυτό που γνωρίζουμε σήμερα. Ο παραγωγός καλούvταν να αναζητήσει και κυρίως να πείσει ιδιώτες συγχρηματοδότες ή συνεργάτες από το εξωτερικό για την εμπορική δυναμική μιας ταινίας προκειμένου να βρεθούν τα αναγκαία χρήματα για τη δημιουργία της. Ή\, σε αρκετές περιπτώσεις\, να επενδύσει στο project και δικά του χρήματα. Ζώντας εκείνη την εποχή στην Αγγλία\, η Υβόνη Ρόμαν έκανε τότε τα πρώτα της\, όχι και τόσο διστακτικά\, βήματα στον τομέα της παραγωγής\, υλοποιώντας ταινίες που συνδύαζαν πολιτικά – ιστορικά γεγονότα της με τις κυρίαρχες κινηματογραφικές τάσεις της εποχής\, σε μια προσπάθεια πραγματικά να προσεγγίσουν ένα διεθνές κοινό. \nΤα masterclasses θα συνοδευτούν από προβολές σχετικές με τις θεματικές αυτές.\nΣυγκεκριμένα θα προβληθούν:\nΔευτέρα 15.12 “Σινεμά Γυμνό” σε σκηνοθεσία Βάσου Γεώργα και σενάριο Δημήτρη Κολιοδήμου\nΤρίτη 16.12 “Στόχος των Εκτελεστών” σε σκηνοθεσία Ρομάνο Σκαβολίνι / συμπαραγωγή Ελλάδα + Ηνωμ. Βασίλειο\nΤετάρτη 17.12 “Η Περίπτωση του Οιδίποδα (Der Fall Ö.)”\, σε σκηνοθεσία Ράινερ Σαϊμον / συμπαραγωγή Ελλάδα + Γερμανία \nΤα masterclasses είναι ελεύθερα για το κοινό – θα τηρηθεί σειρά προτεραιότητας. \nΣας περιμένουμε!
URL:https://livingforfree.gr/event/panorama-stavrakou2/
LOCATION:Σχολή Σταυράκου\, Πατησίων 65\, Αθήνα\, Αττική\, 10433\, Greece
CATEGORIES:Ομιλίες,Προβολή
ATTACH;FMTTYPE=image/jpeg:https://livingforfree.gr/wp-content/uploads/2025/12/2.jpg
GEO:37.991266;23.730981
X-APPLE-STRUCTURED-LOCATION;VALUE=URI;X-ADDRESS=Σχολή Σταυράκου Πατησίων 65 Αθήνα Αττική 10433 Greece;X-APPLE-RADIUS=500;X-TITLE=Πατησίων 65:geo:23.730981,37.991266
END:VEVENT
BEGIN:VEVENT
DTSTART;TZID=Europe/Athens:20251216T180000
DTEND;TZID=Europe/Athens:20251216T200000
DTSTAMP:20260420T040938
CREATED:20251204T153106Z
LAST-MODIFIED:20251204T153106Z
UID:10014320-1765908000-1765915200@livingforfree.gr
SUMMARY:Παραστάσεις στο Χωριό των Ξωτικών στον Πειραιά
DESCRIPTION:Παραστάσεις στο Χωριό των Ξωτικών στον Πειραιά\nΑπό 15 έως 18 Δεκεμβρίου 2025\, το Χωριό των Ξωτικών γεμίζει ζωή\, μουσική και χριστουγεννιάτικη μαγεία! Μικροί και μεγάλοι θα έχουν την ευκαιρία να απολαύσουν μουσικές και πολιτιστικές παραστάσεις\, διαδραστικά δρώμενα\, και πολλές εκπλήξεις\, μέσα σε ένα γιορτινό σκηνικό γεμάτο χαμόγελα και φως. \nΟι εκδηλώσεις περιλαμβάνουν το ακόλουθο πρόγραμμα:\n15 Δεκεμβρίου 2025\n18:30 –«Κάλαντα από μέρη της Ελλάδας» Χορωδια Λυκειου Ελληνιδων\n20:00 – «Μαγικά Χριστούγεννα με τον Πειραϊκό Σύνδεσμο»\n16 Δεκεμβρίου 2025\n18:00-«Το σκάκι των ξωτικών και η μάχη του βόρειου πόλου»\n17 Δεκεμβρίου 2025\n18:00 – «Ένα ταξιδι καλαντα» Αριστοτέλειο Ωδείο Πειραιά\n18 Δεκεμβρίου 2025\n19:00 – Χορωδία Εκπαιδευτηρίων Θεμιστοκλής \nΔιοργάνωση: Διεύθυνση Εξωστρέφειας – Destination Piraeus
URL:https://livingforfree.gr/event/parastasis-sto-chorio-ton-xotikon-ston-pirea/2025-12-16/
LOCATION:Πλατεία Κοραή Πειραιάς\, Πλατεία Κοραή\, Πειραιάς\, Αττική\, Greece
CATEGORIES:Παιδικό
ATTACH;FMTTYPE=image/jpeg:https://livingforfree.gr/wp-content/uploads/2025/12/Παραστάσεις-στο-Χωριό-των-Ξωτικών.jpg
GEO:37.9421716;23.6469442
X-APPLE-STRUCTURED-LOCATION;VALUE=URI;X-ADDRESS=Πλατεία Κοραή Πειραιάς Πλατεία Κοραή Πειραιάς Αττική Greece;X-APPLE-RADIUS=500;X-TITLE=Πλατεία Κοραή:geo:23.6469442,37.9421716
END:VEVENT
BEGIN:VEVENT
DTSTART;TZID=Europe/Athens:20251216T180000
DTEND;TZID=Europe/Athens:20251216T220000
DTSTAMP:20260420T040938
CREATED:20251204T153629Z
LAST-MODIFIED:20251204T153629Z
UID:10014323-1765908000-1765922400@livingforfree.gr
SUMMARY:Χριστούγεννα στη Δημοτική Πινακοθήκη Πειραιά
DESCRIPTION:Χριστούγεννα στη Δημοτική Πινακοθήκη Πειραιά\nΗ Δημοτική Πινακοθήκη Πειραιά γιορτάζει τα Χριστούγεννα με μια σειρά ξεχωριστών εκδηλώσεων για όλη την οικογένεια. Στιγμές μαγείας σας περιμένουν με μουσικές παραστάσεις που θα γεμίσουν το χώρο γιορτινές νότες\, δημιουργικά εργαστήρια για παιδιά και ενήλικες\, αφηγήσεις παραμυθιών που ζωντανεύουν την φαντασία και εκθέσεις γεμάτες χριστουγεννιάτικη ατμόσφαιρα και έμπνευση. \nΤρίτη 16 Δεκεμβρίου 18:00-22:00 \nΩδείο Έντεχνον\n«Χριστουγεννιάτικη συναυλία» Μελωδίες που ζεσταίνουν την καρδιά\, μια γιορτινή μουσική βραδιά γεμάτη χαρά και μαγεία!\nΚυριακή 21 Δεκεμβρίου 17:00-22:00\nΑριστοτέλειο Ωδείο Πειραιά\n«Μαγικά Χριστούγεννα» Μια γιορτινή μουσική εκδήλωση έρχεται για να σας ταξιδέψει μέσα από μαγευτικές μελωδίες και να σας χαρίσει στιγμές χαράς\, αγάπης και γιορτινής μαγείας. Ελάτε να τραγουδήσουμε\, να χαμογελάσουμε και να υποδεχθούμε τις γιορτές με ρυθμό και αγάπη!\nΔευτέρα 22 Δεκεμβρίου 10:00-12:00\nΕργαστήριο για παιδιά από 6 ετών και άνω με Χριστουγεννιάτικες κατασκευές. Με τις Μουσειολόγους της Δημοτικής Πινακοθήκης Πειραιά: Χριστίνα Μαρίνη και Ελένη Βασιακώστα. \nΣας περιμένουμε να γιορτάσουμε μαζί τη μαγεία των Χριστουγέννων!\nΔιοργάνωση: Δημοτική Πινακοθήκη\, Διεύθυνση Πολιτισμού Δήμου Πειραιά
URL:https://livingforfree.gr/event/christougenna-sti-dimotiki-pinakothiki-pirea/2025-12-16/
LOCATION:Δημοτική Πινακοθήκη Πειραιά\, Φίλωνος 29\, Πειραιάς\, Αττική\, Greece
CATEGORIES:Μουσική,Παιδικό
ATTACH;FMTTYPE=image/jpeg:https://livingforfree.gr/wp-content/uploads/2025/12/Χριστούγεννα-στη-Δημοτική-Πινακοθήκη.jpg
GEO:37.9452838;23.6468175
X-APPLE-STRUCTURED-LOCATION;VALUE=URI;X-ADDRESS=Δημοτική Πινακοθήκη Πειραιά Φίλωνος 29 Πειραιάς Αττική Greece;X-APPLE-RADIUS=500;X-TITLE=Φίλωνος 29:geo:23.6468175,37.9452838
END:VEVENT
BEGIN:VEVENT
DTSTART;TZID=Europe/Athens:20251216T183000
DTEND;TZID=Europe/Athens:20251216T203000
DTSTAMP:20260420T040938
CREATED:20251212T164232Z
LAST-MODIFIED:20251212T164232Z
UID:10014486-1765909800-1765917000@livingforfree.gr
SUMMARY:Χριστουγεννιάτικη Γιορτή στις Αχαρνές
DESCRIPTION:Η Χριστουγεννιάτικη Γιορτή του ΚΑΜΕΑ την Τρίτη 16 Δεκεμβρίου 2025\nO Δήμαρχος Αχαρνών Σπύρος Βρεττός και η πρόεδρος του Κέντρου Ατόμων με Ειδικές Ανάγκες Δήμου Αχαρνών Όλγα Παυλίδου σας προσκαλούν στη Χριστουγεννιάτικη γιορτή του ΚΑΜΕΑ. Χριστουγεννιάτικα τραγούδια από τους ωφελούμενους των ΣΥΔ «Βαμβακάρειο» σε συνεργασία με το music house by Areti & θεατρική παράσταση «Το Κοριτσάκι με τα Σπίρτα» από τους ωφελούμενους του ΚΔΑΠ ΑμεΑ «Αρωγή». \nΤρίτη 16 Δεκεμβρίου\, ώρα 18:30\, Αίθουσα εκδηλώσεων του Δημαρχείου Αχαρνών «Μάριος-Δημήτριος Σουλούκος».
URL:https://livingforfree.gr/event/christougenniatiki-giorti-stis-acharnes/
LOCATION:Δημαρχείο Αχαρνών\, Φιλαδέλφειας 87\, Αχαρνών\, Αττική\, 13671\, Greece
CATEGORIES:Θέατρο,Μουσική
ATTACH;FMTTYPE=image/jpeg:https://livingforfree.gr/wp-content/uploads/2025/12/spirta.jpg
GEO:38.074588;23.739752
X-APPLE-STRUCTURED-LOCATION;VALUE=URI;X-ADDRESS=Δημαρχείο Αχαρνών Φιλαδέλφειας 87 Αχαρνών Αττική 13671 Greece;X-APPLE-RADIUS=500;X-TITLE=Φιλαδέλφειας 87:geo:23.739752,38.074588
END:VEVENT
BEGIN:VEVENT
DTSTART;TZID=Europe/Athens:20251216T190000
DTEND;TZID=Europe/Athens:20251216T210000
DTSTAMP:20260420T040938
CREATED:20251212T190618Z
LAST-MODIFIED:20251212T190618Z
UID:10014500-1765911600-1765918800@livingforfree.gr
SUMMARY:Χριστούγεννα στην Μεταμόρφωση
DESCRIPTION:Χριστούγεννα στην Μεταμόρφωση\nΗ ομορφότερη περίοδος του χρόνου έφθασε!\n«Φωτίζουμε μαζί το Χριστουγεννιάτικο Δέντρο – Φέρνουμε τη Μαγεία στην Πόλη μας!» \nΣας περιμένουμε όλες και όλους\, μικρούς και μεγάλους να φωτίσουμε μαζί το Χριστουγεννιάτικο Δέντρο της πόλης μας την ερχόμενη Τρίτη 16/12 και ώρα 19.00 στο Σκεπαστό Αττικής Οδού (Γ. Παπανδρέου & Πλάτωνος).\nΚάλαντα\, κεράσματα και καλούδια\, τραγούδια\, λάμψη\, υπέροχος στολισμός\, ένα νέο Βενετσιάνικο καρουζέλ\, φουσκωτά παιχνίδια\, ξυλοπόδαροι\, ξωτικά\, ο καλός Δράκος Λεβάρ\, φυσικά οι χορωδίες απ’ τα σχολεία μας και τα Μουσικά Σύνολα του Δήμου Μεταμόρφωσης\, η μαγεία της ομορφότερης γιορτής του χρόνου και το μήνυμα της αγάπης που θα ζεστάνει τις καρδιές μας\, θα δημιουργήσουν μια μοναδική γιορτινή ατμόσφαιρα.\nΤα δρώμενα θα ξεκινήσουν στις 19.00 απ’ την πλατεία Ηρώων Πολυτεχνείου με τους συλλόγους της πόλης να ψάλλουν παραδοσιακά κάλαντα και να παρουσιάζουν έθιμα από κάθε γωνιά της πατρίδας μας στους εμπορικούς δρόμους\, ψυχαγωγώντας τους επισκέπτες της αγοράς και οδηγώντας όλο τον κόσμο στο σκεπαστό της Αττικής Οδού για την μεγάλη γιορτή! \nΗ ομορφότερη περίοδος του χρόνου έφτασε! Είναι Χριστούγεννα!\nΕΙΣΟΔΟΣ ΕΛΕΥΘΕΡΗ
URL:https://livingforfree.gr/event/christougenna-stin-metamorfosi/
LOCATION:Σκεπαστό Αττικής οδού Μεταμόρφωση\, Παπανδρέου και Πλάτωνος\, Μεταμόρφωση\, Αττική\, 14452\, Greece
CATEGORIES:Παιδικό
ATTACH;FMTTYPE=image/jpeg:https://livingforfree.gr/wp-content/uploads/2025/12/597870449_1449175333389783_9022669446847573367_n.jpg
GEO:38.060295;23.757991
X-APPLE-STRUCTURED-LOCATION;VALUE=URI;X-ADDRESS=Σκεπαστό Αττικής οδού Μεταμόρφωση Παπανδρέου και Πλάτωνος Μεταμόρφωση Αττική 14452 Greece;X-APPLE-RADIUS=500;X-TITLE=Παπανδρέου και Πλάτωνος:geo:23.757991,38.060295
END:VEVENT
BEGIN:VEVENT
DTSTART;TZID=Europe/Athens:20251216T200000
DTEND;TZID=Europe/Athens:20251216T220000
DTSTAMP:20260420T040938
CREATED:20251212T184809Z
LAST-MODIFIED:20251212T184809Z
UID:10014499-1765915200-1765922400@livingforfree.gr
SUMMARY:Σινεμά & Ψυχολογία στη Νέα Ιωνία
DESCRIPTION:Στην 10η Συνάντηση του Σεμιναρίου «Σινεμά & Ψυχολογία» (Τρίτη 16/12\, 8:00μμ) συζητάμε το φιλμ «Τοc Toc» του Vicente Villanueva\, μια κωμωδία που βασίζεται στο διάσημο θεατρικό έργο του Laurent Baffie. Το βασικό της ατού είναι ότι στέκεται θετικά απέναντι σε άτομα που πάσχουν από Ιδεοψυχαναγκαστική Διαταραχή (TOC)\, αντιμετωπίζει με ενσυναίσθηση\, κατανόηση και χιούμορ\, χωρίς ίχνος χλευασμού τις καταστάσεις στις οποίες εμπλέκονται και το σπουδαιότερο στέλνει μήνυμα προς τους θεατές να μην περιορίζονται στην επιφάνεια\, αλλά να βλέπουν σε βάθος τις ιδιαιτερότητες των πασχόντων. Επιπλέον επιδιώκει να εξηγήσει τις εμμονές\, τις ιδεοληψίες και τις τελετουργίες που νιώθουν αναγκασμένοι να ακολουθούν και να τονίσει πόσο μεγάλο εμπόδιο αποτελούν στην καθημερινότητα καθενός από τους χαρακτήρες.\nΟι συναντήσεις γίνονται ζωντανά στο στέκι της ΔΡΑΣΗΣ για μια Άλλη Πόλη και διαδικτυακά μέσω της πλατφόρμας zoom στη διεύθυνση: https://us06web.zoom.us/j/86868047020?pwd=0stO5LQ9rpaJ6LVHaUZpTgw01CT1Wm.1#success \n10η Συνάντηση Σεμιναρίου «Σινεμά & Ψυχολογία»\, Τρίτη 16 Δεκεμβρίου 2025\, 8:00μμ\, ζωντανά και διαδικτυακά\nToc Toc Ισπανία\, Κομεντί\, 2017\, Διάρκεια: 90’. Σκηνοθεσία: Vicente Villanueva. Σενάριο: Laurent Baffie (βιβλίο)\, Vicente Villanueva. Πρωταγωνιστούν: Paco León\, Alexandra Jiménez\, Rossy de Palma\, Nuria Herrero \nΈξι ασθενείς\, οι οποίοι πάσχουν από Ιδεοψυχαναγκαστική Διαταραχή έχουν ραντεβού με έναν διακεκριμένο\, παγκοσμίου φήμης ψυχίατρο\, ελπίζοντας ότι αυτός θα τους βοηθήσει\, να γίνουν καλά. H Bianca έχει μικροβιοφοβία και συνεχώς καθαρίζει τα πάντα γύρω της. Ο Emilio είναι μανιακός συλλέκτης και του αρέσει να μετρά τα πάντα. Ο Otto δεν μπορεί να πατάει γραμμές και έχει εμμονή με την συμμετρία και την ισορροπία. Η Lili αισθάνεται υποχρεωμένη να επαναλαμβάνει συνεχώς όσα λέει η ίδια ή οι συνομιλητές της από δύο φορές καθώς πάσχει από ηχολαλία. Η Ana Maria είναι επιρρεπής στη δύναμη της αυθυποβολής και επαναλαμβάνει εσφαλμένα όσα λένε οι άλλοι\, χωρίς να το συνειδητοποιεί. Τελευταίος ο Federico πάσχει από το σύνδρομο Τουρέτ. Όταν\, οι ασθενείς φτάσουν στο ιατρείο του ψυχιάτρου εκείνος θα λείπει λόγω απρόοπτου γεγονότος και έτσι θα μείνουν όλοι μαζί στο σαλόνι του\, να τον περιμένουν. Αισθάνονται μόνοι και εγκαταλελειμμένοι\, πιστεύουν πως ποτέ δεν θα βρεθεί λύση στο πρόβλημά τους\, ώσπου σιγά-σιγά αρχίζουν να γνωρίζονται. Στην πορεία ξεκινούν δειλά δειλά μία κουβέντα. Ο ένας μαθαίνει περισσότερα για τον άλλον και τον λόγο που βρίσκεται εκεί. Απροσδόκητα\, με αφορμή την πρόταση ενός από τους παρευρισκόμενους να κάνουν ομαδική θεραπεία όσο περιμένουν τον θεραπευτή\, ξεκινά μία προσπάθεια που θα έχει πραγματικά ενδιαφέροντα αποτελέσματα. Μέσα στο κλειστό και ασφαλές σύστημα της ομάδας\, τα μέλη της ανατροφοδοτούν ο ένας τον άλλο εκφράζοντας τα δικά τους συναισθήματα για αυτά που ο άλλος λέει ή κάνει. Αυτή η αλληλεπίδραση τους δίνει την ευκαιρία να δοκιμάσουν καινούριους τρόπους συμπεριφοράς και να μάθουν περισσότερα για τον τρόπο που αλληλεπιδρούν με τους άλλους. Η εμπιστοσύνη\, η κατανόηση\, η υποστήριξη και η αλληλοβοήθεια αποτελούν βασικά κομμάτια. Εν ολίγοις το φιλμ ισχυρίζεται ότι όλοι ανήκουμε κάπου και σίγουρα εκεί έξω υπάρχουν άνθρωποι που μας καταλαβαίνουν\, που είναι σαν και εμάς\, όποιο πρόβλημα και αν αντιμετωπίζουμε. Κανείς δεν πρέπει να αισθάνεται μόνος ή να παραιτείται από κάθε ελπίδα. Αντιθέτως πρέπει να πάψουμε να είμαστε τόσο προσκολλημένοι στα προβλήματά μας και να τα μεγεθύνουμε.\nΤο σενάριο και η σκηνοθεσία είναι του Vicente Villanueva και έχουν μεταφερθεί άψογα στη μεγάλη οθόνη. Η επιλογή των ηθοποιών είναι εκπληκτική με αποκορύφωμα τον μοναδικό Oscar Martínez\, στο ρόλο του ψυχιάτρου που επίσης πάσχει από ενός είδους διαταραχή. Χωρίς υπερβολές και περιττές φανφάρες ο Martínez υφαίνει το ρόλο του με προσοχή στη λεπτομέρεια. Δεν είναι τυχαίο που θεωρείται ένας από τους καλύτερους Λατινοαμερικάνους ηθοποιούς. Μαζί του ο Paco León\, η Alexandra Jiménez\, η Rossy de Palma\, η Nuria Herrero\, η Adrián Lastra και η Inma Cuevas. Όλοι τους εξαιρετικοί σε ρόλους πολύ απαιτητικούς. H μουσική του Antonio Escobar αστεία και παιχνιδιάρικη\, θυμίζει κάτι από ροζ πάνθηρα.
URL:https://livingforfree.gr/event/sinema-psychologia-sti-nea-ionia/
LOCATION:Κίνηση Δημοτών Βριλησσίων Δράση\, Πάρνηθος 21\, Βριλήσσια\, Αττική\, 15235\, Greece
CATEGORIES:Online,Ομιλίες
ATTACH;FMTTYPE=image/jpeg:https://livingforfree.gr/wp-content/uploads/2025/12/tiktik.jpg
GEO:38.038096;23.833127
X-APPLE-STRUCTURED-LOCATION;VALUE=URI;X-ADDRESS=Κίνηση Δημοτών Βριλησσίων Δράση Πάρνηθος 21 Βριλήσσια Αττική 15235 Greece;X-APPLE-RADIUS=500;X-TITLE=Πάρνηθος 21:geo:23.833127,38.038096
END:VEVENT
END:VCALENDAR