BEGIN:VCALENDAR
VERSION:2.0
PRODID:-//LIVING for free - ECPv6.15.20//NONSGML v1.0//EN
CALSCALE:GREGORIAN
METHOD:PUBLISH
X-ORIGINAL-URL:https://livingforfree.gr
X-WR-CALDESC:Events for LIVING for free
REFRESH-INTERVAL;VALUE=DURATION:PT1H
X-Robots-Tag:noindex
X-PUBLISHED-TTL:PT1H
BEGIN:VTIMEZONE
TZID:Europe/Athens
BEGIN:DAYLIGHT
TZOFFSETFROM:+0200
TZOFFSETTO:+0300
TZNAME:EEST
DTSTART:20240331T010000
END:DAYLIGHT
BEGIN:STANDARD
TZOFFSETFROM:+0300
TZOFFSETTO:+0200
TZNAME:EET
DTSTART:20241027T010000
END:STANDARD
BEGIN:DAYLIGHT
TZOFFSETFROM:+0200
TZOFFSETTO:+0300
TZNAME:EEST
DTSTART:20250330T010000
END:DAYLIGHT
BEGIN:STANDARD
TZOFFSETFROM:+0300
TZOFFSETTO:+0200
TZNAME:EET
DTSTART:20251026T010000
END:STANDARD
BEGIN:DAYLIGHT
TZOFFSETFROM:+0200
TZOFFSETTO:+0300
TZNAME:EEST
DTSTART:20260329T010000
END:DAYLIGHT
BEGIN:STANDARD
TZOFFSETFROM:+0300
TZOFFSETTO:+0200
TZNAME:EET
DTSTART:20261025T010000
END:STANDARD
END:VTIMEZONE
BEGIN:VEVENT
DTSTART;TZID=Europe/Athens:20251217T150000
DTEND;TZID=Europe/Athens:20251217T180000
DTSTAMP:20260420T070802
CREATED:20251212T182853Z
LAST-MODIFIED:20251212T183455Z
UID:10014497-1765983600-1765994400@livingforfree.gr
SUMMARY:Προβολή Η Περίπτωση του Οιδίποδα
DESCRIPTION:Την ερχόμενη εβδομάδα τα απογεύματά σας αποκτούν ιδιαίτερο κινηματογραφικό ενδιαφέρον με τα masterclasses του μεταφεστιβαλικού μας προγράμματος! \nΔευτέρα 15\, Τρίτη 16 κ Τετάρτη 17 του Δεκέμβρη\, από τις 3:00 ως τις 6:00 μ.μ.\, στον πάντα φιλόξενο και γεμάτο κινηματογραφική ιστορία χώρο της Σχολής Σταυράκου o σκηνοθέτης\, κριτικός κινηματογράφου και συγγραφέας Δημήτρης Κολιοδήμος θα αναπτύξει για σας δύο εξαιρετικά ενδιαφέρουσες θεματικές: \n«𝝚𝝺𝝺𝝶𝝼𝝸𝝹ός 𝝴𝞀𝞈𝞃𝝸𝝹ός 𝝹𝝸𝝼𝝶𝝻𝝰𝞃𝝾𝝲𝞀ά𝞅𝝾ς 𝞃𝝶ς 𝝳𝝴𝝹𝝰𝝴𝞃ί𝝰ς 𝞃𝝾𝞄 ❜𝟳𝟬»\nΣτις αρχές της δεκαετίας του ’70 ο ελληνικός κινηματογράφος έμπαινε σε μια περίοδο κρίσης. Μία από τις όψεις της λεγόταν «κρίση θεματολογίας» και μία από τις εξόδους άκουγε στο όνομα «ερωτικός κινηματογράφος». Το είδος ήταν ήδη γνωστό από την πληθώρα των ξένων ταινιών\, που διανέμονταν στις ελληνικές αίθουσες με την ένδειξη «αυστηρώς ακατάλληλο» και η ντόπια εκδοχή του είχε πολλές παραλλαγές. Όπως είχε και πολλά πρόσωπα\, εμπρός και πίσω από την κάμερα\, που κυριάρχησαν στο κινηματογραφικό στερέωμα για μια δεκαετία. \n«𝝚𝝺𝝺𝝶𝝼𝝸𝝹ός 𝝟𝝸𝝼𝝶𝝻𝝰𝞃𝝾𝝲𝞀ά𝞅𝝾ς 𝝹𝝰𝝸 𝝨𝞄𝝻𝝿𝝰𝞀𝝰𝝲𝞈𝝲ή 𝞂𝞃𝝶 𝝳𝝴𝝹𝝰𝝴𝞃ί𝝰 𝞃𝝾𝞄 ‘𝟴𝟬» με όχημα 2 επιλεγμένες ταινίες της πρωτεργάτη παραγωγού Υβόνης Ρόμαν\nΤο τοπίο της συμπαραγωγής στη δεκαετία του ‘80 ήταν εντελώς διαφορετικό από αυτό που γνωρίζουμε σήμερα. Ο παραγωγός καλούvταν να αναζητήσει και κυρίως να πείσει ιδιώτες συγχρηματοδότες ή συνεργάτες από το εξωτερικό για την εμπορική δυναμική μιας ταινίας προκειμένου να βρεθούν τα αναγκαία χρήματα για τη δημιουργία της. Ή\, σε αρκετές περιπτώσεις\, να επενδύσει στο project και δικά του χρήματα. Ζώντας εκείνη την εποχή στην Αγγλία\, η Υβόνη Ρόμαν έκανε τότε τα πρώτα της\, όχι και τόσο διστακτικά\, βήματα στον τομέα της παραγωγής\, υλοποιώντας ταινίες που συνδύαζαν πολιτικά – ιστορικά γεγονότα της με τις κυρίαρχες κινηματογραφικές τάσεις της εποχής\, σε μια προσπάθεια πραγματικά να προσεγγίσουν ένα διεθνές κοινό. \nΤα masterclasses θα συνοδευτούν από προβολές σχετικές με τις θεματικές αυτές.\nΣυγκεκριμένα θα προβληθούν:\nΔευτέρα 15.12 “Σινεμά Γυμνό” σε σκηνοθεσία Βάσου Γεώργα και σενάριο Δημήτρη Κολιοδήμου\nΤρίτη 16.12 “Στόχος των Εκτελεστών” σε σκηνοθεσία Ρομάνο Σκαβολίνι / συμπαραγωγή Ελλάδα + Ηνωμ. Βασίλειο\nΤετάρτη 17.12 “Η Περίπτωση του Οιδίποδα (Der Fall Ö.)”\, σε σκηνοθεσία Ράινερ Σαϊμον / συμπαραγωγή Ελλάδα + Γερμανία \nΤα masterclasses είναι ελεύθερα για το κοινό – θα τηρηθεί σειρά προτεραιότητας. \nΣας περιμένουμε!
URL:https://livingforfree.gr/event/panorama-stavrakou3/
LOCATION:Σχολή Σταυράκου\, Πατησίων 65\, Αθήνα\, Αττική\, 10433\, Greece
CATEGORIES:Ομιλίες,Προβολή
ATTACH;FMTTYPE=image/jpeg:https://livingforfree.gr/wp-content/uploads/2025/12/3.jpg
GEO:37.991266;23.730981
X-APPLE-STRUCTURED-LOCATION;VALUE=URI;X-ADDRESS=Σχολή Σταυράκου Πατησίων 65 Αθήνα Αττική 10433 Greece;X-APPLE-RADIUS=500;X-TITLE=Πατησίων 65:geo:23.730981,37.991266
END:VEVENT
BEGIN:VEVENT
DTSTART;TZID=Europe/Athens:20251217T170000
DTEND;TZID=Europe/Athens:20251217T190000
DTSTAMP:20260420T070802
CREATED:20251205T162356Z
LAST-MODIFIED:20251208T204753Z
UID:10014406-1765990800-1765998000@livingforfree.gr
SUMMARY:Χριστούγεννα στο Χαλάνδρι
DESCRIPTION:Χειμερινό εορταστικό Φεστιβάλ 2025 στο Χαλάνδρι. Συναυλίες\, εικαστικά και μουσικοθεατρικά εργαστήρια για παιδιά\, χριστουγεννιάτικη αγορά στην Κεντρική Πλατεία\, καρουζέλ\, η μεγάλη χριστουγεννιάτικη συναυλία της Φιλαρμονικής και βέβαια Νυχτερινός Αγώνας Δρόμου – Christmas Run. O Δεκέμβρης στο Χαλάνδρι είναι ο μήνας της γιορτής και του χειμερινού πολιτιστικού φεστιβάλ\, που αναμένεται να προσφέρει χαρά και ξεγνοιασιά σε μικρούς και μεγάλους. \nΧειμερινό εορταστικό Φεστιβάλ 2025 στο Χαλάνδρι\nΔείτε το πλήρες πρόγραμμα ΕΔΩ \nΤετάρτη\, 17 Δεκεμβρίου: Παιδική Βιβλιοθήκη «Μ. Βασιλόπουλος» (Σόλωνος 6)\, 17.00.  Χριστουγεννιάτικο εργαστήριο «Το δέντρο της Ευγνωμοσύνης με την Σοφία Σαπρίκη  για παιδιά από 6-11 ετών. \n9 Δεκεμβρίου 2025 έως 6 Ιανουαρίου 2026 Στην Κεντρική Πλατεία θα στηθεί γιορτινό καρουζέλ καθώς και χριστουγεννιάτικο χωριό με σπιτάκια και δράσεις για παιδιά. Θα λειτουργεί επίσης η παραδοσιακή χριστουγεννιάτικη αγορά με τα «σπιτάκια» που παραχωρεί ο Δήμος Χαλανδρίου σε μη κερδοσκοπικούς\, κοινωφελείς οργανισμούς.\nΩράριο λειτουργίας καρουζέλ\n24 -29 & 31.12.2025\, 12.00 – 20.00\nΣαββατοκύριακα\, 12.00 -20.00\nΚαθημερινές 16.00 -20.00\n6.1.26\, 14.00 – 20.00
URL:https://livingforfree.gr/event/xmas25-chalandri5/
LOCATION:Παιδική Βιβλιοθήκη Μ.Βασιλόπουλος Χαλάνδρι\, Σόλωνος 6\, Χαλάνδρι\, Αττική\, 15232\, Greece
CATEGORIES:Παιδικό
ATTACH;FMTTYPE=image/jpeg:https://livingforfree.gr/wp-content/uploads/2025/12/AFISA-724x1024-1.jpg
GEO:38.020416;23.794343
X-APPLE-STRUCTURED-LOCATION;VALUE=URI;X-ADDRESS=Παιδική Βιβλιοθήκη Μ.Βασιλόπουλος Χαλάνδρι Σόλωνος 6 Χαλάνδρι Αττική 15232 Greece;X-APPLE-RADIUS=500;X-TITLE=Σόλωνος 6:geo:23.794343,38.020416
END:VEVENT
BEGIN:VEVENT
DTSTART;TZID=Europe/Athens:20251217T180000
DTEND;TZID=Europe/Athens:20251217T200000
DTSTAMP:20260420T070802
CREATED:20251030T185525Z
LAST-MODIFIED:20251030T190754Z
UID:10013944-1765994400-1766001600@livingforfree.gr
SUMMARY:Ανοιχτό Πανεπιστήμιο Ηλιούπολης
DESCRIPTION:Ανοιχτό Πανεπιστήμιο Ηλιούπολης 2025\nΟ Δήμος Ηλιούπολης βρίσκεται στην ευχάριστη θέση να ενημερώσει τους Δημότες και κατοίκους της πόλης ότι ο σημαντικός Θεσμός του Ανοιχτού Πανεπιστημίου επανέρχεται στην πόλη\, πιστός “στο ραντεβού του με τους Δημότες με στόχο τη διά βίου μάθηση“. Η Συμμετοχή στο Ανοιχτό Πανεπιστήμιο είναι εντελώς Δωρεάν και διεξάγεται στα πλαίσια της Διά βίου Μάθησης και της Κοινωνικής Υπευθυνότητας του Δήμου Ηλιούπολης. Μπορεί δε να πραγματοποιηθεί και με εγγραφή στη φόρμα συμμετοχής εδώ. \nΠατήστε ΕΔΩ για να δείτε το πλήρες πρόγραμμα \n17/12/2025\, Ημέρα Τετάρτη\, Ώρα 18:00-20:00\nΕισηγητής: Φώτιος Χρήστου\, Διδάκτωρ Φιλοσοφίας – Φιλόλογος\nΘέμα: “Η φιλοσοφική θέση στον άνθρωπο του Κωνσταντίνου Καβάφη”
URL:https://livingforfree.gr/event/ap-ilioupoli-06/
LOCATION:Μουσείο Εθνικής Αντίστασης Ηλιούπολης\, Μαρίνου Αντύπα 134\, Ηλιούπολη\, Αττική\, Greece
CATEGORIES:Ομιλίες
ATTACH;FMTTYPE=image/jpeg:https://livingforfree.gr/wp-content/uploads/2025/10/Ανοιχτό-Πανεπιστήμιο-Ηλιούπολης-2025.jpg
GEO:37.9319377;23.7548626
X-APPLE-STRUCTURED-LOCATION;VALUE=URI;X-ADDRESS=Μουσείο Εθνικής Αντίστασης Ηλιούπολης Μαρίνου Αντύπα 134 Ηλιούπολη Αττική Greece;X-APPLE-RADIUS=500;X-TITLE=Μαρίνου Αντύπα 134:geo:23.7548626,37.9319377
END:VEVENT
BEGIN:VEVENT
DTSTART;TZID=Europe/Athens:20251217T180000
DTEND;TZID=Europe/Athens:20251217T200000
DTSTAMP:20260420T070802
CREATED:20251204T153106Z
LAST-MODIFIED:20251204T153106Z
UID:10014321-1765994400-1766001600@livingforfree.gr
SUMMARY:Παραστάσεις στο Χωριό των Ξωτικών στον Πειραιά
DESCRIPTION:Παραστάσεις στο Χωριό των Ξωτικών στον Πειραιά\nΑπό 15 έως 18 Δεκεμβρίου 2025\, το Χωριό των Ξωτικών γεμίζει ζωή\, μουσική και χριστουγεννιάτικη μαγεία! Μικροί και μεγάλοι θα έχουν την ευκαιρία να απολαύσουν μουσικές και πολιτιστικές παραστάσεις\, διαδραστικά δρώμενα\, και πολλές εκπλήξεις\, μέσα σε ένα γιορτινό σκηνικό γεμάτο χαμόγελα και φως. \nΟι εκδηλώσεις περιλαμβάνουν το ακόλουθο πρόγραμμα:\n15 Δεκεμβρίου 2025\n18:30 –«Κάλαντα από μέρη της Ελλάδας» Χορωδια Λυκειου Ελληνιδων\n20:00 – «Μαγικά Χριστούγεννα με τον Πειραϊκό Σύνδεσμο»\n16 Δεκεμβρίου 2025\n18:00-«Το σκάκι των ξωτικών και η μάχη του βόρειου πόλου»\n17 Δεκεμβρίου 2025\n18:00 – «Ένα ταξιδι καλαντα» Αριστοτέλειο Ωδείο Πειραιά\n18 Δεκεμβρίου 2025\n19:00 – Χορωδία Εκπαιδευτηρίων Θεμιστοκλής \nΔιοργάνωση: Διεύθυνση Εξωστρέφειας – Destination Piraeus
URL:https://livingforfree.gr/event/parastasis-sto-chorio-ton-xotikon-ston-pirea/2025-12-17/
LOCATION:Πλατεία Κοραή Πειραιάς\, Πλατεία Κοραή\, Πειραιάς\, Αττική\, Greece
CATEGORIES:Παιδικό
ATTACH;FMTTYPE=image/jpeg:https://livingforfree.gr/wp-content/uploads/2025/12/Παραστάσεις-στο-Χωριό-των-Ξωτικών.jpg
GEO:37.9421716;23.6469442
X-APPLE-STRUCTURED-LOCATION;VALUE=URI;X-ADDRESS=Πλατεία Κοραή Πειραιάς Πλατεία Κοραή Πειραιάς Αττική Greece;X-APPLE-RADIUS=500;X-TITLE=Πλατεία Κοραή:geo:23.6469442,37.9421716
END:VEVENT
BEGIN:VEVENT
DTSTART;TZID=Europe/Athens:20251217T183000
DTEND;TZID=Europe/Athens:20251217T203000
DTSTAMP:20260420T070802
CREATED:20251211T180541Z
LAST-MODIFIED:20251211T180541Z
UID:10014446-1765996200-1766003400@livingforfree.gr
SUMMARY:Χριστούγεννα στα Βριλήσσια
DESCRIPTION:Χριστούγεννα στα Βριλήσσια\nΦιλαρμονική\, Παιδική Χορωδία\, Μικτή Χορωδία Ενηλίκων\, τα τμήματα Μοντέρνων Χορών\, Latin και  Αργεντίνικο Τάνγκο του Δήμου Βριλησσίων συμμετέχουν σε μια εορταστική εκδήλωση στο πνεύμα των ημερών στο Πνευματικό Κέντρο στην οδό Κισσάβου 11. \nΗ Αντιδημαρχία Πολιτισμού και Αθλητισμού και τα Πολιτιστικά Εργαστήρια του Δήμου Βριλησσίων έχουν ετοιμάσει μια ξεχωριστή βραδιά την Τετάρτη 17/12 και ώρα 18:30 με κλασσικά και σύγχρονα χριστουγεννιάτικα κομμάτια\, χορό και πολύ κέφι. Στην εκδήλωση θα συμμετέχει και το Εργαστήρι Παιδικής Ζωγραφικής με χριστουγεννιάτικες δημιουργίες. \nΗ είσοδος είναι ελεύθερη.
URL:https://livingforfree.gr/event/christougenna-sta-vrilissia/
LOCATION:Πνευματικό Κέντρο Βριλησσίων\, Νικολάου Πασχαλίδη και Κισσάβου\, Βριλήσσια\, Αττική\, 152 38\, Greece
CATEGORIES:Μουσική,Χορός
ATTACH;FMTTYPE=image/webp:https://livingforfree.gr/wp-content/uploads/2025/12/XRST_GIORTH_DHMHTRIOY_copy_1_1200.webp
GEO:38.04353;23.838196
X-APPLE-STRUCTURED-LOCATION;VALUE=URI;X-ADDRESS=Πνευματικό Κέντρο Βριλησσίων Νικολάου Πασχαλίδη και Κισσάβου Βριλήσσια Αττική 152 38 Greece;X-APPLE-RADIUS=500;X-TITLE=Νικολάου Πασχαλίδη και Κισσάβου:geo:23.838196,38.04353
END:VEVENT
BEGIN:VEVENT
DTSTART;TZID=Europe/Athens:20251217T190000
DTEND;TZID=Europe/Athens:20251217T210000
DTSTAMP:20260420T070802
CREATED:20251212T200441Z
LAST-MODIFIED:20251212T200441Z
UID:10014508-1765998000-1766005200@livingforfree.gr
SUMMARY:Η Γκαρσονιέρα στην Ελληνοαμερικάνικη Ένωση
DESCRIPTION:Η κλασική αριστουργηματική κομεντί «Η Γκαρσονιέρα» (The Apartment\, 1960) έρχεται στο HAU Movie Club για μια και μοναδική προβολή\, λίγες μέρες πριν την πιο μαγική περίοδο του χρόνου. Ο υποδειγματικός υπάλληλος C.C. Baxter (Jack Lemmon) παραχωρεί κρυφά το μικρό του διαμέρισμα σε ανώτερους συναδέλφους για τις… παράνομες εξορμήσεις τους\, με αντάλλαγμα μια υποσχόμενη ανέλιξη στην εταιρεία. Όταν όμως γνωρίσει την ευάλωτη και γοητευτική Fran Kubelik (Shirley MacLaine)\, η διπλή ζωή που έχει χτίσει αρχίζει να καταρρέει. Η βραβευμένη με 5 Όσκαρ δημιουργία του Billy Wilder – μεταξύ αυτών Καλύτερης Ταινίας και Καλύτερου Σκηνοθέτη – συγκαταλέγεται δικαίως στα κορυφαία φιλμ της χρυσής εποχής του Χόλιγουντ.\nΣας προσκαλούμε να ανακαλύψετε – ή να ξαναθυμηθείτε – μια ταινία που παραμένει διαχρονικά φρέσκια\, ανθρώπινη και βαθιά συγκινητική. \nΟργάνωση: Ελληνοαμερικανική Ένωση | Mooviereel\n17 Δεκ\, 19:00\nΕίσοδος ελεύθερη με σειρά προτεραιότητας\nΤοποθεσία Θέατρο Ελληνοαμερικανικής Ένωσης Μασσαλίας 22\, 10680\nΓλώσσα Ελληνικά\, Αγγλικά
URL:https://livingforfree.gr/event/i-gkarsoniera-stin-ellinoamerikaniki-enosi/
LOCATION:Ελληνοαμερικάνικη Ένωση HAU\, Μασσαλίας 22\, Αθήνα\, Αττική\, 10680\, Greece
CATEGORIES:Προβολή
ATTACH;FMTTYPE=image/webp:https://livingforfree.gr/wp-content/uploads/2025/12/i-gkarsoniera.webp
GEO:37.981923;23.737333
X-APPLE-STRUCTURED-LOCATION;VALUE=URI;X-ADDRESS=Ελληνοαμερικάνικη Ένωση HAU Μασσαλίας 22 Αθήνα Αττική 10680 Greece;X-APPLE-RADIUS=500;X-TITLE=Μασσαλίας 22:geo:23.737333,37.981923
END:VEVENT
END:VCALENDAR