BEGIN:VCALENDAR
VERSION:2.0
PRODID:-//LIVING for free - ECPv6.15.20//NONSGML v1.0//EN
CALSCALE:GREGORIAN
METHOD:PUBLISH
X-WR-CALNAME:LIVING for free
X-ORIGINAL-URL:https://livingforfree.gr
X-WR-CALDESC:Events for LIVING for free
REFRESH-INTERVAL;VALUE=DURATION:PT1H
X-Robots-Tag:noindex
X-PUBLISHED-TTL:PT1H
BEGIN:VTIMEZONE
TZID:Europe/Athens
BEGIN:DAYLIGHT
TZOFFSETFROM:+0200
TZOFFSETTO:+0300
TZNAME:EEST
DTSTART:20240331T010000
END:DAYLIGHT
BEGIN:STANDARD
TZOFFSETFROM:+0300
TZOFFSETTO:+0200
TZNAME:EET
DTSTART:20241027T010000
END:STANDARD
BEGIN:DAYLIGHT
TZOFFSETFROM:+0200
TZOFFSETTO:+0300
TZNAME:EEST
DTSTART:20250330T010000
END:DAYLIGHT
BEGIN:STANDARD
TZOFFSETFROM:+0300
TZOFFSETTO:+0200
TZNAME:EET
DTSTART:20251026T010000
END:STANDARD
BEGIN:DAYLIGHT
TZOFFSETFROM:+0200
TZOFFSETTO:+0300
TZNAME:EEST
DTSTART:20260329T010000
END:DAYLIGHT
BEGIN:STANDARD
TZOFFSETFROM:+0300
TZOFFSETTO:+0200
TZNAME:EET
DTSTART:20261025T010000
END:STANDARD
END:VTIMEZONE
BEGIN:VEVENT
DTSTART;TZID=Europe/Athens:20251225T180000
DTEND;TZID=Europe/Athens:20251225T200000
DTSTAMP:20260424T195056
CREATED:20251212T203823Z
LAST-MODIFIED:20251212T204920Z
UID:10014515-1766685600-1766692800@livingforfree.gr
SUMMARY:Home Alone 2 στο ΚΠΙΣΝ
DESCRIPTION:Park Your Cinema Christmas edition στο ΚΠΙΣΝ για άλλη μια χρονιά. Ζεστά ρούχα\, κουβερτούλες\, αχνιστό τσάι ή κακάο -κι ένας ουρανός γεμάτος αστέρια για παρέα. Οι γιορτές έρχονται και τις υποδεχόμαστε έξω\, μαζί\, με αγαπημένες ταινίες που μας θυμίζουν τη χαρά\, τη φαντασία και τη μαγεία των Χριστουγέννων.  Από τις 22 Δεκεμβρίου έως και τις 6 Ιανουαρίου\, η δημοφιλής σειρά κινηματογραφικών προβολών επιστρέφει σε χριστουγεννιάτικη έκδοση. Oι επισκέπτες δίνουν ραντεβού στο Park Kiosk\, όπου προβάλλονται κλασικές και αγαπημένες γιορτινές ταινίες για όλη την οικογένεια. \nΔείτε ΕΔΩ το πλήρες πρόγραμμα \nΠέμπτη 25 Δεκεμβρίου 2025\, 18:00\nHome Alone 2: Lost in New York (1992)\nΣε αυτό το σίκουελ της αγαπημένης χριστουγεννιάτικης ταινίας\, ο Κέβιν ΜακΚάλιστερ χωρίζεται κατά λάθος από την οικογένειά του για άλλη μια φορά\, αυτή τη φορά στο αεροδρόμιο\, και καταλήγει στη Νέα Υόρκη\, ενώ η υπόλοιπη οικογένειά του κατευθύνεται στη Φλόριντα για τις γιορτές. Με την πιστωτική κάρτα του πατέρα του και την ευστροφία του\, ο Κέβιν κλείνει δωμάτιο στο Plaza Hotel\, εξερευνά τα εμβληματικά αξιοθέατα της πόλης και απολαμβάνει τη μαγεία των γιορτών. Ωστόσο\, οι διακοπές του παίρνουν μια επικίνδυνη τροπή όταν συναντά τους γνωστούς ληστές\, Χάρι και Μαρβ\, οι οποίοι έχουν δραπετεύσει από τη φυλακή και σχεδιάζουν μια ληστεία. Αποφασισμένος να τους σταματήσει\, ο Κέβιν στήνει μια σειρά από έξυπνες παγίδες σε ένα κατάστημα παιχνιδιών και ένα εγκαταλελειμμένο κτίριο\, οδηγώντας σε κωμικές αναμετρήσεις. Μία ταινία που μεταφέρει στη χριστουγεννιάτικη Νέα Υόρκη όλη τη μαγεία και τα ξεκαρδιστικά ευρήματα της πρώτης ταινίας.\nΣκηνοθεσία: Chris Columbus\nΠρωταγωνιστούν: Macaulay Culkin\, Joe Pesci\, Daniel Stern\, Catherine O’Hara\, John Heard\, Tim Curry\n*Η ταινία θα προβληθεί με ελληνικούς υπότιτλους. \n 
URL:https://livingforfree.gr/event/xmas-provoles-kpisn-04/
LOCATION:Κέντρο Πολιτισμού Ίδρυμα Σταύρος Νιάρχος ΚΠΙΣΝ\, Λεωφ. Συγγρού 364\, Καλλιθέα\, Αττική\, 17674\, Greece
CATEGORIES:Προβολή
ATTACH;FMTTYPE=image/webp:https://livingforfree.gr/wp-content/uploads/2025/12/Home-Alone-2-Lost-in-New-York-1.webp
GEO:37.942079;23.695617
X-APPLE-STRUCTURED-LOCATION;VALUE=URI;X-ADDRESS=Κέντρο Πολιτισμού Ίδρυμα Σταύρος Νιάρχος ΚΠΙΣΝ Λεωφ. Συγγρού 364 Καλλιθέα Αττική 17674 Greece;X-APPLE-RADIUS=500;X-TITLE=Λεωφ. Συγγρού 364:geo:23.695617,37.942079
END:VEVENT
END:VCALENDAR