BEGIN:VCALENDAR
VERSION:2.0
PRODID:-//LIVING for free - ECPv6.15.20//NONSGML v1.0//EN
CALSCALE:GREGORIAN
METHOD:PUBLISH
X-WR-CALNAME:LIVING for free
X-ORIGINAL-URL:https://livingforfree.gr
X-WR-CALDESC:Events for LIVING for free
REFRESH-INTERVAL;VALUE=DURATION:PT1H
X-Robots-Tag:noindex
X-PUBLISHED-TTL:PT1H
BEGIN:VTIMEZONE
TZID:Europe/Athens
BEGIN:DAYLIGHT
TZOFFSETFROM:+0200
TZOFFSETTO:+0300
TZNAME:EEST
DTSTART:20240331T010000
END:DAYLIGHT
BEGIN:STANDARD
TZOFFSETFROM:+0300
TZOFFSETTO:+0200
TZNAME:EET
DTSTART:20241027T010000
END:STANDARD
BEGIN:DAYLIGHT
TZOFFSETFROM:+0200
TZOFFSETTO:+0300
TZNAME:EEST
DTSTART:20250330T010000
END:DAYLIGHT
BEGIN:STANDARD
TZOFFSETFROM:+0300
TZOFFSETTO:+0200
TZNAME:EET
DTSTART:20251026T010000
END:STANDARD
BEGIN:DAYLIGHT
TZOFFSETFROM:+0200
TZOFFSETTO:+0300
TZNAME:EEST
DTSTART:20260329T010000
END:DAYLIGHT
BEGIN:STANDARD
TZOFFSETFROM:+0300
TZOFFSETTO:+0200
TZNAME:EET
DTSTART:20261025T010000
END:STANDARD
END:VTIMEZONE
BEGIN:VEVENT
DTSTART;TZID=Europe/Athens:20251229T110000
DTEND;TZID=Europe/Athens:20251229T130000
DTSTAMP:20260420T164109
CREATED:20251210T191839Z
LAST-MODIFIED:20251210T194335Z
UID:10014443-1767006000-1767013200@livingforfree.gr
SUMMARY:Χριστούγεννα στη Βραυρώνα
DESCRIPTION:Χριστούγεννα 2025 στον Δήμο Μαρκοπούλου Μεσογαίας\nΧριστούγεννα 2025 στον Δήμο Μαρκοπούλου Μεσογαίας. Αγαπητοί δημότες και επισκέπτες\, Πλησιάζει η πιο μαγική εποχή του χρόνου! Ο Δήμος Μαρκοπούλου φοράει τα γιορτινά του και σας προσκαλεί να ζήσουμε μαζί τη χαρά και την αγάπη των Χριστουγέννων. Ένα πλούσιο Πρόγραμμα δράσεων\, εκδηλώσεων\, μουσικής και εκπλήξεων\, απλώνεται σε όλη την πόλη. Ελάτε να μοιραστούμε ευχές\, να δημιουργήσουμε αξέχαστες στιγμές και να απολαύσουμε τη μαγεία των γιορτών! Σας περιμένουμε! \nΔείτε ολόκληρο το πρόγραμμα ΕΔΩ. \nΔευτέρα 29 Δεκεμβρίου\nΕκπαιδευτικό Πρόγραμμα στο Αρχαιολογικό Μουσείο Βραυρώνας με τίτλο «Τα Παιχνίδια στην Αρχαιότητα».\nΛίγο πριν υποδεχτούμε τη Νέα Χρονιά\, έχουμε τη χαρά να ακούσουμε και να μάθουμε για τα παιχνίδια στα αρχαία χρόνια και να φτιάξουμε ένα στολίδι για το Χριστουγεννιάτικο Δέντρο του Αρχαιολογικού Μουσείου της Βραυρώνας. Δηλώσεις συμμετοχής στο 22990 20150 ή στο antid.politismou@markopoulo.gr\nΈναρξη: 11:00 \nΣας ευχόμαστε καλές γιορτές!
URL:https://livingforfree.gr/event/christougenna-ston-dimo-markopoulou-mesogeas-6/
LOCATION:Αρχαιολογικός χώρος και Αρχαιολογικό Μουσείο Βραυρώνας\, Βραυρώνιας Αρτέμιδος\, Βραβρώνα\, Αττική\, 19003\, Greece
CATEGORIES:Εκδηλώσεις Δρόμου,Παιδικό
ATTACH;FMTTYPE=image/jpeg:https://livingforfree.gr/wp-content/uploads/2025/12/Χριστούγεννα-2025-στον-Δήμο-Μαρκοπούλου-Μεσογαίας.jpg
GEO:37.924161;23.997699
X-APPLE-STRUCTURED-LOCATION;VALUE=URI;X-ADDRESS=Αρχαιολογικός χώρος και Αρχαιολογικό Μουσείο Βραυρώνας Βραυρώνιας Αρτέμιδος Βραβρώνα Αττική 19003 Greece;X-APPLE-RADIUS=500;X-TITLE=Βραυρώνιας Αρτέμιδος:geo:23.997699,37.924161
END:VEVENT
BEGIN:VEVENT
DTSTART;TZID=Europe/Athens:20251229T110000
DTEND;TZID=Europe/Athens:20251229T130000
DTSTAMP:20260420T164109
CREATED:20251219T120528Z
LAST-MODIFIED:20251219T120528Z
UID:10014568-1767006000-1767013200@livingforfree.gr
SUMMARY:Χριστούγεννα στη Δημοτική Βιβλιοθήκη Δήμου Λυκόβρυσης-Πεύκης
DESCRIPTION:Εκδηλώσεις Χριστουγέννων & Πρωτοχρονιάς Δημοτικής Βιβλιοθήκης Δήμου Λυκόβρυσης-Πεύκης \nΟι γιορτές έφτασαν και η Δημοτική Βιβλιοθήκη Δήμου Λυκόβρυσης-Πεύκης\, διοργανώνει μια σειρά ξεχωριστών εκδηλώσεων-βιβλιοπαρουσιάσεων\, προσκαλώντας το κοινό σε ένα ταξίδι γνώσης\, πολιτισμού και δημιουργικής έκφρασης. \nΤο πρόγραμμα των εκδηλώσεων θα έχει ως εξής:\n20/12/2025 ώρα 11.00 – ΚΑΛΑ ΧΡΙΣΤΟΥΓΕΝΝΑ ΚΥΡΙΕ ΝΤΙΚΕΝΣ της ΕΛΕΝΗΣ ΚΑΤΣΑΜΑ\, εικονογράφηση ΒΑΣΙΛΗΣ ΚΟΥΤΣΟΓΙΑΝΝΗΣ εκδ. ΠΑΤΑΚΗ. Γνωρίζουμε τα παιδικά χρόνια του μεγάλου συγγραφέα Τσαρλς Ντίκενς και συναντάμε τους ήρωες των μυθιστορημάτων του. \n29/12/2025 ώρα 11:00 – Ο ΑΙ-ΒΑΣΙΛΗΣ στη ΦΥΛΑΚΗ με τους 83 ΜΙΚΡΟΥΣ ΑΡΟΥΡΑΙΟΥΣ του ΕΥΓΕΝΙΟΥ ΤΡΙΒΙΖΑ\, ζωγραφιές ΒΑΓΓΕΛΗΣ ΕΛΕΛΥΘΕΡΙΟΥ εκδ. ΜΕΤΑΙΧΜΙΟ. Μια απολαυστική ιστορία γεμάτη περιπέτεια\, δράση\, απρόοπτα\, εκπλήξεις και πολύ\, πολύ γέλιο. \n30/12/2025 ώρα 11:00 – ΕΝΑ ΘΑΥΜΑ ΓΙΑ ΤΗΝ ΑΛΙΚΗ της ΡΕΝΑ ΡΩΣΣΗ-ΖΑΙΡΗ\, εικονογράφηση ΕΛΙΖΑ ΒΑΒΟΥΡΗ εκδ. ΨΥΧΟΓΙΟΣ. Ήταν το μοναδικό παιδί σε ολόκληρο το κόσμο που ζητούσε από τον Αι Βασίλη ένα τέτοιο δώρα. Μια τρυφερή γιορτινή ιστορία! \n05/01/2026 ώρα 11:00 – ΠΩΣ ΝΑ ΠΙΑΣΕΙΣ ΕΝΑ ΑΣΤΕΡΙ του OLIVER JEFFERS\, εκδ. ΙΚΑΡΟΣ. Η ιστορία για ένα αγόρι που αγαπούσε τ’ αστέρια πάρα πολύ. \n07/01/2026 ώρα 11:00 – ΣΠΙΤΙ ΜΟΥ ΘΕΛΩ ΝΑ ΠΑΩ\, ΜΟΝΟ ΕΚΕΙΝΟ ΑΓΑΠΑΩ της ΡΑΝΙΑΣ Δ. ΤΖΙΑΜΠΙΡΗ\, εικονογράφηση ΓΙΑΝΝΗΣ ΣΚΟΥΛΟΥΔΗΣ εκδ. ΤΖΙΑΜΠΙΡΗΣ ΠΥΡΑΜΙΔΑ. Πρωτοχρονιά σε παραλία και όχι σε χιόνια και σε κρύα; Μια ευχή στον Αι Βασίλη αρκεί.. μια αστεία και περίεργη περιπέτεια! \nΟι εκδηλώσεις θα πραγματοποιηθούν στον χώρο της Δημοτικής Βιβλιοθήκης (Αφροδίτης 4\, Άνω Πεύκη – τηλ. 2106128825\, 6947267758 – e-mail: librdpef@otenet.gr)\, με ελεύθερη είσοδο για το κοινό. Κατά τη διάρκεια των εκδηλώσεων θα συγκεντρωθούν τρόφιμα για το Κοινωνικό Παντοπωλείο του Δήμου. Ο Δήμαρχος Λυκόβρυσης-Πεύκης Μάριος Ψυχάλης δηλώνει : «Ο Δήμος Λυκόβρυσης-Πεύκης\, μέσω της Δημοτικής του Βιβλιοθήκης\, συνεχίζει αδιάλειπτα να στηρίζει και να αναπτύσσει τον χώρο του βιβλίου και του Πολιτισμού\, δημιουργώντας ευκαιρίες για έκφραση και συμμετοχή. Σας προσκαλούμε να γιορτάσουμε μαζί το βιβλίο και τη δύναμη του λόγου\, αυτές τις γιορτινές ημέρες.»
URL:https://livingforfree.gr/event/christougenna-sti-dimotiki-vivliothiki-dimou-lykovrysis-pefkis/2025-12-29/
LOCATION:Δημοτική Βιβλιοθήκη Λυκόβρυσης Πεύκης\, Αφροδίτης 4 & Μουστοξύδη\, Πεύκη\, Αττική\, Greece
CATEGORIES:Αφήγηση - Βιβλίο
ATTACH;FMTTYPE=image/jpeg:https://livingforfree.gr/wp-content/uploads/2025/12/XMAS-EKD-D.-BIBLIOTHEKESAPHISA-A3-lo-res.jpg
END:VEVENT
BEGIN:VEVENT
DTSTART;TZID=Europe/Athens:20251229T120000
DTEND;TZID=Europe/Athens:20251229T140000
DTSTAMP:20260420T164109
CREATED:20251219T104213Z
LAST-MODIFIED:20251219T104213Z
UID:10014555-1767009600-1767016800@livingforfree.gr
SUMMARY:Εμμάνουελ στο Εμπρός
DESCRIPTION:Εμμάνουελ μια παράσταση για την αναπηρία\, τη συμπερίληψη & τη δύναμη της φαντασίας!\nΜετά την επιτυχία της παράστασης «Νίκολα Τέσλα\, ο άνθρωπος που φώτισε τον κόσμο»\, που παρακολουθήσαν πάνω από 3.000 μικροί και μεγάλοι θεατές\, σε όλη την Ελλάδα\, η ομάδα Μαγνήτες παρουσιάζει τη νέα της θεατρική παραγωγή! Πρόκειται για το έργο ΕΜΜΑΝΟΥΕΛ\, γραμμένο ειδικά ώστε να είναι ηλικιακά συμπεριληπτικό\, κατάλληλο για μαθητές και μαθήτριες από 5-15 χρονών. Πρόκειται δε για παράσταση θεάτρου-ντοκουμέντο για νεανικό κοινό\, καθώς βασίζεται σε πραγματική ιστορία. Η παράσταση είναι διαθέσιμη για πρωινές παραστάσεις καθημερινά στο χώρο του σχολείου\, ή και σε θεατρικές αίθουσες κατόπιν συνεννόησης.\nΔύο ηθοποιοί και μία μουσικός\, αφηγούνται ζωντανά επί σκηνής τη ζωή του Εμμάνουελ Οφόσου Γιεμπόα\, ενός αθλητή με αναπηρία από την Γκάνα που αγωνίστηκε για τα δικαιώματα των ατόμων με αναπηρία στη χώρα του και ενέπνευσε εκατομμύρια ανθρώπους σε ολόκληρο τον κόσμο. Καθώς η αφήγηση αυτής της πραγματικής ιστορίας εκτυλίσσεται δραματουργικά με τα θεατρικά μέσα του παιχνιδιού\, της εναλλαγής ρόλων και της κινησιολογίας\, δίπλα στις ηθοποιούς επί σκηνής βρίσκεται και μια μουσικός που δημιουργεί ζωντανά τη μουσική επένδυση της παράστασης. \nΟ Εμμάνουελ γεννήθηκε το 1977 με παραμορφωμένο το δεξί του πόδι. Λόγω αυτής του της διαφορετικότητας βρέθηκε αντιμέτωπος με προκαταλήψεις\, στερεότυπα και πολλαπλές αρνητικές διακρίσεις. Όμως το 2001 κατάφερε να διασχίσει με ένα ποδήλατό ολόκληρη την Γκάνα και να επιδείξει έμπρακτα ότι αναπηρία δεν σημαίνει ανικανότητα. Μετά από πολλές περιπέτειες ο Εμμάνουελ ταρακούνησε τις κυρίαρχες αντιλήψεις για την αναπηρία στη χώρα του\, έγινε διεθνώς γνωστός\, βραβεύτηκε από διεθνούς οργανισμούς\, πήρε μέρος σε αγώνες κι έφτασε ακόμα και να μεταφέρει την Ολυμπιακή δάδα\, ενώ γυρίστηκαν ντοκιμαντέρ για τη ζωή του\, ένα εξ αυτών από τη γνωστή Όπρα Γουίνφρεϊ.\nΌταν ο Εμμάνουελ επέστρεψε στην Γκάνα από τις ΗΠΑ\, χρησιμοποίησε τα χρήματα των βραβείων που του απονεμήθηκαν\, για να ανοίξει το Ίδρυμα Emmanuel Education Fund για πολλά υποσχόμενους μαθητές με αναπηρία\, ενώ μοίρασε εκατοντάδες αμαξίδια σε ανάπηρα παιδιά και βοήθησε ώστε να αλλάξει η νομοθεσία στη χώρα του και να μπορεί να πηγαίνει σχολείο κάθε ανάπηρο παιδί. Αυτή τη στιγμή ο Εμμάνουελ Οφόσου Γιεμπόα εργάζεται για την κατασκευή κι άλλων σχολείων στην Γκάνα\, για παιδιά με αναπηρία ή χωρίς. Με τις πράξεις του άλλαξε τη ζωή των περίπου 2 εκατομμυρίων ατόμων με αναπηρία στην Γκάνα αποδεικνύοντας ότι ανάπηρος δεν θα πει ανίκανος. «Κανείς δεν είναι τέλειος\, όλοι όμως μπορούμε να γίνουμε ο καλύτερος μας εαυτός» είχε δηλώσει στην εφημερίδα NY Daily News.\nΗ ιστορία της ζωής του Εμμάνουελ\, από τη γέννηση του που λόγω δεισιδαιμονιών θεωρήθηκε «κακός οιωνός» στο μικρό του χωρίο\, ως τη στιγμή της ανατροπής όλων των προγνωστικών και της λαμπρής του επιτυχίας\, συνοδεύεται από ηχοτοπία που ενισχύουν τη φαντασία\, ενώ τα παρεμβαλλόμενα τραγούδια και μελωδίες από την Αφρική δίνουν μια ευχάριστη ανάσα στη θεατρική δράση. Ο εικαστικός κόσμος της παράστασης αναπτύσσεται ζωντανά μπροστά στα μάτια των παιδιών\, με τη συνοδεία χειροποίητων σκηνικών αντικειμένων\, μεταμφιέσεων και αξεσουάρ. Έτσι ζωντανεύει ο κόσμος του Εμμάνουελ! \nΤην παράσταση ερμηνεύουν οι ηθοποιοί Σοφία Αθανασοπούλου και Στέβη Φόρτωμα ενώ η μουσικός Βασιλιάννα Τσαλαπάτη ερμηνεύει τη ζωντανή μουσική. Αυτή η παράσταση-ντοκουμέντο για παιδιά στηρίχθηκε σε μακρόχρονη έρευνα ώστε το πρωτότυπο θεατρικό κείμενο να εμπνεύσει μικρούς και μεγάλους\, όπως ακριβώς και η πραγματική ζωή του Εμμάνουελ. Η παράσταση αποτελεί ένα ποιοτικό θέαμα\, υψηλής ψυχαγωγικής και εκπαιδευτικής αξίας\, που προσφέρει αφορμή για συζήτηση με τα παιδιά γύρω από τον άξονα Ενδιαφέρομαι και ενεργώ – κοινωνική συναίσθηση και ευθύνη\, και συγκεκριμένα για τα Ανθρώπινα Δικαιώματα\, τις αξίες της συμπερίληψης\, της ενσυναίσθησης\, του αλληλοσεβασμού και του σεβασμού στην διαφορετικότητα. \nΣΥΝΤΕΛΕΣΤΕΣ\nΠαίζουν: Στέβη Φόρτωμα\, Σοφία Αθανασοπούλου\nΖωντανή μουσική επί σκηνής: Βασιλιάννα Τσαλαπάτη\nΕικαστικός σχεδιασμός: Μυρτώ Σταμπούλου\nΣύμβουλος κίνησης: Sabina Andrea Allen\nΣκηνοθεσία: Ευγενία Τζιρτζιλάκη\nΣχεδιασμός αφίσας: Αγγελική Σκανδαλέλλη \n26/12/2025 12:00 – 14:00\n29/12/2025 12:00 – 14:00\n30/12/2025 12:00 – 14:00
URL:https://livingforfree.gr/event/emmanouel-sto-ebros/2025-12-29/
LOCATION:θέατρο Εμπρός\, Ρήγα Παλαμήδου 2\, Αθήνα\, Αττική\, 10554\, Greece
CATEGORIES:Θέατρο
ATTACH;FMTTYPE=image/jpeg:https://livingforfree.gr/wp-content/uploads/2025/12/ΑΦΙΣΑ-ΕΜΜΑΝΟΥΕΛ.jpg
GEO:37.979039;23.724017
X-APPLE-STRUCTURED-LOCATION;VALUE=URI;X-ADDRESS=θέατρο Εμπρός Ρήγα Παλαμήδου 2 Αθήνα Αττική 10554 Greece;X-APPLE-RADIUS=500;X-TITLE=Ρήγα Παλαμήδου 2:geo:23.724017,37.979039
END:VEVENT
BEGIN:VEVENT
DTSTART;TZID=Europe/Athens:20251229T180000
DTEND;TZID=Europe/Athens:20251229T200000
DTSTAMP:20260420T164109
CREATED:20251212T203823Z
LAST-MODIFIED:20251212T205911Z
UID:10014518-1767031200-1767038400@livingforfree.gr
SUMMARY:Deck the Halls στο ΚΠΙΣΝ
DESCRIPTION:Park Your Cinema Christmas edition στο ΚΠΙΣΝ για άλλη μια χρονιά. Ζεστά ρούχα\, κουβερτούλες\, αχνιστό τσάι ή κακάο -κι ένας ουρανός γεμάτος αστέρια για παρέα. Οι γιορτές έρχονται και τις υποδεχόμαστε έξω\, μαζί\, με αγαπημένες ταινίες που μας θυμίζουν τη χαρά\, τη φαντασία και τη μαγεία των Χριστουγέννων.  Από τις 22 Δεκεμβρίου έως και τις 6 Ιανουαρίου\, η δημοφιλής σειρά κινηματογραφικών προβολών επιστρέφει σε χριστουγεννιάτικη έκδοση. Οι επισκέπτες δίνουν ραντεβού στο Park Kiosk\, όπου προβάλλονται κλασικές και αγαπημένες γιορτινές ταινίες για όλη την οικογένεια. \nΔείτε ΕΔΩ το πλήρες πρόγραμμα \nΔευτέρα 29 Δεκεμβρίου 2025\, 18:00\nDeck the Halls (2006)\nΟ Στιβ Φιντς είναι ένας αφοσιωμένος οικογενειάρχης και αυτοανακηρυγμένος ειδικός της χριστουγεννιάτικης χαρούμενης ατμόσφαιρας\, αποφασισμένος να κάνει κάθε Χριστούγεννα τέλεια. Όμως\, όταν ο νέος του γείτονας\, Μπάντι Χολ\, μετακομίζει δίπλα του με έναν μοναδικό στόχο\, να στολίσει το σπίτι του με περισσότερα φώτα από ό\,τι έχει δει ποτέ κανείς\, η φιλική διάθεση των γιορτών μετατρέπεται σε μια απίθανη μάχη υπερβολής. Από εντυπωσιακές φωτεινές διακοσμήσεις μέχρι τρελές φάρσες μεταξύ γειτόνων\, ο ανταγωνισμός κλιμακώνεται σε ξεκαρδιστικά άκρα\, δοκιμάζοντας υπομονή\, οικογενειακούς δεσμούς και το αληθινό πνεύμα των γιορτών. Με ένα καστ γεμάτο διάσημα ονόματα\, η ταινία καταγράφει το ξέφρενο χριστουγεννιάτικο χάος\, και αποτελεί την ιδανική κωμωδία για να γελάσει και να μπει σε εορταστικό κλίμα όλη η οικογένεια.\nΣκηνοθεσία: John Whitesell\nΠρωταγωνιστούν: Danny DeVito\, Matthew Broderick\, Kristin Davis\, Kristin Chenoweth\n*Η ταινία θα προβληθεί με ελληνικούς υπότιτλους. \n  \n 
URL:https://livingforfree.gr/event/xmas-provoles-kpisn-07/
LOCATION:Κέντρο Πολιτισμού Ίδρυμα Σταύρος Νιάρχος ΚΠΙΣΝ\, Λεωφ. Συγγρού 364\, Καλλιθέα\, Αττική\, 17674\, Greece
CATEGORIES:Προβολή
ATTACH;FMTTYPE=image/webp:https://livingforfree.gr/wp-content/uploads/2025/12/Deck-the-Halls-3.webp
GEO:37.942079;23.695617
X-APPLE-STRUCTURED-LOCATION;VALUE=URI;X-ADDRESS=Κέντρο Πολιτισμού Ίδρυμα Σταύρος Νιάρχος ΚΠΙΣΝ Λεωφ. Συγγρού 364 Καλλιθέα Αττική 17674 Greece;X-APPLE-RADIUS=500;X-TITLE=Λεωφ. Συγγρού 364:geo:23.695617,37.942079
END:VEVENT
BEGIN:VEVENT
DTSTART;TZID=Europe/Athens:20251229T183000
DTEND;TZID=Europe/Athens:20251229T203000
DTSTAMP:20260420T164109
CREATED:20251227T201639Z
LAST-MODIFIED:20251227T204402Z
UID:10014622-1767033000-1767040200@livingforfree.gr
SUMMARY:Χριστούγεννα στο Πεδίον του Άρεως
DESCRIPTION:Δωρεάν για όλους μαγικά Χριστούγεννα από την Περιφέρεια Αττικής στο ΔΕΗ Xmas West Park στο Μητροπολιτικό Πάρκο Τρίτση και στο Protergia Χριστουγεννιάτικο Χωριό στο Πεδίον του Άρεως \nΚαι αυτά τα Χριστούγεννα η Περιφέρεια Αττικής δημιουργεί ένα μαγικό γιορτινό\, φωτεινό παραμύθι\, που ενώνει το κέντρο της πόλης με τα όμορφα Δυτικά και προσκαλεί μικρούς και μεγάλους να απολαύσουν τη χαρά των ημερών. Με πλούσιο καλλιτεχνικό πρόγραμμα και φαντασμαγορικά happenings\, τα δύο Χριστουγεννιάτικα Χωριά της Περιφέρειας Αττικής – το ΔΕΗ Xmas West Park στο Μητροπολιτικό Πάρκο Τρίτση και το Protergia Χριστουγεννιάτικο Χωριό στο Πεδίον του Άρεως – μετατρέπονται σε ζωντανά σημεία συνάντησης\, ψυχαγωγίας και πολιτισμού για όλη την οικογένεια. Τα δύο μεγάλα\, ανοιχτά γιορτινά «ραντεβού» τα έχουν όλα: Εντελώς δωρεάν συναυλίες με καταξιωμένους καλλιτέχνες και μουσικές που γεμίζουν τον αέρα με μελωδίες αγάπης και χαράς\, από λαϊκά και έντεχνα ακούσματα έως σύγχρονες επιτυχίες. Πλούσια είναι και τα δρώμενα για τα παιδιά\, με εκπαιδευτικές δράσεις και εκδηλώσεις\, εντυπωσιακά καρουζέλ\, παγοδρόμια\, φωτεινά μονοπάτια\, street artists που δημιουργούν μικρές «σκηνές» έκπληξη\, αλλά και πολλές γευστικές γωνιές για όλους\, συνθέτοντας μία ανεπανάληπτη γιορτή\, ιδανική για οικογένειες και φίλους που αναζητούν αυθεντική\, ολοκληρωμένη χριστουγεννιάτικη εμπειρία. \nProtergia Χριστουγεννιάτικο Χωριό: Η μαγική καρδιά και των φετινών γιορτών\nΣτο Πεδίον του Άρεως\, το Protergia Χριστουγεννιάτικο Χωριό λάμπει για δεύτερη συνεχόμενη χρονιά\, μετατρέποντας την καρδιά της Αθήνας σε ένα ζωντανό γιορτινό σημείο συνάντησης\, με μαγικές συναυλίες\, παγοδρόμια και ξεχωριστά happenings για μικρούς και μεγάλους. Η δυναμική του αποτυπώνεται και στην ανταπόκριση του κοινού\, καθώς φέτος καταγράφει ρεκόρ επισκεψιμότητας\, διπλασιάζοντας τον αριθμό των επισκεπτών σε σχέση με πέρυσι\, μαγνητίζοντας ντόπιους και επισκέπτες από κάθε γωνιά της πόλης. \nΤη Δευτέρα 29 Δεκεμβρίου\, στις 18:30\, το Χριστουγεννιάτικο Χωριό προσφέρει την πιο cozy στάση για τους μικρούς επισκέπτες –  το Kids Xmas Cinema. Αγαπημένες χριστουγεννιάτικες ταινίες και animated ιστορίες που ζεσταίνουν την καρδιά\, χαμηλά φώτα\, πολύχρωμα μαξιλάρια\, γέλια\, popcorn και μια μεγάλη οθόνη που τους ταξιδεύει σε κόσμους γεμάτους χιόνι\, ξωτικά και χριστουγεννιάτικες περιπέτειες. \nΏρες λειτουργίας του «Protergia Χριστουγεννιάτικο Χωριό»\nΤο Protergia Χριστουγεννιάτικο Χωριό στο Πεδίον του Άρεως λειτουργεί με ελεύθερη είσοδο για όλους έως τις 7 Ιανουαρίου 2026.\n• Τις καθημερινές από τις 16:30 έως τις 22:00\n• Τα Σαββατοκύριακο από τις 10:00 έως τις 22:00\nΤο πλήρες πρόγραμμα όλων των δωρεάν εκδηλώσεων είναι διαθέσιμο στην ιστοσελίδα:\nhttps://xmasvillageattica.gr
URL:https://livingforfree.gr/event/xmas25-periferia-29b/
LOCATION:Πεδίο του Άρεως\, Αλεξάνδρας & Μαυροματαίων\, Αθήνα\, Αττική\, Greece
CATEGORIES:Προβολή
ATTACH;FMTTYPE=image/jpeg:https://livingforfree.gr/wp-content/uploads/2025/12/πα.jpg
GEO:37.9916513;23.7323534
X-APPLE-STRUCTURED-LOCATION;VALUE=URI;X-ADDRESS=Πεδίο του Άρεως Αλεξάνδρας & Μαυροματαίων Αθήνα Αττική Greece;X-APPLE-RADIUS=500;X-TITLE=Αλεξάνδρας & Μαυροματαίων:geo:23.7323534,37.9916513
END:VEVENT
BEGIN:VEVENT
DTSTART;TZID=Europe/Athens:20251229T183000
DTEND;TZID=Europe/Athens:20251229T230000
DTSTAMP:20260420T164109
CREATED:20251225T122010Z
LAST-MODIFIED:20251225T122010Z
UID:10014594-1767033000-1767049200@livingforfree.gr
SUMMARY:Ταινίες στον Υπόνομο
DESCRIPTION:Pugnant Film Series\nThe Pugnant Film Series is a nonprofit organization that organizes screenings of underground\, dada & auteur cinema in Athens & Greece generally. \nΤαινίες στον Υπόνομο\nΑποχαιρετούμε το σωτήριο 2025 με ένα τελευταίο event. Την Δευτέρα στις 29/12 πηγαίνουμε στον υπόνομο και βλέπουμε το The Temple of Conflagrated Shadows του Ahmed Baker. Στη συνέχεια θα ακολουθήσει μια βραδιά Open Video! Δηλαδή; Φερ’ τε μας τα ταινιάκια σας να τα δούμε όλοι μαζί. Παίζουμε τα πάντα\, προτιμούμε ερασιτεχνικά ταινιάκια! Με μέγιστη διάρκεια 20 λεπτά\, για να μπορέσουμε να δούμε πολλά! Η βραδιά θα κλείσει με ένα υπέροχο live τόσο από τον DEGEAR0001\, όσο και από τον Mr. Rooster and his Computer. Αναβιώνοντας κι εν μέρη τη μαγική βραδιά που είχαμε στο Kinky Bombolina στην παρθενική μας προβολή στη Θεσσαλονίκη\, μαζί με τον Mr. Rooster. \nΠρόγραμμα\n18.30 The Temple of Conflagrated Shadows του Ahmed Baker\n19.00 Open Video Night\n21.15 Music Live\nDegear001\nMr. Rooster and his computer \nΠού / Πότε\n29/12 στον Υπόνομο στις 18.30\nΑκριβείς συντεταγμένες εδώ\nΣχετικά εύκολη πρόσβαση\, μέσα από το δασάκι\, όπου η φυσική κοίτη μετατρέπεται σε τεχνητή (aka υπόνομο)\nΕίσοδος Ελεύθερη \nThe Temple of Conflagrated Shadows από Baker Ahmed\n(2025\, Ιράκ\, 32′)\nΤο μάτι φτάνει μέχρι τον κόσμο και καίει τη γη.\nOPEN VIDEO NIGHT OPEN VIDEO NIGHT OPEN VIDEO NIGHT OPEN VIDEO NIGHT OPEN VIDEO NIGHT OPEN VIDEO NIGHT OPEN VIDEO NIGHT OPEN VIDEO NIGHT OPEN VIDEO NIGHT OPEN VIDEO NIGHT OPEN VIDEO NIGHT OPEN VIDEO NIGHT OPEN VIDEO NIGHT OPEN VIDEO NIGHT OPEN VIDEO NIGHT OPEN VIDEO NIGHT\nΦέρτε μας τις ταινίες σας να δούμε όλοι μαζί\nMUSIC LIVES\nDEGEAR001 DEGEAR001 DEGEAR001 DEGEAR001 DEGEAR001 DEGEAR001 DEGEAR001 DEGEAR001DEGEAR001 DEGEAR001 DEGEAR001 DEGEAR001 DEGEAR001 DEGEAR001 DEGEAR001 DEGEAR001 DEGEAR001 DEGEAR001 DEGEAR001 DEGEAR001 (https://degear0001.bandcamp.com/album/a-space-ocd)\nMr. Rooster and his computer Mr. Rooster and his computer Mr. Rooster and his computer Mr. Rooster and his computer Mr. Rooster and his computer Mr. Rooster and his computer Mr. Rooster and his computer Mr. Rooster and his computer Mr. Rooster and his computer Mr. Rooster and his computer Mr. Rooster and his computer Mr. Rooster and his computer Mr. Rooster and his computer Mr. Rooster and his computer (https://mrroosterandhiscomputer.bandcamp.com/) \nChristmas in the Sewer\nWe say goodbye to the salvational 2025 with one final event. On Monday\, 29/12\, we head to the sewer and screen The Temple of Conflagrated Shadows by Ahmed Baker. This will be followed by an Open Video Night! What does that mean? Bring us your little films so we can watch them all together. We screen everything\, with a preference for amateur videos! Maximum duration: 20 minutes\, so we can watch many of them.\nThe night will close with a wonderful live performance by DEGEAR0001\, as well as Mr. Rooster and his Computer. Reviving—at least in part—the magical night we had at Kinky Bombolina during our debut screening in Thessaloniki\, together with Mr. Rooster. \nSchedule\n18:30 – The Temple of Conflagrated Shadows by Ahmed Baker\n19:00 – Open Video Night\n21:15 – Music Live\nDegear001\nMr. Rooster and his Computer \nWhere / When\n29/12 at Yponomos (the Sewer)\, 18:30\nExact coordinates here\nRelatively easy access\, through the small forest\, where the natural stream bed turns into an artificial one (aka sewer)\nFree Entrance \nThe Temple of Conflagrated Shadows by Baker Ahmed\n(2025\, Iraq\, 32′)\nThe eye stretches as far as the cosmos\, and burns the earth.\nOPEN VIDEO NIGHT OPEN VIDEO NIGHT OPEN VIDEO NIGHT OPEN VIDEO NIGHT OPEN VIDEO NIGHT OPEN VIDEO NIGHT OPEN VIDEO NIGHT OPEN VIDEO NIGHT OPEN VIDEO NIGHT OPEN VIDEO NIGHT OPEN VIDEO NIGHT OPEN VIDEO NIGHT OPEN VIDEO NIGHT OPEN VIDEO NIGHT OPEN VIDEO NIGHT OPEN VIDEO NIGHT\nBring your videos and let’s screen them together.\nMUSIC LIVES\nDEGEAR001 DEGEAR001 DEGEAR001 DEGEAR001 DEGEAR001 DEGEAR001 DEGEAR001 DEGEAR001DEGEAR001 DEGEAR001 DEGEAR001 DEGEAR001 DEGEAR001 DEGEAR001 DEGEAR001 DEGEAR001 DEGEAR001 DEGEAR001 DEGEAR001 DEGEAR001 (https://degear0001.bandcamp.com/album/a-space-ocd)\nMr. Rooster and his computer Mr. Rooster and his computer Mr. Rooster and his computer Mr. Rooster and his computer Mr. Rooster and his computer Mr. Rooster and his computer Mr. Rooster and his computer Mr. Rooster and his computer Mr. Rooster and his computer Mr. Rooster and his computer Mr. Rooster and his computer Mr. Rooster and his computer Mr. Rooster and his computer Mr. Rooster and his computer (https://mrroosterandhiscomputer.bandcamp.com/)
URL:https://livingforfree.gr/event/tenies-ston-yponomo/
LOCATION:Πάρκο Γουδή Περιοχή Ζωγράφου\, Πάρκο Γουδή\, Ζωγράφος\, Αττική\, Greece
CATEGORIES:Μουσική,Προβολή
ATTACH;FMTTYPE=image/jpeg:https://livingforfree.gr/wp-content/uploads/2025/12/Ταινίες-στον-Υπόνομο.jpg
GEO:37.9841634;23.7748526
X-APPLE-STRUCTURED-LOCATION;VALUE=URI;X-ADDRESS=Πάρκο Γουδή Περιοχή Ζωγράφου Πάρκο Γουδή Ζωγράφος Αττική Greece;X-APPLE-RADIUS=500;X-TITLE=Πάρκο Γουδή:geo:23.7748526,37.9841634
END:VEVENT
BEGIN:VEVENT
DTSTART;TZID=Europe/Athens:20251229T190000
DTEND;TZID=Europe/Athens:20251229T210000
DTSTAMP:20260420T164109
CREATED:20251227T084933Z
LAST-MODIFIED:20251227T133001Z
UID:10014595-1767034800-1767042000@livingforfree.gr
SUMMARY:Χριστούγεννα στην Καλλιθέα
DESCRIPTION:Χριστούγεννα στην Καλλιθέα\nΜε ιδιαίτερη χαρά σας καλωσορίζουμε στη φετινή εορταστική περίοδο\, που γεμίζει την πόλη μας με φως\, χαρά και αισιοδοξία. Ο Δήμος έχει ετοιμάσει ένα πλούσιο πρόγραμμα Χριστουγεννιάτικων εκδηλώσεων και δραστηριοτήτων για μικρούς και μεγάλους. Σας προσκαλούμε να γίνετε μέρος αυτής της μεγάλης γιορτής\, που έχει σκοπό να προσφέρει σε όλους μας ζεστασιά\, χαμόγελο και ελπίδα.\nΑπό 12/12/2025 έως 6/1/2026 Το Χωριό του Άι Βασίλη στην Καλλιθέα – Πλατεία Δαβάκη: τρενάκι και ξύλινα Χριστουγεννιάτικα Σπιτάκια δραστηριοτήτων με ελεύθερη είσοδο.\nΑπό 12/12 έως 21/12/2025 κάθε απόγευμα 17:00 με 20:30 & από 22/12/2025 έως 6/1/2026 πρωί και απόγευμα 11:00 με 14:00 και 17:00 με 20:30 Face painting\, μπαλονοκατασκευές\, Αϊ Βασίλης\, κουτί γραμμάτων\, κατασκευές και πολλές δράσεις για τους μικρούς μας φίλους. \nΔΕΥΤΕΡΑ 29/12/25\n19:00 Δημοτικό Θέατρο\nΘΕΑΤΡΟ ΣΚΙΩΝ & ΔΙΑΔΡΑΣΤΙΚΟ ΠΑΙΧΝΙΔΙ ΤΟ ΧΡΙΣΤΟΥΓΕΝΝΙΑΤΙΚΟ ΔΕΝΤΡΟ\nΤο δέντρο έξω από το σεράι στολίζεται. Το βράδυ όμως τα καλικατζαράκια θα κρυφτούν μέσα στο δέντρο και θα κάνουν ζαβολιές. Ο ξυπόλυτος καμπούρης μαζί με τους φίλους του σας περιμένουν. Μετά την παράσταση θα ακολουθήσει διαδραστικό παιχνίδι όπου τα παιδιά θα μάθουν τεχνικές αφήγησης και χειρισμούς φιγούρας καραγκιόζη. Με την υπογραφή του Θεάτρου Σκιών «Αθανασίου». \n  \n 
URL:https://livingforfree.gr/event/xmas25-kallithea-29/
LOCATION:Δημοτικό Θέατρο Καλλιθέας\, Κρέμου 123\, Καλλιθέα\, Αττική\, Greece
CATEGORIES:Παιδικό
ATTACH;FMTTYPE=image/jpeg:https://livingforfree.gr/wp-content/uploads/2025/12/chmas2025_S.jpg
GEO:37.9571468;23.6985763
X-APPLE-STRUCTURED-LOCATION;VALUE=URI;X-ADDRESS=Δημοτικό Θέατρο Καλλιθέας Κρέμου 123 Καλλιθέα Αττική Greece;X-APPLE-RADIUS=500;X-TITLE=Κρέμου 123:geo:23.6985763,37.9571468
END:VEVENT
BEGIN:VEVENT
DTSTART;TZID=Europe/Athens:20251229T193000
DTEND;TZID=Europe/Athens:20251229T220000
DTSTAMP:20260420T164109
CREATED:20251227T201639Z
LAST-MODIFIED:20251227T202907Z
UID:10014619-1767036600-1767045600@livingforfree.gr
SUMMARY:Χριστούγεννα στο Πάρκο Τρίτση
DESCRIPTION:Δωρεάν για όλους μαγικά Χριστούγεννα από την Περιφέρεια Αττικής στο ΔΕΗ Xmas West Park στο Μητροπολιτικό Πάρκο Τρίτση και στο Protergia Χριστουγεννιάτικο Χωριό στο Πεδίον του Άρεως \nΚαι αυτά τα Χριστούγεννα η Περιφέρεια Αττικής δημιουργεί ένα μαγικό γιορτινό\, φωτεινό παραμύθι\, που ενώνει το κέντρο της πόλης με τα όμορφα Δυτικά και προσκαλεί μικρούς και μεγάλους να απολαύσουν τη χαρά των ημερών. Με πλούσιο καλλιτεχνικό πρόγραμμα και φαντασμαγορικά happenings\, τα δύο Χριστουγεννιάτικα Χωριά της Περιφέρειας Αττικής – το ΔΕΗ Xmas West Park στο Μητροπολιτικό Πάρκο Τρίτση και το Protergia Χριστουγεννιάτικο Χωριό στο Πεδίον του Άρεως – μετατρέπονται σε ζωντανά σημεία συνάντησης\, ψυχαγωγίας και πολιτισμού για όλη την οικογένεια. Τα δύο μεγάλα\, ανοιχτά γιορτινά «ραντεβού» τα έχουν όλα: Εντελώς δωρεάν συναυλίες με καταξιωμένους καλλιτέχνες και μουσικές που γεμίζουν τον αέρα με μελωδίες αγάπης και χαράς\, από λαϊκά και έντεχνα ακούσματα έως σύγχρονες επιτυχίες. Πλούσια είναι και τα δρώμενα για τα παιδιά\, με εκπαιδευτικές δράσεις και εκδηλώσεις\, εντυπωσιακά καρουζέλ\, παγοδρόμια\, φωτεινά μονοπάτια\, street artists που δημιουργούν μικρές «σκηνές» έκπληξη\, αλλά και πολλές γευστικές γωνιές για όλους\, συνθέτοντας μία ανεπανάληπτη γιορτή\, ιδανική για οικογένειες και φίλους που αναζητούν αυθεντική\, ολοκληρωμένη χριστουγεννιάτικη εμπειρία. \nΔΕΗ Xmas West Park: Ο Δυτικός Χριστουγεννιάτικος Παράδεισος στο Μητροπολιτικό Πάρκο Τρίτση\nΣτο Πάρκο Τρίτση\, το ΔΕΗ Xmas West Park μετατρέπει σε χριστουγεννιάτικο παράδεισο τα όμορφα δυτικά της Αθήνας\, με φωτεινά παγοδρόμια\, ζεστά περίπτερα και δωρεάν συναυλίες για όλους. \nΗ μαγεία των τραγουδιών του ανεπανάληπτου Μάριου Τόκα ζωντανεύει στη σκηνή του ΔΕΗ Xmas West Park τη Δευτέρα 29 Δεκεμβρίου στις 19:30\, μέσα από ένα ξεχωριστό αφιέρωμα με τους Μπάμπη Στόκα\, Στέλιο Διονυσίου\, Γιώργο Ν. Ζερβάκη και Δήμητρα Σταθοπούλου. Μια βραδιά γεμάτη συναισθήματα\, ένταση και αυθεντικότητα\, όπου οι μεγαλύτερες επιτυχίες του κορυφαίου δημιουργού συναντούν τις φωνές που τις έχουν αγαπήσει. Την καλλιτεχνική επιμέλεια του αφιερώματος έχει ο Γιάννης Παπαζαχαριάκης. \nΏρες λειτουργίας του «ΔΕΗ Xmas West Park»\nΤο ΔΕΗ Xmas West Park στο Μητροπολιτικό Πάρκο Τρίτση λειτουργεί με ελεύθερη είσοδο για όλους έως τις 7 Ιανουαρίου 2026.\n• Τις καθημερινές από τις 16:30 έως τις 22:00\n• Τα Σαββατοκύριακα από τις 10:00 έως τις 22:00.\nΤο πλήρες πρόγραμμα όλων των δωρεάν εκδηλώσεων είναι διαθέσιμο στην ιστοσελίδα: www.xmaswestpark.gr
URL:https://livingforfree.gr/event/xmas25-periferia-29a/
LOCATION:Μητροπολιτικό Πάρκο Αντώνης Τρίτσης\, Σπύρου Μουστακλή 23\, Ιλιον\, Αττική\, 13122\, Greece
CATEGORIES:Μουσική
ATTACH;FMTTYPE=image/jpeg:https://livingforfree.gr/wp-content/uploads/2025/12/xmas-Πάρκο-Τρίτση.jpg
GEO:38.0448376;23.7242114
X-APPLE-STRUCTURED-LOCATION;VALUE=URI;X-ADDRESS=Μητροπολιτικό Πάρκο Αντώνης Τρίτσης Σπύρου Μουστακλή 23 Ιλιον Αττική 13122 Greece;X-APPLE-RADIUS=500;X-TITLE=Σπύρου Μουστακλή 23:geo:23.7242114,38.0448376
END:VEVENT
END:VCALENDAR