BEGIN:VCALENDAR
VERSION:2.0
PRODID:-//LIVING for free - ECPv6.15.20//NONSGML v1.0//EN
CALSCALE:GREGORIAN
METHOD:PUBLISH
X-ORIGINAL-URL:https://livingforfree.gr
X-WR-CALDESC:Events for LIVING for free
REFRESH-INTERVAL;VALUE=DURATION:PT1H
X-Robots-Tag:noindex
X-PUBLISHED-TTL:PT1H
BEGIN:VTIMEZONE
TZID:Europe/Athens
BEGIN:DAYLIGHT
TZOFFSETFROM:+0200
TZOFFSETTO:+0300
TZNAME:EEST
DTSTART:20250330T010000
END:DAYLIGHT
BEGIN:STANDARD
TZOFFSETFROM:+0300
TZOFFSETTO:+0200
TZNAME:EET
DTSTART:20251026T010000
END:STANDARD
BEGIN:DAYLIGHT
TZOFFSETFROM:+0200
TZOFFSETTO:+0300
TZNAME:EEST
DTSTART:20260329T010000
END:DAYLIGHT
BEGIN:STANDARD
TZOFFSETFROM:+0300
TZOFFSETTO:+0200
TZNAME:EET
DTSTART:20261025T010000
END:STANDARD
BEGIN:DAYLIGHT
TZOFFSETFROM:+0200
TZOFFSETTO:+0300
TZNAME:EEST
DTSTART:20270328T010000
END:DAYLIGHT
BEGIN:STANDARD
TZOFFSETFROM:+0300
TZOFFSETTO:+0200
TZNAME:EET
DTSTART:20271031T010000
END:STANDARD
END:VTIMEZONE
BEGIN:VEVENT
DTSTART;TZID=Europe/Athens:20260207T100000
DTEND;TZID=Europe/Athens:20260207T170000
DTSTAMP:20260422T134003
CREATED:20260102T125415Z
LAST-MODIFIED:20260102T125415Z
UID:10014677-1770458400-1770483600@livingforfree.gr
SUMMARY:Έκθεση για τις σπουδές στη Γαλλία 2026
DESCRIPTION:Έκθεση για τις σπουδές στη Γαλλία 2026 \nΌπως κάθε χρόνο\, το Γαλλικό Ινστιτούτο Ελλάδος σας προσκαλεί στην Έκθεση για τις σπουδές στην Γαλλία\, η οποία θα πραγματοποιηθεί στις ακόλουθες ημερομηνίες: \nΣάββατο 7 Φεβρουαρίου 2026\, από τις 10:00 έως τις 17:00\, στο Γαλλικό Ινστιτούτο Ελλάδος.\nΚυριακή 8 Φεβρουαρίου 2026\, από τις 14:00 έως τις 18:00\, στο Γαλλικό Ινστιτούτο Θεσσαλονίκης. \nΕίστε μαθητής/τρια λυκείου και σκέφτεστε να κάνετε αίτηση για προπτυχιακά προγράμματα σπουδών στη Γαλλία; Είστε φοιτητής σε ελληνικό πανεπιστήμιο και σκοπεύετε να κάνετε ένα πρώτο ή δεύτερο μεταπτυχιακό στη Γαλλία\, ή ακόμα και διδακτορικό; Θα θέλατε να μάθετε περισσότερα για την ποικιλία των προγραμμάτων σπουδών\, τη γλώσσα διδασκαλίας\, την αναγνώριση των πτυχίων και τις προοπτικές σταδιοδρομίας; Όπως και εσείς\, περισσότεροι από 430.000 διεθνείς φοιτητές έχουν θέσει στον εαυτό τους αυτό το ερώτημα και έχουν κάνει το μεγάλο βήμα!\nΤα ιδρύματα που συμμετέχουν στην Έκθεση\, τα οποία προσφέρουν διεθνώς αναγνωρισμένους τίτλους σπουδών και ένα ευρύ φάσμα προγραμμάτων σπουδών\, είναι έτοιμα να σας βοηθήσουν να διαμορφώσετε τα σχέδιά σας.\nΕλάτε να επισκεφθείτε τα περίπτερά τους και να λάβετε μέρος στις θεματικές παρουσιάσεις\, οι οποίες θα σας καθοδηγήσουν στις επιλογές σας και θα σας βοηθήσουν να ανακαλύψετε προγράμματα σπουδών που ίσως να μην είχατε σκεφτεί. Η συμμετοχή στην Έκθεση είναι δωρεάν και δεν απαιτείται εγγραφή. \n07/02/2026\, 10:00 με 17:00 στο Γαλλικό Ινστιτούτο Ελλάδος (Σίνα 31)\nΕίσοδος ελεύθερη – Δια ζώσης – Δε χρειάζεται ραντεβού\nΙστοσελίδα Campus France Grèce
URL:https://livingforfree.gr/event/ekthesi-gia-tis-spoudes-sti-gallia-2026/
LOCATION:Γαλλικό Ινστιτούτο Αθηνών\, Σίνα 31\, Αθήνα\, Αττική\, Greece
CATEGORIES:Ομιλίες
ATTACH;FMTTYPE=image/webp:https://livingforfree.gr/wp-content/uploads/2026/01/Έκθεση-για-τις-σπουδές-στη-Γαλλία-2026.webp
GEO:37.9821982;23.7387672
X-APPLE-STRUCTURED-LOCATION;VALUE=URI;X-ADDRESS=Γαλλικό Ινστιτούτο Αθηνών Σίνα 31 Αθήνα Αττική Greece;X-APPLE-RADIUS=500;X-TITLE=Σίνα 31:geo:23.7387672,37.9821982
END:VEVENT
BEGIN:VEVENT
DTSTART;TZID=Europe/Athens:20260207T140000
DTEND;TZID=Europe/Athens:20260207T210000
DTSTAMP:20260422T134003
CREATED:20260126T182426Z
LAST-MODIFIED:20260126T182426Z
UID:10014918-1770472800-1770498000@livingforfree.gr
SUMMARY:Fly Athens indoor 2026 στην Παιανία
DESCRIPTION:Fly Athens indoor 2026 στην Παιανία\nΗ απόλυτη εκδήλωση «Fly Athens Indoor 2026» έρχεται στην Παιανία στις 7 Φεβρουαρίου 2026! Τα Ολυμπιακά Ακίνητα Παιανίας θα φιλοξενήσουν την κορυφαία συνάντηση άλματος επί κοντώ σε μια ακόμη πιο συναρπαστική εμπειρία για αθλητές και φιλάθλους! Ο Δήμος Παιανίας θα υποδεχθεί τον Εμμανουήλ Καραλή και την παγκόσμια αφρόκρεμα του αθλήματος\, υποστηρίζοντας μια μοναδική διοργάνωση με ελεύθερη είσοδο για το κοινό. \nΩς αρωγός\, θα λειτουργήσει δωρεάν υπηρεσία με shuttle bus που θα συνδέει τον Σταθμό Προαστιακού και Μετρό «Κάντζα» απευθείας με τα Ολυμπιακά Ακίνητα. \n«Ο στόχος μου τα Ολυμπιακά Ακίνητα Παιανίας από κτίρια φαντάσματα να μετατραπούν σε χώρο αναφοράς για τον αθλητισμό\, επετεύχθη και ο Δήμος Παιανίας δεν θα μπορούσε να μείνει αμέτοχος. Συμβάλουμε στην κορυφαία εκδήλωση Fly Athens Indoor 2026 ως αρωγοί εξασφαλίζοντας την μεταφορά των επισκεπτών από και προς τον σταθμό Κάντζα. Με τον τρόπο αυτό δίνουμε τη δυνατότητα σε όσους επιθυμούν να χειροκροτήσουν από κοντά τους κορυφαίους αθλητές παγκοσμίως\, να φτάσουν ως τα Ολυμπιακά Ακίνητα με τα μέσα μεταφοράς ενώ η πόλη μας δεν θα επιβαρυνθεί από την κυκλοφορία» δήλωσε ο Δήμαρχος Παιανίας Ισίδωρος Μάδης. \nΘυμίζεται πως οι εγκαταλελειμμένες ολυμπιακές εγκαταστάσεις αποκαταστάθηκαν με πρωτοβουλία του Ισίδωρου Μάδη όταν μετά την εκλογή του το 2019 εξασφάλισε την απαραίτητη μελέτη για να ακολουθήσει προγραμματική σύμβαση με το Υπουργείο Αθλητισμού και την Περιφέρεια Αττικής. Εν τέλει η αποκατάσταση εντάχθηκε στον κεντρικό κυβερνητικό σχεδιασμό ενώ το ποσό που είχε δεσμευθεί από την Περιφέρεια Αττικής διατίθεται για τη δημιουργία νέων αθλητικών και πολιτιστικών εγκαταστάσεων στον περιβάλλοντα χώρο. \nΜε την ολοκλήρωση των αγώνων\, όλα τα διαθέσιμα λεωφορεία θα εξασφαλίσουν την επιστροφή του κοινού προς τον σταθμό «Κάντζα». \nΗ διοργάνωση τελεί υπό την αιγίδα της Παγκόσμιας και της Ευρωπαϊκής Ομοσπονδίας Στίβου (World & European Athletics)\, του Υπουργείου Αθλητισμού\, του ΣΕΓΑΣ και του Ε.Ο.Τ. Η δράση θα μεταδοθεί ζωντανά από την ΕΡΤ και το Ertflix\, καθώς και από τα ψηφιακά κανάλια της European Athletics.
URL:https://livingforfree.gr/event/fly-athens-indoor-2026-stin-peania/
LOCATION:Κλειστό Γυμναστήρισ Παιανίας – Ολυμπιακές Εγκαταστάσεις Ξιφασκίας\, Αγίου Νικολάου\, Παιανία\, Αττική\, 19400\, Greece
CATEGORIES:Αθλητισμός
ATTACH;FMTTYPE=image/jpeg:https://livingforfree.gr/wp-content/uploads/2026/01/flyathens2026-1-scaled.jpg
GEO:37.939412;23.845808
X-APPLE-STRUCTURED-LOCATION;VALUE=URI;X-ADDRESS=Κλειστό Γυμναστήρισ Παιανίας – Ολυμπιακές Εγκαταστάσεις Ξιφασκίας Αγίου Νικολάου Παιανία Αττική 19400 Greece;X-APPLE-RADIUS=500;X-TITLE=Αγίου Νικολάου:geo:23.845808,37.939412
END:VEVENT
BEGIN:VEVENT
DTSTART;TZID=Europe/Athens:20260207T140000
DTEND;TZID=Europe/Athens:20260207T220000
DTSTAMP:20260422T134003
CREATED:20260107T174303Z
LAST-MODIFIED:20260107T174303Z
UID:10014719-1770472800-1770501600@livingforfree.gr
SUMMARY:Craft Riot Festival στην Τεχνόπολη Αθηνών
DESCRIPTION:Craft Riot Festival\nΈνα Εναλλακτικό Φεστιβάλ Δημιουργίας & Αντίδρασης’’. Έρχεται το πιο δυναμικό διήμερο εικαστικής τέχνης στην Αθήνα! Ένα φεστιβάλ αφιερωμένο στη DIY κουλτούρα\, στη ριζοσπαστική αισθητική και στην ελεύθερη καλλιτεχνική έκφραση. Η τέχνη δεν είναι διακοσμητική. Η τέχνη είναι εξέγερση. Είναι εργαλείο\, κραυγή και πράξη αντίστασης. Το CRAFT RIOT FESTIVAL έρχεται φέτος για να ανατρέψει τα δεδομένα\, με ένα διήμερο φεστιβάλ\, γεμάτο δημιουργία\, σύγχρονη αισθητική και καλλιτεχνική ανυπακοή\, μέσα από τα μάτια νέων δημιουργών! \nΗ Αθήνα ετοιμάζεται να γεμίσει ένταση\, καλλιτεχνική ελευθερία και χειροποίητη επανάσταση το Σάββατο 7 και την Κυριακή 8 Φεβρουαρίου στον επιβλητικό χώρο του Μηχανουργείου της Τεχνόπολης Δήμου Αθηναίων! Δεν πρόκειται για μία ακόμη έκθεση… Το Craft Riot Festival είναι ένα ελεύθερο\, αντισυμβατικό festival που ενώνει την τέχνη\, τον λόγο και την δράση\, αγκαλιάζει τη χειροποίητη υλική φύση των έργων δίνοντας χώρο στις ανατρεπτικές καλλιτεχνικές φωνές που δημιουργούν έξω από τα συστήματα\, πειραματίζονται και αμφισβητούν με όπλο την αυθεντική έκφραση. Στο CRAFT RIOT FEST θα βρεθεί ο πυρήνας της τέχνης! Σύγχρονος! Πολυσυλλεκτικός! Αυθεντικός και Τολμηρός\, όπου πάνω από 150+ ανεξάρτητοι καλλιτέχνες θα ‘‘απλώσουν’’ μπροστά μας τις μοναδικές τους δημιουργίες! \nΤι θα δεις: \n\nΔιαδραστικά installations\nWorkshops\nCLOTHING | BRANDS | ART PRINTS\nGraphic designers | Illustrators |Screen printers\nDIY ΕΡΓΑ: Ξύλινες\, κεραμικές και πήλινες δημιουργίες\nΖωγραφική | Φωτογραφία\nDesign αντικείμενα και κεντήματα\nΑφίσες | Κόμικς\nStreet art | Ζωντανές εικαστικές παρεμβάσεις | graffiti jam sessions\nΧειροποίητα κοσμήματα\n\nΈνα έντονο art-bazaar vibe & μία οπτική εμπειρία που έχει ως στόχο την προώθηση της νέας εγχώριας εικαστικής σκηνής\, την ενίσχυση της συμμετοχής του κοινού στην τέχνη και την δικτύωση των καλλιτεχνών που δημιουργούν και εκφράζονται χωρίς περιορισμούς\, με κοινό παρονομαστή την ανάγκη για αυθεντική έκφραση και κοινωνικό σχολιασμό. Τα φώτα του Μηχανουργείου της Τεχνόπολης Δήμου Αθηναίων θα ανάψουν το Σάββατο 7 Φεβρουαρίου στις 14:00 και την Κυριακή 8 Φεβρουαρίου στις 11:00 και θα παραμείνουν ανοιχτά και τις δύο ημέρες ως και τις 22:00. Δύο μέρες έμπνευσης\, έκφρασης\, πολλής μουσικής και καλλιτεχνικής ενέργειας\, όπου θα ανακαλύψεις το σύγχρονο εικαστικό τοπίο μέσα από τα μάτια νέων δημιουργών! \nΕίσοδος Ελεύθερη\nΣάββατο 7 Φεβρουαρίου (14.00 – 22.00)\nΚυριακή 8 Φεβρουαρίου (11:00 – 22:00)
URL:https://livingforfree.gr/event/craft-riot-festival-stin-technopoli-athinon/2026-02-07/
LOCATION:Τεχνόπολη Δήμου Αθηναίων\, Πειραιώς 100 και Βουτάδων\, Αθήνα\, Αττική\, 11854\, Greece
CATEGORIES:Εικαστικά,Έκθεση-Φεστιβάλ,Εργαστήρια
ATTACH;FMTTYPE=image/jpeg:https://livingforfree.gr/wp-content/uploads/2026/01/Craft-Riot-Festival-στην-Τεχνόπολη-Αθηνών.jpg
GEO:37.978432;23.715634
X-APPLE-STRUCTURED-LOCATION;VALUE=URI;X-ADDRESS=Τεχνόπολη Δήμου Αθηναίων Πειραιώς 100 και Βουτάδων Αθήνα Αττική 11854 Greece;X-APPLE-RADIUS=500;X-TITLE=Πειραιώς 100 και Βουτάδων:geo:23.715634,37.978432
END:VEVENT
BEGIN:VEVENT
DTSTART;TZID=Europe/Athens:20260207T180000
DTEND;TZID=Europe/Athens:20260207T200000
DTSTAMP:20260422T134003
CREATED:20260207T134912Z
LAST-MODIFIED:20260207T134912Z
UID:10014956-1770487200-1770494400@livingforfree.gr
SUMMARY:Συντακτικό της Αρχαίας Ελληνικής Γλώσσας στην Πεύκη
DESCRIPTION:Ο Δήμος Λυκόβρυσης-Πεύκης σάς προσκαλεί\, το Σάββατο 7 Φεβρουαρίου 2026 και ώρα 18:00\, σε ομιλία με θέμα «Η Δομή της Ελληνικής Γλώσσας» για την παρουσίαση του τελευταίου βιβλίου της φιλολόγου – συγγραφέα\, κας Ελένης Γιαννακουλοπούλου / Καλαβάση με θέμα: «Συντακτικό της Αρχαίας Ελληνικής Γλώσσας Για Φιλολόγους – Φοιτητές- μαθητές / τριες»\, στην Αίθουσα Μ. Αναγνωστάκης (Χρυσοστόμου Σμύρνης και Ρήγα Φεραίου\, Πεύκη). Στο βιβλίο γίνεται διεξοδική παρουσίαση των συντακτικών φαινομένων και εφαρμογή του συντακτικού σε 10 κείμενα της αρχαίας ελληνικής γραμματείας με γενικές και επισυμπληρωματικές ασκήσεις. Κατά τη διάρκεια της παρουσίασης\, θα αναλυθεί και το περιεχόμενο των δυο πρώτων βιβλίων της με θέμα: «Από τη θεωρία στην Πράξη» και «Τετράδιο εργασίας – 130 κείμενα Κριτήρια της Αττικής Πεζογραφίας»\, τα οποία ήδη κυκλοφορούν από τις Εκδόσεις 24γράμματα. \nΚύριοι ομιλητές στην εκδήλωση θα είναι οι:\n– Ελένη Γιαννακουλοπούλου φιλόλογος – συγγραφέας\n– Δαυιδία Καραϊσαρίδου\, δικηγόρος\n– Κωνσταντία Κολύβα\, φιλόλογος\n– Άννα Λιαμή\, εκπαιδευτικός της πρωτοβάθμιας εκπαίδευσης και Σύμβουλος Ψυχικής Υγείας \nΟ Δήμαρχος Λυκόβρυσης-Πεύκης Μάριος Ψυχάλης δηλώνει : «Ο Δήμος μας έχει την τιμή να φιλοξενεί μια ενδιαφέρουσα φιλολογική βιβλιοπαρουσίαση στην Αίθουσα «Μ. Αναγνωστάκης»\, στην Πεύκη\, έναν χώρο άρρηκτα συνδεδεμένο με τον λόγο\, την πνευματική δημιουργία και τον πολιτισμό. Ο Δήμος μας στηρίζει έμπρακτα κάθε πρωτοβουλία που καλλιεργεί τον πολιτισμό και φέρνει τους πολίτες πιο κοντά στο βιβλίο και τους δημιουργούς του. Καλώ τους συμπολίτες μας να παρευρεθούν και να συμμετάσχουν σε αυτή την πνευματική συνάντηση.»
URL:https://livingforfree.gr/event/syntaktiko-tis-archeas-ellinikis-glossas-stin-pefki/
LOCATION:Αίθουσα Μανώλης Αναγνωστάκης Δημοτικό θέατρο Πεύκης\, Χρυσοστόμου Σμύρνης & Ρήγα Φεραίου\, Πεύκη\, Αττική\, 151 21\, Greece
CATEGORIES:Αφήγηση - Βιβλίο
ATTACH;FMTTYPE=image/jpeg:https://livingforfree.gr/wp-content/uploads/2026/02/Συντακτικό-της-Αρχαίας-Ελληνικής-Γλώσσας-scaled.jpg
GEO:38.056542;23.793347
X-APPLE-STRUCTURED-LOCATION;VALUE=URI;X-ADDRESS=Αίθουσα Μανώλης Αναγνωστάκης Δημοτικό θέατρο Πεύκης Χρυσοστόμου Σμύρνης & Ρήγα Φεραίου Πεύκη Αττική 151 21 Greece;X-APPLE-RADIUS=500;X-TITLE=Χρυσοστόμου Σμύρνης & Ρήγα Φεραίου:geo:23.793347,38.056542
END:VEVENT
BEGIN:VEVENT
DTSTART;TZID=Europe/Athens:20260207T183000
DTEND;TZID=Europe/Athens:20260207T203000
DTSTAMP:20260422T134003
CREATED:20260206T213228Z
LAST-MODIFIED:20260206T213228Z
UID:10014937-1770489000-1770496200@livingforfree.gr
SUMMARY:Εκάβη στο Κερατσίνι
DESCRIPTION:Το Σάββατο 7 Φεβρουαρίου 2026\, στις 18:30\, το Πολιτιστικό Κέντρο «Αντώνης Σαμαράκης» (Μ. Ασίας 24\, Κερατσίνι)\, φιλοξενεί την «Εκάβη». Έναν θεατρικό μονόλογο της βραβευμένης συγγραφέως Άννας Τσεκούρα\, αφιερωμένο στην απώλεια. Συνομιλεί με την απώλεια όχι μόνο ως θάνατο\, αλλά ως κάθε αιφνίδια ρωγμή που διαλύει τις βεβαιότητές μας και ανατρέπει τον τρόπο με τον οποίο συνεχίζουμε να υπάρχουμε.\nΤην Εκάβη ζωντανεύει επί σκηνής η Μαρία Σταναθιώτη\, σε μία ερμηνεία γεμάτη ένταση και σιωπή. \nΠΟΛΙΤΙΣΤΙΚΟ ΚΕΝΤΡΟ “ΑΝΤ. ΣΑΜΑΡΑΚΗΣ” ( Μ. ΑΣΙΑΣ 24 ΚΕΡΑΤΣΙΝΙ )\nΣΑΒΒΑΤΟ 7 ΦΕΒΡΟΥΑΡΙΟΥ 2026\nΩΡΑ: 18:30 \nΕΙΣΟΔΟΣ ΕΛΕΥΘΕΡΗ
URL:https://livingforfree.gr/event/ekavi-sto-keratsini/
LOCATION:Πολιτιστικό Κέντρο Κερατσινίου Αντώνης Σαμαράκης\, Μικράς Ασίας 24 & Παπαναστασίου\, Κερατσίνι\, Αττική\, 18756\, Greece
CATEGORIES:Θέατρο
ATTACH;FMTTYPE=image/jpeg:https://livingforfree.gr/wp-content/uploads/2026/02/ekavi.jpg
GEO:37.959377;23.627313
X-APPLE-STRUCTURED-LOCATION;VALUE=URI;X-ADDRESS=Πολιτιστικό Κέντρο Κερατσινίου Αντώνης Σαμαράκης Μικράς Ασίας 24 & Παπαναστασίου Κερατσίνι Αττική 18756 Greece;X-APPLE-RADIUS=500;X-TITLE=Μικράς Ασίας 24 & Παπαναστασίου:geo:23.627313,37.959377
END:VEVENT
BEGIN:VEVENT
DTSTART;TZID=Europe/Athens:20260207T193000
DTEND;TZID=Europe/Athens:20260207T213000
DTSTAMP:20260422T134003
CREATED:20260123T193206Z
LAST-MODIFIED:20260123T193206Z
UID:10014897-1770492600-1770499800@livingforfree.gr
SUMMARY:Τραγούδια που δε γερνούν ποτέ στο Φάληρο
DESCRIPTION:Ο Δήμαρχος Παλαιού Φαλήρου Γιάννης Φωστηρόπουλος σας προσκαλεί το Σάββατο 7 Φεβρουαρίου και ώρα 19:30 στον Πολυχώρο του Δημαρχείου σε μία βραδιά γεμάτη από τραγούδια που δε γερνούν ποτέ. Τραγούδια σπουδαίων ερμηνευτών χωρίς ηλικία\, που δεν υπακούουν σε νόμους φυσικής φθοράς αλλά μένουν αναλλοίωτοι στο χρόνο μέσω των τραγουδιών τους. Γλυκόπικρη η γεύση του έρωτα\, νοσταλγία\, πόνος\, ξενιτιά και τραγούδια που είναι δεμένα με γενιές ολόκληρες στην εκδήλωση με τα τραγούδια των μεγάλων ερμηνευτών του Ελληνικού πενταγράμμου. \nΘανάσης Βασιλάς: Μπουζούκι\, καλλιτεχνική διεύθυνση\nΓιάννης Ματσούκας: Μπουζούκι\, τραγούδι\nΜιχάλης Παπαδάκης: Πιάνο\nΔημήτρης Τριανταφυλλίδης: Κιθάρα \, τραγούδι\nΚορίνα Βένη: Κιθάρα \,τραγούδι \nΥπεύθυνος της Εκδήλωσης είναι ο Αντιδήμαρχος Πολιτισμού Γιώργος Πράπας.
URL:https://livingforfree.gr/event/tragoudia-pou-de-gernoun-pote-sto-faliro/
LOCATION:Δημαρχείο Παλαιού Φαλήρου\, Τερψιχόρης 51 & Αρτέμιδος\, Παλαιό Φάληρο\, Αττική\, Greece
CATEGORIES:Μουσική
ATTACH;FMTTYPE=image/jpeg:https://livingforfree.gr/wp-content/uploads/2026/01/Βραδιά-γεμάτη-από-τραγούδια-που-δε-γερνούν-ποτέ-στο-Φάληρο.jpg
GEO:37.9280453;23.6986516
X-APPLE-STRUCTURED-LOCATION;VALUE=URI;X-ADDRESS=Δημαρχείο Παλαιού Φαλήρου Τερψιχόρης 51 & Αρτέμιδος Παλαιό Φάληρο Αττική Greece;X-APPLE-RADIUS=500;X-TITLE=Τερψιχόρης 51 & Αρτέμιδος:geo:23.6986516,37.9280453
END:VEVENT
BEGIN:VEVENT
DTSTART;TZID=Europe/Athens:20260207T200000
DTEND;TZID=Europe/Athens:20260207T220000
DTSTAMP:20260422T134003
CREATED:20260121T125000Z
LAST-MODIFIED:20260121T125000Z
UID:10014862-1770494400-1770501600@livingforfree.gr
SUMMARY:Ο Σαίξπηρ στα γρήγορα στο Περιστέρι
DESCRIPTION:Ο Σαίξπηρ… στα γρήγορα στο Κινηματοθέατρο «Κώστας Γαβράς» από την Πειραματική Θεατρική Σκηνή Δήμου Περιστερίου\nΟ Δήμαρχος Περιστερίου\, Ανδρέας Π. Παχατουρίδης\, προσκαλεί τους πολίτες στη θεατρική παράσταση «Σαίξπηρ… στα γρήγορα»\, που παρουσιάζει η Πειραματική Θεατρική Σκηνή Δήμου Περιστερίου «Ανδρέας Βαρούχας»\, στο Κινηματοθέατρο «Κώστας Γαβράς» (Βασιλικών 6\, Κηπούπολη). Η παράσταση θα παρουσιαστεί στις 23\, 24\, 30 και 31 Ιανουαρίου καθώς και στις 6\, 7\, 13 και 14 Φεβρουαρίου 2026\, με ώρα έναρξης 20:00 και ελεύθερη είσοδο.\nΠρόκειται για μια βραβευμένη κωμωδία των Άνταμ Λονγκ\, Τζες Ουίνφιλντ και Ντανιέλ Σίνγκερ\, σε διασκευή και σκηνοθεσία Αρχοντίας Μυλωνά\, που συμπυκνώνει με χιούμορ\, φαντασία και συνεχείς ανατροπές 36 έργα του Ουίλιαμ Σαίξπηρ σε μία απολαυστική παράσταση διάρκειας δύο ωρών\, γεμάτη κέφι\, ζωντάνια και θεατρικές μεταμορφώσεις. \nΠαίζουν (αλφαβητικά): Βεζιρτζόγλου Καίτη\, Δεϊμέζη Βίκυ\, Ζαρίκου Μάρω\, Κοντομάρκου Κατερίνα\, Κουμπαρούλη Γεωργία\, Λογοθέτης Θεοφάνης\, Μαχαίρα Μαρία\, Μπεκιάρης Γιώργος\, Παλιούρα Έλλη\, Ραμαντάνης Βασίλης\, Ρουμπάκης Ιερόθεος\, Σαμοϊλη Νικολέττα\, Σταυρόπουλος Κωστής\, Τάπα Μαρίνα και η Σταυροπούλου Μαράκι.\nΣυντελεστές: Διασκευή – Σκηνοθεσία: Αρχοντία Μυλωνά • Χορογραφίες – Ξιφασκία: Ναταλία Φεντόροβα-Βέρδου • Μουσική επιλογή: Αρχοντία Μυλωνά & Αγγελική Λέκκα • Φώτα: Γιώργος Κοντός • Ήχος: Αγγελική Λέκκα • Φροντιστήριο: Αμαλία Μουτάφη & Νεκταρία Πρασσάκη • Μακιγιάζ: Ευτέρπη Μπούκα. \nΟ Δήμος Περιστερίου συνεχίζει να στηρίζει έμπρακτα τον πολιτισμό και τη θεατρική δημιουργία\, προσφέροντας ποιοτικές παραστάσεις με ελεύθερη πρόσβαση για όλους τους πολίτες.
URL:https://livingforfree.gr/event/o-sexpir-sta-grigora-sto-peristeri/2026-02-07/
LOCATION:Κινηματοθέατρο Κώστας Γαβράς Πρώην Έφη\, Βασιλικών 6\, Περιστέρι\, Αττική\, 12137\, Greece
CATEGORIES:Θέατρο
ATTACH;FMTTYPE=image/jpeg:https://livingforfree.gr/wp-content/uploads/2026/01/SCREEN_SHAKESPEAR-03.jpg
GEO:38.029941;23.6810297
X-APPLE-STRUCTURED-LOCATION;VALUE=URI;X-ADDRESS=Κινηματοθέατρο Κώστας Γαβράς Πρώην Έφη Βασιλικών 6 Περιστέρι Αττική 12137 Greece;X-APPLE-RADIUS=500;X-TITLE=Βασιλικών 6:geo:23.6810297,38.029941
END:VEVENT
BEGIN:VEVENT
DTSTART;TZID=Europe/Athens:20260207T200000
DTEND;TZID=Europe/Athens:20260207T220000
DTSTAMP:20260422T134003
CREATED:20260206T220406Z
LAST-MODIFIED:20260206T220406Z
UID:10014943-1770494400-1770501600@livingforfree.gr
SUMMARY:Αποκριές 2026 στον Δήμο Βάρης Βούλας Βουλιαγμένης
DESCRIPTION:Αποκριές 2026 Βάρης Βούλας Βουλιαγμένης. Ο Δήμος Βάρης Βούλας Βουλιαγμένης προσκαλεί όλους τους δημότες και επισκέπτες να συμμετάσχουν στις αποκριάτικες εκδηλώσεις 2026\, με ένα πολυήμερο πρόγραμμα γεμάτο μουσική\, χορό\, παράδοση\, θέατρο και οικογενειακή ψυχαγωγία. Οι φετινές Απόκριες συνδυάζουν το σύγχρονο γλέντι με τα έθιμα του τόπου μας και προσφέρουν μοναδικές εμπειρίες πολιτισμού και διασκέδασης σε κάθε γειτονιά της πόλης. \nΠατήστε ΕΔΩ για να δείτε το πλήρες πρόγραμμα \nΣάββατο 7 Φεβρουαρίου 2026 | 20:00 «Χορεύουμε Λάτιν στις Απόκριες» – Πνευματική Εστία Βούλας\nΜεγάλο αποκριάτικο πάρτι με λάτιν και ελληνικούς χορούς\, διαγωνισμό καραόκε «Η Φωνή του Καρναβαλιού» και βράβευση καλύτερης στολής. Συμμετέχουν τα τμήματα χορού του Πολιτιστικού Τμήματος του Δήμου με τον δάσκαλό τους Λάκη Οικονόμου.
URL:https://livingforfree.gr/event/apokries26vvv-01/
LOCATION:Πνευματική Εστία Βουλα\, Ζέφυρου 2\, Βούλα\, Αττική\, Greece
CATEGORIES:Χορός
ATTACH;FMTTYPE=image/jpeg:https://livingforfree.gr/wp-content/uploads/2026/02/Αποκριές-2026-στον-Δήμο-Βάρης-Βούλας-Βουλιαγμένης.jpg
GEO:37.8397934;23.763399
X-APPLE-STRUCTURED-LOCATION;VALUE=URI;X-ADDRESS=Πνευματική Εστία Βουλα Ζέφυρου 2 Βούλα Αττική Greece;X-APPLE-RADIUS=500;X-TITLE=Ζέφυρου 2:geo:23.763399,37.8397934
END:VEVENT
BEGIN:VEVENT
DTSTART;TZID=Europe/Athens:20260207T200000
DTEND;TZID=Europe/Athens:20260207T220000
DTSTAMP:20260422T134003
CREATED:20260207T162851Z
LAST-MODIFIED:20260207T162851Z
UID:10014964-1770494400-1770501600@livingforfree.gr
SUMMARY:Απόκριες 2026 στη Καλλιθέα
DESCRIPTION:Απόκριες 2026 στη Καλλιθέα\nΟ Δήμος Καλλιθέας διοργανώνει και φέτος ένα πλούσιο πρόγραμμα αποκριάτικων εκδηλώσεων\, γεμάτο μουσική\, χορό και χρώμα. Με επίκεντρο την παράδοση και τη δύναμη της συλλογικότητας\, ενώνουμε τις δυνάμεις μας με τους Πολιτιστικούς Φορείς και τους Συλλόγους της πόλης μας\, που συμβάλλουν διαχρονικά στη διατήρηση και τη ζωντανή μετάδοση των εθίμων και της πολιτιστικής μας κληρονομιάς. Σας περιμένουμε όλους\, μικρούς και μεγάλους\, να αφήσουμε για λίγο πίσω την καθημερινότητα και να γιορτάσουμε μαζί με κέφι\, χαμόγελο και γιορτινή διάθεση. Καλή Αποκριά σε όλες και όλους! \nΣΑΒΒΑΤΟ 07/02/2026\n20:00 Δημοτικό Θέατρο Μουσικοχορευτική Παράσταση από τον Πολιτιστικό Σύλλογο ΠέΖΟ ΓΑΜΟΣ ΑΛΑΛΟΥΜ.\nΜε αφορμή την παγκόσμια ημέρα Γάμου\, παντρέψαμε στιγμιότυπα του παλιού ελληνικού κινηματογράφου με χορούς. Έτσι χορεύουμε κρητικά με το παλικάρι\, ζεϊμπέκικο με τον Αντωνάκη και σέικ με την τρελή σαραντάρα. Αυτά και άλλα πολλά παρουσιάζει ο Πολιτιστικός Σύλλογος ΠέΖΟ στη μουσικοθεατρική παράσταση “Γάμος Αλαλούμ”. Μια παράσταση\,  που τίποτα δεν είναι στη θέση του και όλα είναι επιμελώς “Αλαλούμ”.
URL:https://livingforfree.gr/event/apokries26-kallithea-7/
LOCATION:Δημοτικό Θέατρο Καλλιθέας\, Κρέμου 123\, Καλλιθέα\, Αττική\, Greece
CATEGORIES:Θέατρο
ATTACH;FMTTYPE=image/jpeg:https://livingforfree.gr/wp-content/uploads/2026/02/apokries2026_S.jpg
GEO:37.9571468;23.6985763
X-APPLE-STRUCTURED-LOCATION;VALUE=URI;X-ADDRESS=Δημοτικό Θέατρο Καλλιθέας Κρέμου 123 Καλλιθέα Αττική Greece;X-APPLE-RADIUS=500;X-TITLE=Κρέμου 123:geo:23.6985763,37.9571468
END:VEVENT
END:VCALENDAR