BEGIN:VCALENDAR
VERSION:2.0
PRODID:-//LIVING for free - ECPv6.15.20//NONSGML v1.0//EN
CALSCALE:GREGORIAN
METHOD:PUBLISH
X-ORIGINAL-URL:https://livingforfree.gr
X-WR-CALDESC:Events for LIVING for free
REFRESH-INTERVAL;VALUE=DURATION:PT1H
X-Robots-Tag:noindex
X-PUBLISHED-TTL:PT1H
BEGIN:VTIMEZONE
TZID:Europe/Athens
BEGIN:DAYLIGHT
TZOFFSETFROM:+0200
TZOFFSETTO:+0300
TZNAME:EEST
DTSTART:20250330T010000
END:DAYLIGHT
BEGIN:STANDARD
TZOFFSETFROM:+0300
TZOFFSETTO:+0200
TZNAME:EET
DTSTART:20251026T010000
END:STANDARD
BEGIN:DAYLIGHT
TZOFFSETFROM:+0200
TZOFFSETTO:+0300
TZNAME:EEST
DTSTART:20260329T010000
END:DAYLIGHT
BEGIN:STANDARD
TZOFFSETFROM:+0300
TZOFFSETTO:+0200
TZNAME:EET
DTSTART:20261025T010000
END:STANDARD
BEGIN:DAYLIGHT
TZOFFSETFROM:+0200
TZOFFSETTO:+0300
TZNAME:EEST
DTSTART:20270328T010000
END:DAYLIGHT
BEGIN:STANDARD
TZOFFSETFROM:+0300
TZOFFSETTO:+0200
TZNAME:EET
DTSTART:20271031T010000
END:STANDARD
END:VTIMEZONE
BEGIN:VEVENT
DTSTART;TZID=Europe/Athens:20260316T173000
DTEND;TZID=Europe/Athens:20260316T193000
DTSTAMP:20260419T174545
CREATED:20260313T163057Z
LAST-MODIFIED:20260313T163057Z
UID:10015263-1773682200-1773689400@livingforfree.gr
SUMMARY:Γονείς με Ενσυναίσθηση στο Ελληνικό
DESCRIPTION:Γονείς με Ενσυναίσθηση \nΚύκλος Ομάδων Γονέων Παιδιών των Παιδικών Σταθμών – 5η Συνάντηση Γονέων\nΔευτέρα 16 Μαρτίου και ώρα 17:30 – 19:30 \n«Αδελφικές Σχέσεις & ζήλια. Πως διαχειριζόμαστε τον ανταγωνισμό\, ενισχύουμε τη σύνδεση & αποφεύγουμε τις συγκρούσεις ».\nΣας προσκαλούμε στην πεμπτη συνάντηση ομάδας γονέων η οποία θα πραγματοποιηθεί τη Δευτέρα 16 Μαρτίου και ώρα 17:30 στον 1ο Βρεφονηπιακό Σταθμό (Ελ. Βενιζέλου 9 & 31ης Οδού\, Ελληνικό) με θέμα « Αδελφικές Σχέσεις & ζήλια. Πως διαχειριζόμαστε τον ανταγωνισμό\, ενισχύουμε τη σύνδεση & αποφεύγουμε τις συγκρούσεις ».\nΗ συνάντηση είναι ανοιχτή προς όλους τους γονείς\, όλων των παιδικών σταθμών.\nΤον συντονισμό της πρωτοβουλίας «Γονείς με ενσυναίσθηση» έχει τo Κέντρο Κοινότητας του Τμήματος Κοινωνικής Πολιτικής & Ισότητας των Φύλων της Διεύθυνσης Κοινωνικής Συνοχής του Δήμου Ελληνικού – Αργυρούπολης\, σε συνεργασία με τους Δημοτικούς Βρεφονηπιακούς Σταθμούς της πόλης μας.
URL:https://livingforfree.gr/event/gonis-me-ensynesthisi-sto-elliniko/
LOCATION:1ος Βρεφονηπιακός Σταθμός Ελληνικού\, Ελ. Βενιζέλου 9 & 31ης Οδού\, Ελληνικό\, Αττική\, 16777\, Greece
ATTACH;FMTTYPE=image/jpeg:https://livingforfree.gr/wp-content/uploads/2026/03/649578459_1239958881604555_172131667393685568_n.jpg
GEO:37.89059;23.744501
X-APPLE-STRUCTURED-LOCATION;VALUE=URI;X-ADDRESS=1ος Βρεφονηπιακός Σταθμός Ελληνικού Ελ. Βενιζέλου 9 & 31ης Οδού Ελληνικό Αττική 16777 Greece;X-APPLE-RADIUS=500;X-TITLE=Ελ. Βενιζέλου 9 & 31ης Οδού:geo:23.744501,37.89059
END:VEVENT
BEGIN:VEVENT
DTSTART;TZID=Europe/Athens:20260316T180000
DTEND;TZID=Europe/Athens:20260316T193000
DTSTAMP:20260419T174545
CREATED:20251230T125525Z
LAST-MODIFIED:20251230T131000Z
UID:10014644-1773684000-1773689400@livingforfree.gr
SUMMARY:Ανοιχτό Πανεπιστήμιο Ηλιούπολης Εργαστήρια
DESCRIPTION:Ανοιχτό Πανεπιστήμιο Ηλιούπολης 2025\nΟ Δήμος Ηλιούπολης βρίσκεται στην ευχάριστη θέση να ενημερώσει τους Δημότες και κατοίκους της πόλης ότι ο σημαντικός Θεσμός του Ανοιχτού Πανεπιστημίου επανέρχεται στην πόλη\, πιστός “στο ραντεβού του με τους Δημότες με στόχο τη διά βίου μάθηση“. Η Συμμετοχή στο Ανοιχτό Πανεπιστήμιο είναι εντελώς Δωρεάν και διεξάγεται στα πλαίσια της Διά βίου Μάθησης και της Κοινωνικής Υπευθυνότητας του Δήμου Ηλιούπολης. Μπορεί δε να πραγματοποιηθεί και με εγγραφή στη φόρμα συμμετοχής εδώ. \nΠατήστε ΕΔΩ για να δείτε το πλήρες πρόγραμμα \nΣτα πλαίσια του Ανοιχτού Πανεπιστημίου\, παράλληλα με τις διαλέξεις\, θα λειτουργήσουν εργαστήρια μαθηματικών και φιλοσοφίας στην ποίηση και τη λογοτεχνία\, στην αίθουσα εκδηλώσεων της Βιβλιοθήκης του Δήμου Ηλιούπολης \, Οδός Νικομάχου 18. \n12/1/2026 έως 16/3/2026\, Ημέρα Δευτέρα\, Ώρα 18:00-19:30\nΕννέα (9) εργαστήρια φιλοσοφίας στην ποίηση και τη λογοτεχνία\nΕισηγητής: Φώτιος Χρήστου\, Διδάκτωρ Φιλοσοφίας-Φιλόλογος\nΑναλυτικότερα:\n12/1/26\nΘέμα: “Ο άνθρωπος και η κοινωνία στο Διονύσιο Σολωμό. Μια φιλοσοφική πλευρά της ποίησής του”\n19/1/2026\nΘέμα: “Οι ωδές του Ανδρέα Κάλβου και ο ελληνικός του λόγος”\n26/1/2026\nΘέμα: “Η άποψη του Αλέξανδρου Παπαδιαμάντη για τον άνθρωπο. Ένας φιλοσοφικός λόγος για τη φύση του ανθρώπου”\n2/2/2026\nΘέμα: “Η φιλοσοφία και ο λόγος για την ελευθερία στον Τίτο Πατρίκιο”\n9/2/2026\nΘέμα: “Ο άνθρωπος στον Μπαταργιά και τον Τάκη-Πλούμα του Μιλτιάδη Μαλακάση”\n16/2/2026\nΘέμα: “Ο Ανδρέας Εμπειρίκος στη σύγχρονη φιλοσοφική σκέψη”\n2/3/2026\nΘέμα: “Η ποίηση και ο λόγος στο Δημήτρη Παπαδίτσα”\n9/3/2026\nΘέμα: “Οι προηγμένες θέσεις για τον άνθρωπο της Κικής Δημουλά”\n16/3/2026\nΘέμα: “Η γνώση και η φιλοσοφία στον Άγγελο Κανιούρα”
URL:https://livingforfree.gr/event/ap-ilioupoli-e02/2026-03-16/
LOCATION:Δημοτική Βιβλιοθήκη Ηλιούπολης\, Νικομάχου 18\, Ηλιούπολη\, Αττική\, Greece
CATEGORIES:Ομιλίες
ATTACH;FMTTYPE=image/jpeg:https://livingforfree.gr/wp-content/uploads/2025/10/Ανοιχτό-Πανεπιστήμιο-Ηλιούπολης-2025.jpg
GEO:37.9274026;23.7498041
X-APPLE-STRUCTURED-LOCATION;VALUE=URI;X-ADDRESS=Δημοτική Βιβλιοθήκη Ηλιούπολης Νικομάχου 18 Ηλιούπολη Αττική Greece;X-APPLE-RADIUS=500;X-TITLE=Νικομάχου 18:geo:23.7498041,37.9274026
END:VEVENT
BEGIN:VEVENT
DTSTART;TZID=Europe/Athens:20260316T180000
DTEND;TZID=Europe/Athens:20260316T210000
DTSTAMP:20260419T174545
CREATED:20260302T174112Z
LAST-MODIFIED:20260302T174112Z
UID:10015158-1773684000-1773694800@livingforfree.gr
SUMMARY:Σεμινάριο Η Δύναμη της Επικοινωνίας
DESCRIPTION:Ο Εκπαιδευτικός Όμιλος New York College και οι Εκδόσεις Διόπτρα συνδιοργανώνουν ένα τρίωρο εντατικό σεμινάριο με θέμα: “Η Δύναμη της Επικοινωνίας: Από την πρώτη εντύπωση στην διαρκή επιρροή” την Δευτέρα 16 Μαρτίου και ώρα 18:00 – 21:00 στο Βιβλιοπωλείο Διόπτρα (Σόλωνος 93-95\, Αθήνα).\nΜε εισηγητή τον Σπύρο Σπυρόπουλο\, NYC Business Development Director\, Business & Executive Coach\, Senior Professional Member of Hellenic Institute of Coaching \, θα αναλύσουμε τις τεχνικές που κάνουν την επικοινωνία αποτελεσματική\, την ψυχολογία του συνομιλητή και τη διαχείριση δύσκολων διαλόγων. \nΤι περιλαμβάνει η συμμετοχή:\nΔωρεάν Παρακολούθηση: Η είσοδος είναι ελεύθερη για το κοινό\, στο πλαίσιο της κοινωνικής προσφοράς των δύο οργανισμών.\nΠιστοποίηση: Οι συμμετέχοντες θα λάβουν πιστοποιητικό παρακολούθησης από το Κ.Δ.Β.Μ. New York College\, το Athens Leadership Lab και τις Εκδόσεις Διόπτρα\, ενισχύοντας το βιογραφικό τους.\nBonus: Κουπόνια έκπτωσης για τα αγαπημένα σου βιβλία από την Διόπτρα.\nΚρατήσεις: Θα τηρηθεί αυστηρή σειρά προτεραιότητας. Απαραίτητη η ατομική κράτηση θέσης.
URL:https://livingforfree.gr/event/seminario-i-dynami-tis-epikinonias/
LOCATION:Βιβλιοπωλείο Διόπτρα\, Σόλωνος 93\, Αθήνα\, Αττική\, 10678\, Greece
CATEGORIES:Ομιλίες
ATTACH;FMTTYPE=image/jpeg:https://livingforfree.gr/wp-content/uploads/2026/03/nyc.jpg
GEO:37.983565;23.734158
X-APPLE-STRUCTURED-LOCATION;VALUE=URI;X-ADDRESS=Βιβλιοπωλείο Διόπτρα Σόλωνος 93 Αθήνα Αττική 10678 Greece;X-APPLE-RADIUS=500;X-TITLE=Σόλωνος 93:geo:23.734158,37.983565
END:VEVENT
BEGIN:VEVENT
DTSTART;TZID=Europe/Athens:20260316T183000
DTEND;TZID=Europe/Athens:20260316T203000
DTSTAMP:20260419T174545
CREATED:20260313T204333Z
LAST-MODIFIED:20260313T204333Z
UID:10015272-1773685800-1773693000@livingforfree.gr
SUMMARY:Παρουσίαση Αυγά μάτια και τηγανιτές πατάτες στο Γαλάτσι
DESCRIPTION:Πρώτη παρουσίαση του μυθιστορήματος «Αυγά μάτια και τηγανιτές πατάτες – Επεπόθησεν η ψυχή μου» του Τάσου Πασπάλα στο Πολιτιστικό Κέντρο «Καμίνι». Οι Εκδόσεις Πεζογράφος παρουσιάζουν για πρώτη φορά στο κοινό το νέο μυθιστόρημα του Τάσου Πασπάλα με τίτλο «Αυγά μάτια και τηγανιτές πατάτες – Επεπόθησεν η ψυχή μου»\, σε μια εκδήλωση που θα πραγματοποιηθεί τη Δευτέρα 16 Μαρτίου 2026 και ώρα 18:30 στο Πολιτιστικό Κέντρο «Καμίνι» (Ρεθύμνης 36 & Καραϊσκάκη Γεωργίου\, Γαλάτσι). Το νέο έργο του συγγραφέα αποτελεί μια ιστορία που ταξιδεύει τον αναγνώστη στις λεωφόρους της κλασικής λογοτεχνίας\, ενώ ταυτόχρονα τον οδηγεί με ιδιαίτερη αφηγηματική δύναμη στον σύγχρονο λογοτεχνικό λόγο. \nΓια το βιβλίο θα μιλήσουν: \n\n(Προλογίζει) Μάνος Ελευθερίου\, π. Λέκτορας Ελληνικής Λογοτεχνίας Πανεπιστημίου Ελσίνκι\nΚαίτη Λιανού\, συγγραφέας\nΊκαρος Πετρόπουλος\, ενεργός πολίτης\nΔημήτρης Στεφανάκης\, συγγραφέας\nΣταμάτης Τζελέπης\, ηθοποιός\n\nΣύνοψη του έργου Το μυθιστόρημα μας μεταφέρει στην Ελλάδα του 1944. Με την απελευθέρωση\, η επιστροφή του Σαλογιάννη στο χωριό πυροδοτεί ένα τριπλό φονικό\, στο οποίο ο νεαρός Στρατής δολοφονεί τον βιολογικό του πατέρα. Για τον κεντρικό αυτό ήρωα\, ο Παπαναστάσης σημειώνει: «Ποτέ του δεν υπήρξε σαλός· σαλός εγίνηκε στα στόματα του κόσμου».\nΟ Στρατής καταφεύγει στον Πειραιά αναζητώντας την αλήθεια. Εκεί\, ανάμεσα στους τεκέδες και τους ήχους του ρεμπέτικου\, ανακαλύπτει τις σκληρές πραγματικότητες των πολεμικών μετώπων και βιώνει έναν έντονο έρωτα με τη Δάφνη. Το έργο σκιαγραφεί πρόσωπα και καταστάσεις μιας ιστορικής περιόδου κατά την οποία η Ελλάδα δοκιμαζόταν σκληρά. \nΛίγα λόγια για τον συγγραφέα Ο Τάσος Πασπάλας γεννήθηκε στο Μάζι Μαλεσίνας Φθιώτιδας. Συστήθηκε στο αναγνωστικό κοινό το 2019 με το μυθιστόρημα «Νικῶσα». Αντλώντας έμπνευση από τον τόπο του και τις μνήμες που τον διαμόρφωσαν\, επιστρέφει με ένα νέο έργο γεμάτο ζωντανούς χαρακτήρες και δυνατές αφηγήσεις.
URL:https://livingforfree.gr/event/parousiasi-avga-matia-ke-tiganites-patates-sto-galatsi/
LOCATION:Πολιτιστικό Κέντρο Καμίνι\, Ρεθύμνης & Χρήστου Καψάλη\, Γαλάτσι\, Αττική\, 11146\, Greece
CATEGORIES:Αφήγηση - Βιβλίο
ATTACH;FMTTYPE=image/jpeg:https://livingforfree.gr/wp-content/uploads/2026/03/avga.jpg
GEO:38.0156006;23.7498244
X-APPLE-STRUCTURED-LOCATION;VALUE=URI;X-ADDRESS=Πολιτιστικό Κέντρο Καμίνι Ρεθύμνης & Χρήστου Καψάλη Γαλάτσι Αττική 11146 Greece;X-APPLE-RADIUS=500;X-TITLE=Ρεθύμνης & Χρήστου Καψάλη:geo:23.7498244,38.0156006
END:VEVENT
BEGIN:VEVENT
DTSTART;TZID=Europe/Athens:20260316T190000
DTEND;TZID=Europe/Athens:20260316T210000
DTSTAMP:20260419T174545
CREATED:20251230T131052Z
LAST-MODIFIED:20251230T135558Z
UID:10014653-1773687600-1773694800@livingforfree.gr
SUMMARY:Ανοικτό Πανεπιστήμιο Περιστερίου
DESCRIPTION:Δημοτικό Ελεύθερο Ανοικτό Πανεπιστήμιο Περιστερίου\nΑκαδημαϊκό Έτος 2025 – 2026\nΤο Δημοτικό Ελεύθερο Ανοικτό Πανεπιστήμιο (ΔΕΑΠ) Περιστερίου με τη συνεργασία της Δημοτικής Βιβλιοθήκης και της Κοινωφελούς Δημοτικής Επιχείρησης Πολιτιστικής Ανάπτυξης του Δήμου Περιστερίου (ΔΕΠΑΔΠ)\, ανοίγει τις πύλες του για το ακαδημαϊκό έτος 2025–2026\, συνεχίζοντας τον επιτυχημένο θεσμό που έχει κερδίσει την εμπιστοσύνη και τη συμμετοχή χιλιάδων πολιτών.\nΓια περισσότερες πληροφορίες – συμμετοχές: Δημοτική Βιβλιοθήκη Περιστερίου\, τηλ.:2105716057\, www.dvivlper.gr\, email: info@dvivlper.gr\nΟι διαλέξεις θα πραγματοποιούνται στο Συνεδριακό – Πολιτιστικό Κέντρο του Δημαρχιακού Μεγάρου (Καραθεοδωρή και Εθν. Αντιστάσεως – στάση Μετρό «Περιστέρι»)\, κάθε Δευτέρα 19:00 – 21:00. \nΠατήστε εδώ για να δείτε το πλήρες πρόγραμμα \n16 ΜΑΡΤΙΟΥ 2026: Λάγιος Θανάσης\, Δρ. Φιλοσοφίας\, ΕΚΠΑ\, Θέμα: “Νίτσε και Φουκώ: Η Φιλοσοφία επί του (Παρ)όντος”
URL:https://livingforfree.gr/event/deap2526-17/
LOCATION:Δημαρχείο Περιστερίου\, πλατεία Δημοκρατίας\, Περιστέρι\, Αττική\, Greece
CATEGORIES:Ομιλίες
ATTACH;FMTTYPE=image/jpeg:https://livingforfree.gr/wp-content/uploads/2025/09/SCREEN_PANEPISTHMIO-03.jpg
GEO:38.0125971;23.6957835
X-APPLE-STRUCTURED-LOCATION;VALUE=URI;X-ADDRESS=Δημαρχείο Περιστερίου πλατεία Δημοκρατίας Περιστέρι Αττική Greece;X-APPLE-RADIUS=500;X-TITLE=πλατεία Δημοκρατίας:geo:23.6957835,38.0125971
END:VEVENT
BEGIN:VEVENT
DTSTART;TZID=Europe/Athens:20260316T190000
DTEND;TZID=Europe/Athens:20260316T210000
DTSTAMP:20260419T174545
CREATED:20260110T201618Z
LAST-MODIFIED:20260110T204049Z
UID:10014750-1773687600-1773694800@livingforfree.gr
SUMMARY:Η Χάννα Άρεντ για την κοινοτοπία του κακού στη Νέα Σμύρνη
DESCRIPTION:Σεμινάρια Πολιτικής Ιστορίας στη Νέα Σμύρνη\nΚύκλος Σεμιναρίων Πολιτικής και Ιστορίας με τον γενικό τίτλο “Το Πανεπιστήμιο στην Κοινωνία”\, που θα πραγματοποιηθεί στο πλαίσιο Μνημονίου Συνεργασίας ανάμεσα στον Δήμο Νέας Σμύρνης και το Πάντειο Πανεπιστήμιο.\nΤα σεμινάρια πραγματοποιούνται μέχρι τις 23 Μαρτίου 2026 κάθε Δευτέρα\, 19:00-21:00\, στον Δημοτικό Πολυχώρο “Γαλαξιας” και οι δημότες θα έχουν την ευκαιρία να παρακολουθούν δωρεάν διαλέξεις από καταξιωμένους Καθηγητές του Παντείου για θέματα που απασχολούν την δημόσια σφαίρα. Τον γενικό συντονισμό έχει ο Πρόεδρος του Τμήματος Πολιτικής Επιστήμης και Ιστορίας του Παντείου Χάρης Αθανασιάδης.\nΤο πρόγραμμα των σεμιναρίων έχει ως εξής:\n19 Ιανουαρίου: «Θα αντέξει η Δημοκρατία;» Εισηγητής Δημήτρης Χριστόπουλος\n26 Ιανουαρίου: «Πρόσφυγες και Αριστερά: μία σύνθετη σχέση». Εισηγητής Κωστής Καρπόζηλος\n2 Φεβρουαρίου: «Τα κόμματα σε κρίση; Η εξασθένηση ενός κεντρικού θεσμού της Δημοκρατίας». Εισηγητής Μάκης Μοσχονάς\n9 Φεβρουαρίου: «Μετανάστευση προς την Ελλάδα: μύθοι και πραγματικότητα» Εισηγητής Λάμπρος Μπαλτσιώτης\n16 Φεβρουαρίου: «Χρέος και κυριαρχία» Εισηγητής Θωμάς Νουτσόπουλος\n2 Μαρτίου: «ΜΜΕ και Πολιτική στην Μεταπολίτευση» Εισηγήτρια Φανή Κουντούρη\n9 Μαρτίου: «Η πολιτική σε κρίση» Εισηγητής Στέφανος Δημητρίου\n16 Μαρτίου: «Η Χάννα Άρεντ για την κοινοτοπία του κακού» Εισηγήτρια Βίκυ Ιακώβου\n23 Μαρτίου: «Είκοσι ένα και συλλογική μνήμη» Εισηγήτρια Χριστίνα Κουλούρη.\nΕίσοδος ελεύθερη.
URL:https://livingforfree.gr/event/seminaria-politikis-istorias26-08/
LOCATION:Πολυχώρος Γαλαξίας Νέα Σμύρνη\, 2ας Μαΐου 16\, Νέα Σμύρνη\, Αττική\, Greece
CATEGORIES:Ομιλίες
ATTACH;FMTTYPE=image/jpeg:https://livingforfree.gr/wp-content/uploads/2026/01/Σεμινάρια-Πολιτικής-Ιστορίας-στη-Νέα-Σμύρνη.jpg
GEO:37.9466671;23.7127483
X-APPLE-STRUCTURED-LOCATION;VALUE=URI;X-ADDRESS=Πολυχώρος Γαλαξίας Νέα Σμύρνη 2ας Μαΐου 16 Νέα Σμύρνη Αττική Greece;X-APPLE-RADIUS=500;X-TITLE=2ας Μαΐου 16:geo:23.7127483,37.9466671
END:VEVENT
BEGIN:VEVENT
DTSTART;TZID=Europe/Athens:20260316T190000
DTEND;TZID=Europe/Athens:20260316T210000
DTSTAMP:20260419T174545
CREATED:20260306T223741Z
LAST-MODIFIED:20260306T225306Z
UID:10015212-1773687600-1773694800@livingforfree.gr
SUMMARY:Ημέρα της Γυναίκας στην Αγία Παρασκευή
DESCRIPTION:Ημέρα της Γυναίκας στην Αγία Παρασκευή\nΗ 8η Μαρτίου αποτελεί ημέρα μνήμης και αναγνώρισης των ιστορικών αγώνων των γυναικών\, αλλά και αφετηρία ουσιαστικού διαλόγου για τις σύγχρονες διεκδικήσεις γύρω από τα δικαιώματα\, την ισότητα\, τη θεσμική εκπροσώπηση και την εξάλειψη των έμφυλων διακρίσεων. Ο Δήμος Αγίας Παρασκευής\, με αφορμή την Παγκόσμια Ημέρα της Γυναίκας\, τιμά τη διαδρομή\, τους αγώνες και τη διαρκή συμβολή των γυναικών στην κοινωνία\, μέσα από ένα πολυθεματικό πρόγραμμα δράσεων.\nΣε συνδιοργάνωση με το Κέντρο Γυναίκας\, την Κινηματογραφική Λέσχη Αγίας Παρασκευής\, το Λύκειο Ελληνίδων – Περιφερειακό Τμήμα Χορού Αγίας Παρασκευής\, τη Δημοτική Επιτροπή Ισότητας και τα Εργαστήρια Τέχνης\, παρουσιάζεται μια σειρά εκδηλώσεων που προβάλλουν τη δημιουργία και την ενδυνάμωση\, ενώ παράλληλα αναδεικνύουν τις διεκδικήσεις για ουσιαστική ισότητα\, προστασία από κάθε μορφή βίας και διακρίσεων και ισότιμη συμμετοχή στη δημόσια και κοινωνική ζωή. \nΟ Δήμαρχος Αγίας Παρασκευής Γιάννης Μυλωνάκης δήλωσε: «Η Παγκόσμια Ημέρα της Γυναίκας αποτελεί μια ουσιαστική υπενθύμιση ότι η ισότητα δεν είναι δεδομένη\, αλλά διαρκής διεκδίκηση και συλλογική ευθύνη. Ευχαριστώ θερμά όλους τους φορείς που συνδιοργανώνουν τις εκδηλώσεις\, καθώς και όλους όσοι συμμετέχουν και συμβάλλουν στην επιτυχία αυτής της σημαντικής πρωτοβουλίας του Δήμου». \nΔευτέρα 16 Μαρτίου 2026\nΔημοτική Βιβλιοθήκη Αγίας Παρασκευής – Μουσείο Αλέκου Κοντόπουλου (Αναγνωστήριο)\nΚοντοπούλου 13 \n19:00 – Προβολή Ντοκιμαντέρ\n«Στη Βουή του Κόσμου»\nΑπό τη Δημοτική Επιτροπή Ισότητας\nΤο ντοκιμαντέρ φωτίζει την πορεία και τους αγώνες του ελληνικού φεμινιστικού κινήματος μέσα στον χρόνο. Θα ακολουθήσει συζήτηση με τις συντελέστριες της ταινίας.\nΣυντονισμός:\nΑλίκη Κοσυφολόγου
URL:https://livingforfree.gr/event/imera-tis-gynekas-stin-agia-paraskevi-5/
LOCATION:Δημοτική Βιβλιοθήκη Αγίας Παρασκευής Μουσείο Αλέκου Κοντόπουλου\, Αλ. Κοντόπουλου 13\, Αγία Παρασκευή\, Αττική\, Greece
CATEGORIES:Προβολή
ATTACH;FMTTYPE=image/webp:https://livingforfree.gr/wp-content/uploads/2026/03/Ημέρα-της-Γυναίκας-στην-Αγία-Παρασκευή.webp
GEO:38.009984;23.821501
X-APPLE-STRUCTURED-LOCATION;VALUE=URI;X-ADDRESS=Δημοτική Βιβλιοθήκη Αγίας Παρασκευής Μουσείο Αλέκου Κοντόπουλου Αλ. Κοντόπουλου 13 Αγία Παρασκευή Αττική Greece;X-APPLE-RADIUS=500;X-TITLE=Αλ. Κοντόπουλου 13:geo:23.821501,38.009984
END:VEVENT
END:VCALENDAR