BEGIN:VCALENDAR
VERSION:2.0
PRODID:-//LIVING for free - ECPv6.15.20//NONSGML v1.0//EN
CALSCALE:GREGORIAN
METHOD:PUBLISH
X-WR-CALNAME:LIVING for free
X-ORIGINAL-URL:https://livingforfree.gr
X-WR-CALDESC:Events for LIVING for free
REFRESH-INTERVAL;VALUE=DURATION:PT1H
X-Robots-Tag:noindex
X-PUBLISHED-TTL:PT1H
BEGIN:VTIMEZONE
TZID:Europe/Athens
BEGIN:DAYLIGHT
TZOFFSETFROM:+0200
TZOFFSETTO:+0300
TZNAME:EEST
DTSTART:20250330T010000
END:DAYLIGHT
BEGIN:STANDARD
TZOFFSETFROM:+0300
TZOFFSETTO:+0200
TZNAME:EET
DTSTART:20251026T010000
END:STANDARD
BEGIN:DAYLIGHT
TZOFFSETFROM:+0200
TZOFFSETTO:+0300
TZNAME:EEST
DTSTART:20260329T010000
END:DAYLIGHT
BEGIN:STANDARD
TZOFFSETFROM:+0300
TZOFFSETTO:+0200
TZNAME:EET
DTSTART:20261025T010000
END:STANDARD
BEGIN:DAYLIGHT
TZOFFSETFROM:+0200
TZOFFSETTO:+0300
TZNAME:EEST
DTSTART:20270328T010000
END:DAYLIGHT
BEGIN:STANDARD
TZOFFSETFROM:+0300
TZOFFSETTO:+0200
TZNAME:EET
DTSTART:20271031T010000
END:STANDARD
END:VTIMEZONE
BEGIN:VEVENT
DTSTART;TZID=Europe/Athens:20260420T180000
DTEND;TZID=Europe/Athens:20260420T200000
DTSTAMP:20260420T020615
CREATED:20260401T191021Z
LAST-MODIFIED:20260401T191021Z
UID:10015445-1776708000-1776715200@livingforfree.gr
SUMMARY:Αμμόχωστος Δεσμώτισσα
DESCRIPTION:Αμμόχωστος Δεσμώτισσα | Μενέλαος Αβραάμ \nΜε το Φωνητικό Σύνολο “Διάσταση”.\nΜΟΥΣΙΚΗ Παντελής Θαλασσινός\, Νεοκλής Νεοφυτίδης\, Κώστας Χατζής\, Κωνσταντίνος Μακαρίτης.\nΤΡΑΓΟΥΔΟΥΝ Παντελής Θαλασσινός\, Νεοκλής Νεοφυτίδης\, Γιώργος Ιωάννου\, Άντρεα Σοφοκλέους. \nΔευτέρα 20 Απριλίου\, 2026 18:00\nΣΠΙΤΙ ΤΗΣ ΚΥΠΡΟΥ | Ξενοφώντος 2Α\, Σύνταγμα\nΕΙΣΟΔΟΣ ΕΛΕΥΘΕΡΗ
URL:https://livingforfree.gr/event/ammochostos-desmotissa/
LOCATION:Το σπίτι της Κύπρου (Πρεσβεία Κύπρου)\, Ξενοφώντος 2\, Αθήνα\, Αττική\, 10557\, Greece
CATEGORIES:Παιδικό
ATTACH;FMTTYPE=image/jpeg:https://livingforfree.gr/wp-content/uploads/2026/04/20-4-26_webphoto-1024x555-1.jpg
GEO:37.974159;23.7347695
X-APPLE-STRUCTURED-LOCATION;VALUE=URI;X-ADDRESS=Το σπίτι της Κύπρου (Πρεσβεία Κύπρου) Ξενοφώντος 2 Αθήνα Αττική 10557 Greece;X-APPLE-RADIUS=500;X-TITLE=Ξενοφώντος 2:geo:23.7347695,37.974159
END:VEVENT
BEGIN:VEVENT
DTSTART;TZID=Europe/Athens:20260420T180000
DTEND;TZID=Europe/Athens:20260420T200000
DTSTAMP:20260420T020615
CREATED:20260405T123449Z
LAST-MODIFIED:20260405T123449Z
UID:10015479-1776708000-1776715200@livingforfree.gr
SUMMARY:Bullying: το παιδί μου ως θύμα – το παιδί μου ως θύτης
DESCRIPTION:Η Σχολή Γονέων της Αντιδημαρχίας Οικογενειακής Πολιτικής του Δήμου Βριλησσίων διοργανώνει ένα σημαντικό βιωματικό εργαστήριο με θέμα: «Bullying: το παιδί μου ως θύμα – το παιδί μου ως θύτης»\, με στόχο την ενημέρωση\, ευαισθητοποίηση και ενδυνάμωση των γονέων απέναντι σε ένα φαινόμενο που επηρεάζει βαθιά την ψυχική υγεία και την κοινωνική ανάπτυξη των παιδιών. \nΤο εργαστήριο θα πραγματοποιηθεί τη Δευτέρα 20 Απριλίου 2026 και ώρα 18:00\, στην αίθουσα του πάρκου Μίκης Θεοδωράκης (πρ. ΤΥΠΕΤ).\nΜέσα από διαδραστικές ασκήσεις και βιωματικές τεχνικές\, οι συμμετέχοντες θα έχουν την ευκαιρία: \n\nνα κατανοήσουν σε βάθος το φαινόμενο του σχολικού εκφοβισμού\,\nνα αναγνωρίσουν τα σημάδια τόσο στο παιδί-θύμα όσο και στο παιδί-θύτη\,\nνα αναπτύξουν δεξιότητες διαχείρισης και υποστήριξης\,\nνα ανταλλάξουν εμπειρίες και καλές πρακτικές.\n\nΛίγα λόγια για τη συντονίστρια Η Άσπα Παρδάλη είναι Πιστοποιημένη Σύμβουλος Ψυχικής Υγείας\, τακτικό μέλος της Ελληνικής Εταιρείας Συμβουλευτικής και της European Association for Counselling. Ολοκλήρωσε τις σπουδές της στο Πρόγραμμα Ειδίκευσης στη Συστημική Συμβουλευτική\, στο Εργαστήριο Διερεύνησης Ανθρωπίνων Σχέσεων ενώ είναι πτυχιούχος Κοινωνικής Ανθρωπολογίας από το Πάντειο Πανεπιστήμιο. Εργάστηκε ως σύμβουλος γονέων στο Διεπιστημονικό Κέντρο Αθηνών για το παιδί και την οικογένεια\, με κύριο αντικείμενο την υποστήριξη των γονέων και την ενίσχυση του ρόλου τους.\nΠληροφορίες-δηλώσεις συμμετοχής στο τηλέφωνο 210-6131204 της Αντιδημαρχίας Οικογενειακής Πολιτικής\, Ισότητας και Προσχολικής Ηλικίας ή στο mail ant.oikogeneias@vrilissia.gr.\nΗ Σχολή Γονέων του Δήμου Βριλησσίων έρχεται να συνδράμει τους γονείς στο δύσκολο έργο τους και να τους βοηθήσει να κατανοήσουν τα προβλήματα και να δώσουν λύσεις.\nΗ Σχολή Γονέων δεν παρέχει στους γονείς μόνο πληροφόρηση\, αλλά τα αναγκαία εφόδια που θα τους βοηθήσουν να εφαρμόσουν τις γνώσεις αυτές και να τις αξιοποιήσουν με τον καλύτερο δυνατό τρόπο. Η μόνη εκπαίδευση που έχουμε όταν γινόμαστε γονείς\, είναι αυτή που μας έχουν χαρίσει\, μέσα από τον τρόπο που μας μεγάλωσαν\, οι δικοί μας γονείς. Για την προαγωγή της ψυχικής και της σωματικής υγείας του παιδιού\, τη διαμόρφωση σωστής προσωπικότητας\, οι γονείς χρειάζονται περισσότερα εφόδια από εκείνα που τους προσφέρει η αγάπη και το ένστικτό τους. Χρειάζονται γνώσεις\, δεξιότητες\, συνεχή ενημέρωση και αναζήτηση\, η οποία θα οδηγήσει τους γονείς στην αυτοσυνειδησία\, στη γνωριμία με τον εαυτό τους\, στην αυτο-αποδοχή και τελικά στην αποδοχή των άλλων και κυρίως των παιδιών τους.\nΣε αυτό το πλαίσιο η Σχολή Γονέων της Αντιδημαρχίας Οικογενειακής Πολιτικής\, Ισότητας και Προσχολικής Ηλικίας του Δήμου Βριλησσίων δίνει τη δυνατότητα της εμπειρίας της συμμετοχής σε ομάδα\, η οποία δεν παρέχει μόνο πλούσιες ιδέες και γνώσεις\, αλλά μέσα από την αλληλεπίδραση των μελών οι γονείς ανατροφοδοτούνται δημιουργικά και μαθαίνουν να επικοινωνούν ουσιαστικά\, εξελίσσονται και διαφοροποιούνται.
URL:https://livingforfree.gr/event/bullying-to-pedi-mou-os-thyma-to-pedi-mou-os-thytis/
LOCATION:Πάρκο Μίκης Θεοδωράκης (πρώην ΤΥΠΕΤ) Βριλήσσια\, Μπακογίαννη 38\, Βριλήσσια\, Αττική\, 152 38\, Greece
CATEGORIES:Ομιλίες
ATTACH;FMTTYPE=image/jpeg:https://livingforfree.gr/wp-content/uploads/2025/02/Σχολή-γονέων-Βριλησσίων.jpg
GEO:38.037942;23.83652
X-APPLE-STRUCTURED-LOCATION;VALUE=URI;X-ADDRESS=Πάρκο Μίκης Θεοδωράκης (πρώην ΤΥΠΕΤ) Βριλήσσια Μπακογίαννη 38 Βριλήσσια Αττική 152 38 Greece;X-APPLE-RADIUS=500;X-TITLE=Μπακογίαννη 38:geo:23.83652,38.037942
END:VEVENT
BEGIN:VEVENT
DTSTART;TZID=Europe/Athens:20260420T190000
DTEND;TZID=Europe/Athens:20260420T210000
DTSTAMP:20260420T020615
CREATED:20251230T131052Z
LAST-MODIFIED:20251230T135913Z
UID:10014655-1776711600-1776718800@livingforfree.gr
SUMMARY:Ανοικτό Πανεπιστήμιο Περιστερίου
DESCRIPTION:Δημοτικό Ελεύθερο Ανοικτό Πανεπιστήμιο Περιστερίου\nΑκαδημαϊκό Έτος 2025 – 2026\nΤο Δημοτικό Ελεύθερο Ανοικτό Πανεπιστήμιο (ΔΕΑΠ) Περιστερίου με τη συνεργασία της Δημοτικής Βιβλιοθήκης και της Κοινωφελούς Δημοτικής Επιχείρησης Πολιτιστικής Ανάπτυξης του Δήμου Περιστερίου (ΔΕΠΑΔΠ)\, ανοίγει τις πύλες του για το ακαδημαϊκό έτος 2025–2026\, συνεχίζοντας τον επιτυχημένο θεσμό που έχει κερδίσει την εμπιστοσύνη και τη συμμετοχή χιλιάδων πολιτών.\nΓια περισσότερες πληροφορίες – συμμετοχές: Δημοτική Βιβλιοθήκη Περιστερίου\, τηλ.:2105716057\, www.dvivlper.gr\, email: info@dvivlper.gr\nΟι διαλέξεις θα πραγματοποιούνται στο Συνεδριακό – Πολιτιστικό Κέντρο του Δημαρχιακού Μεγάρου (Καραθεοδωρή και Εθν. Αντιστάσεως – στάση Μετρό «Περιστέρι»)\, κάθε Δευτέρα 19:00 – 21:00. \nΠατήστε εδώ για να δείτε το πλήρες πρόγραμμα \n20 ΑΠΡΙΛΙΟΥ 2026: Μαχά-Μπιζούμη Νάντια\, Αναπλ. Καθηγήτρια Λαογραφίας του Δημοκρίτειου Πανεπιστημίου Θράκης\, Θέμα: “Ο Συμβολικός και Κοινωνικός Ρόλος των Κοσμημάτων στις Παραδοσιακές Κοινότητες”
URL:https://livingforfree.gr/event/deap2526-19/
LOCATION:Δημαρχείο Περιστερίου\, πλατεία Δημοκρατίας\, Περιστέρι\, Αττική\, Greece
CATEGORIES:Ομιλίες
ATTACH;FMTTYPE=image/jpeg:https://livingforfree.gr/wp-content/uploads/2025/09/SCREEN_PANEPISTHMIO-03.jpg
GEO:38.0125971;23.6957835
X-APPLE-STRUCTURED-LOCATION;VALUE=URI;X-ADDRESS=Δημαρχείο Περιστερίου πλατεία Δημοκρατίας Περιστέρι Αττική Greece;X-APPLE-RADIUS=500;X-TITLE=πλατεία Δημοκρατίας:geo:23.6957835,38.0125971
END:VEVENT
BEGIN:VEVENT
DTSTART;TZID=Europe/Athens:20260420T190000
DTEND;TZID=Europe/Athens:20260420T210000
DTSTAMP:20260420T020615
CREATED:20260417T085056Z
LAST-MODIFIED:20260417T085056Z
UID:10015561-1776711600-1776718800@livingforfree.gr
SUMMARY:Αποανάπτυξη κοινότητες κοινά στο Χαλάνδρι
DESCRIPTION:Τη Δευτέρα 20/04/2026 και ώρα 19:00 στο Κέντρο Νεότητας (Δαναΐδων & Αντιγόνης) το Ελεύθερο Πανεπιστήμιο του Δήμου Χαλανδρίου φιλοξενεί την ενδιαφέρουσα όσο και σημαντική εκδήλωση με θέμα: «Αποανάπτυξη- κοινότητες- κοινά» Επιθυμία ή αναγκαιότητα; \nΟμιλητής 1ος μέσω βιντεοσκοπημένης εισήγησης θα είναι ο Γιώργος Καλλής Καθηγητής στο Ινστιτούτο Περιβαλλοντικής Επιστήμης και Τεχνολογίας\, στο Αυτόνομο Πανεπιστήμιο της Βαρκελώνης- ICREA. \nΟμιλητής 2ος θα είναι ο Θανάσης Παπαθανασίου Αναπληρωτής Καθηγητής της Ανώτατης Εκκλησιαστικής Ακαδημίας της Αθήνας\, Νομικός\, Διευθυντής του περιοδικού «Σύνταξη». \nΟμιλητής 3ος θα είναι Γιώργος Παπανικολάου Επίκουρος Καθηγητής Παθοφυσιολογίας-Γενετικής του Ανθρώπου\, στο τμήμα Επιστήμης-Διαιτολογίας-Διατροφής του Χαροκοπείου Πανεπιστημίου. \nΗ όλη διάλεξη αναμένεται να κινηθεί στους παρακάτω άξονες: Όταν λιγότερα σημαίνουν περισσότερα. Η συνεχής καπιταλιστική ανάπτυξη υπόσχεται ευημερία\, αλλά αφήνει πίσω εξάντληση\, ανισότητες και καταναλωτική υπερβολή. Η αποανάπτυξη προτείνει έναν άλλο δρόμο\, ζωή με λιγότερη σπατάλη\, περισσότερη συνεργασία και ουσιαστική φροντίδα για τα κοινά μας. Κοινότητες και κοινά δεν είναι απλώς έννοιες είναι όσα μοιραζόμαστε και προστατεύουμε μαζί. Επιθυμία ή αναγκαιότητα; \nΤο συντονισμό της όλης εκδήλωσης επιμελείται ο Αρχιτέκτονας Δημήτρης Στεργίου.
URL:https://livingforfree.gr/event/apoanaptyxi-kinotites-kina-sto-chalandri/
LOCATION:Κέντρο Νεότητας του Δήμου Χαλανδρίου\, Αντιγόνης & Δαναΐδων\, Χαλάνδρι\, Αττική\, Greece
CATEGORIES:Ομιλίες
ATTACH;FMTTYPE=image/jpeg:https://livingforfree.gr/wp-content/uploads/2026/04/Afises-Panepistimio-20-04-2026-724x1024-1.jpg
GEO:38.013659;23.8062534
X-APPLE-STRUCTURED-LOCATION;VALUE=URI;X-ADDRESS=Κέντρο Νεότητας του Δήμου Χαλανδρίου Αντιγόνης & Δαναΐδων Χαλάνδρι Αττική Greece;X-APPLE-RADIUS=500;X-TITLE=Αντιγόνης & Δαναΐδων:geo:23.8062534,38.013659
END:VEVENT
BEGIN:VEVENT
DTSTART;TZID=Europe/Athens:20260420T190000
DTEND;TZID=Europe/Athens:20260420T210000
DTSTAMP:20260420T020615
CREATED:20260417T174236Z
LAST-MODIFIED:20260417T174236Z
UID:10015573-1776711600-1776718800@livingforfree.gr
SUMMARY:Προβολή Blokade στου Ζωγράφου
DESCRIPTION:Επετειακή προβολή της ταινίας Blokade (2012) μαζί με τους συντελεστές \nΤα κρύα τελειώνουν και κανείς δεν μπορεί να εμποδίσει την άνοιξη! Μαζί με αυτή και οι προβολές της Γαρδένιας στο παρκάκι Ειρήνης επιστρέφουν δυναμικά. Πρώτος σταθμός η επετειακή προβολή (πρεμιέρα για μας) της ταινίας Blokade (2012) μαζί με τους συντελεστές. \nΤο «The Blockade» δεν είναι τίποτα λιγότερο ή τίποτα περισσότερο από μια μοναδική εκ των έσω ματιά στις φοιτητικές κινητοποιήσεις που έλαβαν χώρα τον Απρίλιο του 2009 στη Σχολή Ανθρωπιστικών και Κοινωνικών Επιστημών του Ζάγκρεμπ. Στα αυτιά του ελληνικού ακροατηρίου που έχει συνηθίσει στους θρύλους των μεγάλων εγχώριων αγώνων της μεταπολίτευσης ενάντια στις εκάστοτε εκπαιδευτικές αναδιαρθρώσεις μπορεί να φαντάζει “λίγο” εκ πρώτης όψεως. Το μικροσκόπιο όμως της Blokada δεν είναι εδώ για να στήσει ανδριάντες\, podium και θρύλους. Με απλότητα και τον στυγνό ρεαλισμό μιας κάμερας στον ώμο μέσα στη συνέλευση\, τη κινητοποίηση\, το πεζοδρόμιο αφηγείται τις πιο μαζικές\, διαρκείς και πολιτικά σημαντικές εκφράσεις του φοιτητικού κινήματος σε μια χώρα που από το 1971 θεωρούνταν “αμόλυντη” απο αντίστοιχα κινήματα.\nΔεν περιγράφει το “έπος” σε ένα περιβάλλον ηρωικό\, αλλά τη δυνατότητα για αγώνα νικηφόρο σε ένα πλαίσιο αποστείρωσης και φαινομενικής ήττας ( το οποίο φαντάζει όλο και πιο άβολα οικείο). \nΌπως μας αναφέρουν οι συντελεστές: “Ο αγώνας ενάντια στην εμπορευματοποίηση της εκπαίδευσης και η αποκλεισμός των μαθημάτων διήρκεσε 34 ημέρες. Η εξέγερση εξαπλώθηκε σε περισσότερες από 20 σχολές σε όλη τη χώρα και οι φοιτητές έγιναν ένα ενεργό και σημαντικό πολιτικό υποκείμενο. Σαν ομάδα του Blokada παρακολουθήσαμε τα πάντα: από τις ενθουσιώδεις συναντήσεις προετοιμασίας και την παρεμπόδιση των μαθημάτων μέχρι τα πρώτα σημάδια εξάντλησης\, μέσα από προσωπικές καταστάσεις και συζητήσεις αργά τη νύχτα\, από την αρχική υποστήριξη των περισσότερων μελών του διδακτικού προσωπικού μέχρι τη στιγμή που γύρισαν την πλάτη τους στο κίνημα και την προσπάθεια να επικοινωνήσουν με τον αγνοούμενο υπουργό Παιδείας. Αυτή η ταινία δείχνει ότι η παρεμπόδιση δεν ήταν απλώς φυσική και ότι έχει μια πολύ ευρύτερη σημασία.”\n“‘The Blockade’ is a unique view from within on the most massive\, longest\, and politically most significant student protest in the country\, since 1971\, that started in April of 2009 at the Faculty of humanities and Social Sciences in Zagreb. The struggle against the commercialization of education and the blockade of teaching classes lasted for 34 days. The rebellion spread onto more than 20 faculties across the country and the students became an active and relevant political subject. The director followed everything: from the exhilarating preparation meetings and blocking of classes to the first signs of exhaustion\, through personal situations and discussions late at night\, from the initial support of most faculty members to the moment they turned their back to the movement and the attempt to reach the missing minister of education. This film shows that the blockade was not just physical and that it has a much broader meaning.” \nΧωρίς το φόβο του ανέφικτου και με την ελπίδα του ρεαλιστικού σας καλούμε στο ντεμπούτο των θερινών προβολών της γαρδένιας στο παρκάκι Ειρήνης παρέα με τους συντελεστές του Blokada και αγωνιζόμενα φοιτητα από σχήματα της Αθήνας για κουβέντα\, προβληματισμό και δροσερά ποτάκια. \nΠάρκο Ειρήνης\nείσοδος από οδό Γ.Ζωγράφου 13\nΛεωφορεία: 608\,235\nστάση: 6η Ζωγράφου
URL:https://livingforfree.gr/event/provoli-blokade-stou-zografou/
LOCATION:Βίλα Ζωγράφου Πάρκο Ειρήνης\, Ζωγράφου 15\, Ζωγράφου\, Αττική\, 15772\, Greece
CATEGORIES:Προβολή
ATTACH;FMTTYPE=image/jpeg:https://livingforfree.gr/wp-content/uploads/2026/04/resized-b3accb27dd0ee4ec5d2c4191a8f52638.jpg
GEO:37.975948;23.773301
X-APPLE-STRUCTURED-LOCATION;VALUE=URI;X-ADDRESS=Βίλα Ζωγράφου Πάρκο Ειρήνης Ζωγράφου 15 Ζωγράφου Αττική 15772 Greece;X-APPLE-RADIUS=500;X-TITLE=Ζωγράφου 15:geo:23.773301,37.975948
END:VEVENT
BEGIN:VEVENT
DTSTART;TZID=Europe/Athens:20260420T190000
DTEND;TZID=Europe/Athens:20260420T210000
DTSTAMP:20260420T020615
CREATED:20260417T182327Z
LAST-MODIFIED:20260417T182327Z
UID:10015575-1776711600-1776718800@livingforfree.gr
SUMMARY:Συναυλία-διάλεξη Η μαθηματική ψυχή της μουσικής
DESCRIPTION:Η καλλιτεχνική δημιουργία δεν αποτελεί πεδίο ξένο προς τις επιστήμες. Ήδη\, από την αρχαιότητα\, τα μαθηματικά αποκρυπτογραφούν τις μορφές αρμονίας και αναλογίας που διέπουν τη μουσική\, ενώ οι τεχνολογικές εξελίξεις μετασχηματίζουν ριζικά την πρόσληψη\, τη σύνθεση και τη μετάδοση του ήχου. Στις μέρες μας\, οι σύγχρονες ψηφιακές τεχνολογίες εισέρχονται με τη σειρά τους σε αυτόν τον γόνιμο διάλογο\, εμβαυθύνοντας περαιτέρω την ιστορική αυτή αμφίδρομη σχέση.\nΜε αφετηρία μια πολυσχιδή προσωπικότητα\, τον Bertrand Maury\, μέλος της Ακαδημίας Επιστημών μαθηματικό και ταυτόχρονα πιανίστα\, αυτή η διάλεξη–συναυλία προτείνει μια εξερεύνηση των αντιστοιχιών ανάμεσα στον αφηρημένο συλλογισμό\, την αισθητική ευαισθησία και την ηχητική καινοτομία. Μέσα από συγκεκριμένα παραδείγματα\, διάλογο και μουσικές στιγμές\, θα αναδειχθεί ο τρόπος με τον οποίο τα μαθηματικά μοντέλα\, τα ψηφιακά εργαλεία και οι καλλιτεχνικές πρακτικές αλληλοτροφοδοτούνται\, διαμορφώνοντας το μέλλον της μουσικής δημιουργίας.»\nΔομημένη σε δύο μέρη\, η βραδιά θα ξεκινήσει με συναυλία του Bertrand Maury – με έργα των Johann Sebastian Bach\, Wolfgang Amadeus Mozart\, Claude Debussy\, Ludwig van Beethoven\, Frédéric Chopin και Sergei Rachmaninoff – και θα ακολουθήσει συζήτηση με την καθηγήτρια Αναστασία Γεωργάκη. \nΗ εκδήλωση εντάσσεται στον ετήσιο κύκλο «Ραντεβού στη Σίνα» του Γαλλικού Ινστιτούτου Ελλάδος. Σε συνεργασία με το Φεστιβάλ μαθηματικών και μουσικής Festum-pi. \nΟμιλητές\nBertrand Maury – Μαθηματικός με αργυρό μετάλλιο του CNRS (2022) και πιανίστας\nΟ Bertrand Maury είναι ένας μαθηματικός με έντονο ενδιαφέρον για τις διεπιστημονικές εφαρμογές\, που εκτείνονται από τις βιομηχανικές διαδικασίες έως τις κοινωνικές και βιολογικές επιστήμες. Υποστηρίζει μια ανοιχτή και διερευνητική επιστημονική προσέγγιση\, δίνοντας ιδιαίτερη έμφαση στη διαδικασία της μαθηματικής μοντελοποίησης\, χωρίς προκαταλήψεις ως προς τις έννοιες ή τις τεχνικές που χρησιμοποιούνται.\nΑναστασία Γεωργάκη – Καθηγήτρια Μουσικής Τεχνολογίας στο Εθνικό και Καποδιστριακό Πανεπιστήμιο Αθηνών\, όπου είναι επίσης διευθύντρια του Εργαστηρίου Μουσικής Ακουστικής και Τεχνολογίας\, καθώς και του μεταπτυχιακού προγράμματος «Μουσική Τεχνολογία και Σύγχρονες Πρακτικές». Σπούδασε φυσική και μουσική\, ενώ εκπόνησε τη διδακτορική της διατριβή στο IRCAM στο Παρίσι\, στον τομέα της μουσικής και μουσικολογίας του 20ού αιώνα\, με ειδίκευση στη μουσική τεχνολογία. Οι δραστηριότητές της περιλαμβάνουν τη διοργάνωση και συμμετοχή σε πολυάριθμα διεθνή συνέδρια\, καθώς και δημοσιεύσεις σε επιστημονικά περιοδικά και συλλογικούς τόμους. Η έρευνά της επικεντρώνεται στη χρήση των νέων τεχνολογιών στη μουσική (ερμηνεία\, δημιουργία\, παιδαγωγική και μουσικολογία) και σήμερα εστιάζει ιδιαίτερα στη φωνή\, στους ήχους της πανίδας\, στην κριτική ανάλυση της σύγχρονης μουσικής τεχνολογίας\, καθώς και στην ανάπτυξη λογισμικού για την έρευνα και τη μουσική δημιουργία. \n20 Απρ 2026 19:00\nΑμφιθέατρο Theo Angelopoulos – Γαλλικό Ινστιτούτο Ελλάδος\nΕίσοδος ελεύθερη – Ταυτόχρονη μετάφραση – Θα δοθούν βεβαιώσεις παρακολούθησης.
URL:https://livingforfree.gr/event/synavlia-dialexi-i-mathimatiki-psychi-tis-mousikis/
LOCATION:Γαλλικό Ινστιτούτο Αθηνών\, Σίνα 31\, Αθήνα\, Αττική\, Greece
CATEGORIES:Μουσική,Ομιλίες
ATTACH;FMTTYPE=image/jpeg:https://livingforfree.gr/wp-content/uploads/2026/04/666297056_1376345524531211_3184747025560519219_n.jpg
GEO:37.9821982;23.7387672
X-APPLE-STRUCTURED-LOCATION;VALUE=URI;X-ADDRESS=Γαλλικό Ινστιτούτο Αθηνών Σίνα 31 Αθήνα Αττική Greece;X-APPLE-RADIUS=500;X-TITLE=Σίνα 31:geo:23.7387672,37.9821982
END:VEVENT
BEGIN:VEVENT
DTSTART;TZID=Europe/Athens:20260420T200000
DTEND;TZID=Europe/Athens:20260420T220000
DTSTAMP:20260420T020615
CREATED:20260417T102139Z
LAST-MODIFIED:20260417T102139Z
UID:10015568-1776715200-1776722400@livingforfree.gr
SUMMARY:Νύχτες μαγικές κι ονειρεμένες στον Χολαργό
DESCRIPTION:Νύχτες μαγικές κι ονειρεμένες\nΟ Δήμος Παπάγου – Χολαργού\, παρουσιάζει μια συναυλία- αφιέρωμα στον αξεπέραστο Βασίλη Τσιτσάνη με τίτλο :«Νύχτες μαγικές κι ονειρεμένες»\, τη Δευτέρα 20 Απριλίου\, ώρα: 20.00. \nΟ Βασίλης Τσιτσάνης υπήρξε ο θεμελιωτής του λαϊκού μας τραγουδιού. Επηρέασε\, διαμόρφωσε\, εξέλιξε\, πλούτισε την μουσική\, την ερμηνεία\, την ενορχήστρωση και την θεματολογία του. Με τις μελωδίες του\, τους στίχους του και το μπουζούκι του\, έδωσε φωνή στο ρεμπέτικο και λαϊκό τραγούδι\, μετατρέποντας το σε ένα διαχρονικό είδος που αγγίζει όλες τις γενιές\, μέχρι σήμερα.\nΤον Βασίλη Τσιτσάνη ερμηνεύουν η Νάντια Καραγιάννη και ο Νίκος Καραγιάννης. Η Νάντια Καραγιάννη είναι μια σπουδαία ερμηνεύτρια\, με ιδιαίτερες φωνητικές δεξιότητες\, ερμηνεύοντας με έκφραση\, συναίσθημα\, φαντασία και πιστότητα το κάθε είδος ελληνικού τραγουδιού. Ο Νίκος Καραγιάννης είναι ένας ικανός\, άρτιος ερμηνευτής – μουσικός και δημιουργός που με σεβασμό και ήθος υπηρετεί το καλό ελληνικό τραγούδι. \nΣυμμετέχουν εξαιρετικοί μουσικοί που γνωρίζουν και αγαπούν το έργο του Βασίλη Τσιτσάνη: Στάθης Σαββίδης μπουζούκι\,Χρήστος Παπαθανασόπουλος μπουζούκι\,Κώστας Μπιλίσης πιάνο\, Γιώργος Καρτάλος κρουστά.\nΕπιμέλεια εκδήλωσης : Μιμή Ρουφογάλη\, Αντιδήμαρχος Πολιτισμού\, Δημοτικής Πινακοθήκης και Διεθνών Σχέσεων. \nΑμφιθέατρο «Μίκης Θεοδωράκης»\, Δημαρχείο Παπάγου – Χολαργού – Κτίριο Δημάρχου «Χαράλαμπου Σκούρτη»\, Περικλέους 55\, Χολαργός\nΕίσοδος Ελεύθερη
URL:https://livingforfree.gr/event/nychtes-magikes-ki-oniremenes-ston-cholargo/
LOCATION:Δημαρχείο Παπάγου Χολαργού\, Περικλέους 55\, Χολαργός\, Αττική\, Greece
CATEGORIES:Μουσική
ATTACH;FMTTYPE=image/jpeg:https://livingforfree.gr/wp-content/uploads/2026/04/Νύχτες-μαγικές-κι-ονειρεμένες.jpg
GEO:37.9987555;23.7991221
X-APPLE-STRUCTURED-LOCATION;VALUE=URI;X-ADDRESS=Δημαρχείο Παπάγου Χολαργού Περικλέους 55 Χολαργός Αττική Greece;X-APPLE-RADIUS=500;X-TITLE=Περικλέους 55:geo:23.7991221,37.9987555
END:VEVENT
BEGIN:VEVENT
DTSTART;TZID=Europe/Athens:20260420T200000
DTEND;TZID=Europe/Athens:20260420T220000
DTSTAMP:20260420T020615
CREATED:20260417T184130Z
LAST-MODIFIED:20260417T184130Z
UID:10015577-1776715200-1776722400@livingforfree.gr
SUMMARY:Στέλλα Βιολάντη στην Καλλιθέα
DESCRIPTION:Δημοτικό Θέατρο Καλλιθέας. (Κρέμου 123 & Φιλαρέτου). Την Δευτέρα 20/04/2026 στις 8:00 μ.μ. θα πραγματοποιηθεί η Θεατρική Παράσταση “ΣΤΕΛΛΑ ΒΙΟΛΑΝΤΗ” του Γρηγορίου Ξενόπουλου από τον Δήμο Καλλιθέας. \nΕΙΣΟΔΟΣ ΕΛΕΥΘΕΡΗ \nΗ Στέλλα Βιολάντη βρίσκετε στην θεατρική κορωνίδα των έργων του Ξενόπουλου. Με μοναδικό τρόπο καυτηριάζει τα «πρέπει» με τα «θέλω». Η σύγκρουση του πατέρα με την κόρη του για τον τρόπο με τον οποίο γίνετε η ερωτική της προσέγγιση με τον Χρηστάκη Ζαμάνο της καρδιάς της αναδεικνύει με τον καλύτερο τρόπο το τι μπορεί να συμβεί σε μία οικογένεια όταν επικρατεί ο εγωισμός και τα θέλω του πατέρα. Το έργο δείχνει τις λεπτές ισορροπίες που υπάρχουν σε μία οικογένεια και πως μπορεί να αποφευχθεί η σύγκρουση όταν όλοι βαδίζουνε στον δρόμο της λογικής.\nΣΥΝΤΕΛΕΣΤΕΣ :\nΣκηνοθεσία : Σταμάτης ΜΠΑΝΤΟΥΝΑΣ\nΣκηνικά – Κοστούμια : Μιχάλης ΣΔΟΥΓΚΟΣ\nΜουσική επιμέλεια : LEO\nΔΙΑΝΟΜΗ :\nΠαναγής Βιολάντης: Τζώνυ Θεοδωρίδης\nΜαρία Βιολάντη: Αθήνα Μαυρομάτη\nΘεία Νιονια: Κέλλυ Αλυφαντή\nΝταντης: Απόστολος Τζίκας\nΧρηστάκης Ζαμάνος: Νίκος Σταματόπουλος\nκαι\nΣτέλλα Βιολάντη: Σάρα Εσκενάζη.
URL:https://livingforfree.gr/event/stella-violanti-stin-kallithea-2/
LOCATION:Δημοτικό Θέατρο Καλλιθέας\, Κρέμου 123\, Καλλιθέα\, Αττική\, Greece
CATEGORIES:Θέατρο
ATTACH;FMTTYPE=image/jpeg:https://livingforfree.gr/wp-content/uploads/2026/04/671533075_1781211813165475_6883570686515591751_n.jpg
GEO:37.9571468;23.6985763
X-APPLE-STRUCTURED-LOCATION;VALUE=URI;X-ADDRESS=Δημοτικό Θέατρο Καλλιθέας Κρέμου 123 Καλλιθέα Αττική Greece;X-APPLE-RADIUS=500;X-TITLE=Κρέμου 123:geo:23.6985763,37.9571468
END:VEVENT
BEGIN:VEVENT
DTSTART;TZID=Europe/Athens:20260420T203000
DTEND;TZID=Europe/Athens:20260420T230000
DTSTAMP:20260420T020615
CREATED:20260417T074951Z
LAST-MODIFIED:20260417T074951Z
UID:10015555-1776717000-1776726000@livingforfree.gr
SUMMARY:Just in Case στο Ίλιο
DESCRIPTION:Just in Case: rock cover band από το 2015 στη ροκ σκηνή με ένα ευρύ φάσμα ρεπερτορίου rock\, hard rock\, alternative σε Αγγλόφωνο και Ελληνόφωνο στίχο. Δυνατά live\, ενέργεια\, και τα υπόλοιπα…on stage! \nΛιάνα Φυτάκη – φωνητικά\nΝίκος Καπλάνης – μπάσο/φωνητικά\nΝίκος Τζαγκαράκης – κιθάρα/φωνητικά\nΣπύρος Σέρφος – πλήκτρα\nΝάσος Παχούλας – ντράμς \nΗ είσοδος στις παραστάσεις είναι ελεύθερη ενώ αξίζει να σημειωθεί πως όλοι οι καλλιτέχνες\, ηχολήπτες\, φωτιστές\, γραφίστες και διοργανωτές για το stage και τις εκδηλώσεις\, συμμετέχουν αφιλοκερδώς.\nΜουσικό Στέκι Ιλίου\nΚαλλιτεχνικό Καφενείο «Θ. Αγγελόπουλος»\nΠολιτιστικό Κέντρο «Μελίνα Μερκούρη»\nΑγ. Φανουρίου 99\, Ίλιον\, 2ος όροφος\nΕίσοδος ελεύθερη\nΏρα: Οι πόρτες ανοίγουν στις 20:00 και οι παρατάσεις τελειώνουν στις 22:30
URL:https://livingforfree.gr/event/just-in-case-sto-ilio/
LOCATION:Καλλιτεχνικό Καφενείο Θεόδωρος Αγγελόπουλος – Ίλιο\, Αγίου Φανουρίου 99\, Ίλιο\, Αττική\, 13122\, Greece
CATEGORIES:Μουσική
ATTACH;FMTTYPE=image/jpeg:https://livingforfree.gr/wp-content/uploads/2026/04/JUST-IN-CASE-2026-1-scaled.jpg
GEO:38.023954;23.710892
X-APPLE-STRUCTURED-LOCATION;VALUE=URI;X-ADDRESS=Καλλιτεχνικό Καφενείο Θεόδωρος Αγγελόπουλος – Ίλιο Αγίου Φανουρίου 99 Ίλιο Αττική 13122 Greece;X-APPLE-RADIUS=500;X-TITLE=Αγίου Φανουρίου 99:geo:23.710892,38.023954
END:VEVENT
END:VCALENDAR