BEGIN:VCALENDAR
VERSION:2.0
PRODID:-//LIVING for free - ECPv6.15.20//NONSGML v1.0//EN
CALSCALE:GREGORIAN
METHOD:PUBLISH
X-WR-CALNAME:LIVING for free
X-ORIGINAL-URL:https://livingforfree.gr
X-WR-CALDESC:Events for LIVING for free
REFRESH-INTERVAL;VALUE=DURATION:PT1H
X-Robots-Tag:noindex
X-PUBLISHED-TTL:PT1H
BEGIN:VTIMEZONE
TZID:Europe/Athens
BEGIN:DAYLIGHT
TZOFFSETFROM:+0200
TZOFFSETTO:+0300
TZNAME:EEST
DTSTART:20250330T010000
END:DAYLIGHT
BEGIN:STANDARD
TZOFFSETFROM:+0300
TZOFFSETTO:+0200
TZNAME:EET
DTSTART:20251026T010000
END:STANDARD
BEGIN:DAYLIGHT
TZOFFSETFROM:+0200
TZOFFSETTO:+0300
TZNAME:EEST
DTSTART:20260329T010000
END:DAYLIGHT
BEGIN:STANDARD
TZOFFSETFROM:+0300
TZOFFSETTO:+0200
TZNAME:EET
DTSTART:20261025T010000
END:STANDARD
BEGIN:DAYLIGHT
TZOFFSETFROM:+0200
TZOFFSETTO:+0300
TZNAME:EEST
DTSTART:20270328T010000
END:DAYLIGHT
BEGIN:STANDARD
TZOFFSETFROM:+0300
TZOFFSETTO:+0200
TZNAME:EET
DTSTART:20271031T010000
END:STANDARD
END:VTIMEZONE
BEGIN:VEVENT
DTSTART;TZID=Europe/Athens:20260423T090000
DTEND;TZID=Europe/Athens:20260423T170000
DTSTAMP:20260423T132140
CREATED:20260422T182816Z
LAST-MODIFIED:20260422T183206Z
UID:10015653-1776934800-1776963600@livingforfree.gr
SUMMARY:Δωρεάν Προληπτικός Έλεγχος ανιούσας και κοιλιακής αορτής στην Μεταμόρφωση
DESCRIPTION:Την Πέμπτη 23 Απριλίου στο Α΄ΚΑΠΗ Νέας Ιωνίας σε συνεργασία του τμήματος Προάσπισης & Προαγωγής Δημόσιας Υγείας του Δήμου Μεταμόρφωσης και του Τμήματος Προστασίας & Προαγωγής Δημόσιας Υγείας του Δήμου Νέας Ιωνίας με την υποστήριξη της Ελληνικής Αντικαρκινικής Εταιρείας Ενιαίο παράρτημα Ν.Ι.Φ.Η.Μ. πραγματοποιείται δωρεάν προληπτικός έλεγχος ανιούσας και κοιλιακής αορτής. \nΓια περισσότερες πληροφορίες και για ραντεβού μπορείτε να επικοινωνήσετε με το τηλέφωνο 210 2770774.
URL:https://livingforfree.gr/event/dorean-proliptikos-elegchos-aniousas-ke-kiliakis-aortis-stin-metamorfosi/
LOCATION:Α ΚΑΠΗ Μεταμόρφωσης\, Κ. Βάρναλη 34\, Μεταμόρφωση\, Αττική\, Greece
CATEGORIES:Υγεία
ATTACH;FMTTYPE=image/jpeg:https://livingforfree.gr/wp-content/uploads/2026/04/Δωρεάν-Προληπτικός-Έλεγχος-ανιούσας-και-κοιλιακής-αορτής-στην-Μεταμόρφωση.jpg
END:VEVENT
BEGIN:VEVENT
DTSTART;TZID=Europe/Athens:20260423T183000
DTEND;TZID=Europe/Athens:20260423T203000
DTSTAMP:20260423T132140
CREATED:20260401T190136Z
LAST-MODIFIED:20260401T190136Z
UID:10015443-1776969000-1776976200@livingforfree.gr
SUMMARY:Ο Heidegger\, ο Ναζισμός και οι Έλληνες
DESCRIPTION:Το Ιταλικό Μορφωτικό Ινστιτούτο Αθηνών και το Τμήμα Φιλοσοφίας του Εθνικού και Καποδιστριακού Πανεπιστημίου Αθηνών έχουν τη χαρά να σας προσκαλέσουν στη διάλεξη φιλοσοφιίας με θέμα: «Ο Heidegger\, ο Ναζισμός και οι Έλληνες» του Καθηγητή Mauro Bonazzi\, Καθηγητή Αρχαίας Φιλοσοφίας στο Πανεπιστήμιο της Μπολόνια.  Πέμπτη 23 Απριλίου – ώρα 18:30 στο  Αμφιθέατρο του Ιταλικού Μορφωτικού Ινστιτούτου (Πατησίων 47) με Ταυτόχρονη μετάφραση. \nΕίσοδος ελεύθερη κατόπιν εγγραφής \nΘα μιλήσουν: \n\nΙωάννης Καλογεράκος\, Καθηγητής Αρχαίας Ελληνικής Φιλοσοφίας στο Εθνικό και Καποδιστριακό Πανεπιστήμιο Αθηνών\nΕλένη Περδικούρη\, Αναπληρώτρια Καθηγήτρια Φιλοσοφίας της Ύστερης Αρχαιότητας στο Εθνικό και Καποδιστριακό Πανεπιστήμιο Αθηνών\n\nΗ πρυτανική ομιλία του Martin Heidegger περιγράφηκε από τον Karl Löwith ως ένα «μικρό φιλοσοφικό κόσμημα». Αποτελεί πράγματι μια συμπυκνωμένη έκφραση της σκέψης του Heidegger κατά τα χρόνια της προσχώρησής του στον εθνικοσοσιαλισμό. Στο κέντρο όλων – παραδόξως; – βρίσκονται οι Έλληνες. Διότι\, τελικά\, δεν υπάρχει ανάγκη να μιλήσουμε για τίποτε άλλο πέρα από τους Έλληνες\, αν θέλουμε να κατανοήσουμε ποιοι είμαστε και ποιο καθήκον μας περιμένει. Από αυτή την άποψη\, ο Martin Heidegger δεν έχει εντελώς άδικο. Αυτό που απομένει να κατανοηθεί\, ωστόσο\, είναι ποιοι ήταν πραγματικά αυτοί οι Έλληνες.
URL:https://livingforfree.gr/event/o-heidegger-o-nazismos-ke-i-ellines/
LOCATION:Ιταλικό Μορφωτικό Ινστιτούτο\, Πατησίων 47\, Αθήνα\, Αττική\, 10433\, Greece
CATEGORIES:Ομιλίες
ATTACH;FMTTYPE=image/jpeg:https://livingforfree.gr/wp-content/uploads/2026/04/Ο-Heidegger-ο-Ναζισμός-και-οι-Έλληνες.jpg
GEO:37.9883466;23.7302571
X-APPLE-STRUCTURED-LOCATION;VALUE=URI;X-ADDRESS=Ιταλικό Μορφωτικό Ινστιτούτο Πατησίων 47 Αθήνα Αττική 10433 Greece;X-APPLE-RADIUS=500;X-TITLE=Πατησίων 47:geo:23.7302571,37.9883466
END:VEVENT
BEGIN:VEVENT
DTSTART;TZID=Europe/Athens:20260423T190000
DTEND;TZID=Europe/Athens:20260423T210000
DTSTAMP:20260423T132140
CREATED:20260421T164843Z
LAST-MODIFIED:20260421T164843Z
UID:10015596-1776970800-1776978000@livingforfree.gr
SUMMARY:Παρουσίαση Intercity 62 Βαγόνι 4 Θέση 65
DESCRIPTION:Παρουσίαση Intercity 62 Βαγόνι 4 Θέση 65\nΔεκαήμερο Εκδηλώσεων Κ*ΒΟΞ\nΠέμπτη 23 Απριλίου στις 19:00\nΚ*ΒΟΞ (Αραχώβης & Θεμιστοκλέους\, Εξάρχεια) \n“INTERCITY 62 ΒΑΓΟΝΙ 4 – ΘΕΣΗ 65” του Αντώνη Αντωνίου \nΟμιλητές:\nΠάνος Ρούτσι – Πατέρας Ντένις\nΝίκος Λαουτίδης – Επιζώντας του εγκλήματος των Τεμπών\nΣοφοκλής Αρχοντάκης – Δημοσιογράφος The Untold\nΈφη Μουγκαράκη – Δικηγόρος της υπόθεσης των Τεμπών\nΓιάννης Καυκάς – Ψυχολόγος/Ψυχοθεραπευτής
URL:https://livingforfree.gr/event/parousiasi-intercity-62-vagoni-4-thesi-65/
LOCATION:Βοξ Εξάρχεια\, Θεμιστοκλέους 82\, Αθήνα\, Αττική\, Greece
CATEGORIES:Αφήγηση - Βιβλίο
ATTACH;FMTTYPE=image/jpeg:https://livingforfree.gr/wp-content/uploads/2026/04/resized-4fe2ebf2c1498544cd73de9f1fb2dfb3.jpg
GEO:37.9867164;23.7355968
X-APPLE-STRUCTURED-LOCATION;VALUE=URI;X-ADDRESS=Βοξ Εξάρχεια Θεμιστοκλέους 82 Αθήνα Αττική Greece;X-APPLE-RADIUS=500;X-TITLE=Θεμιστοκλέους 82:geo:23.7355968,37.9867164
END:VEVENT
BEGIN:VEVENT
DTSTART;TZID=Europe/Athens:20260423T190000
DTEND;TZID=Europe/Athens:20260423T210000
DTSTAMP:20260423T132140
CREATED:20260422T185420Z
LAST-MODIFIED:20260422T185420Z
UID:10015656-1776970800-1776978000@livingforfree.gr
SUMMARY:Μεσολόγγι Φάρος Ελευθερίας\, Θυσίας και Περηφάνιας στην Κηφισιά
DESCRIPTION:Eκδήλωση μνήμης και τιμής αφιερωμένη στη συμπλήρωση 200 ετών από την Ηρωική Έξοδο του Μεσολογγίου διοργανώνει η Σοροπτιμιστική Ένωση Ελλάδος την Πέμπτη 23 Απριλίου\, ώρα 19.00\, στο Δημαρχείο Κηφισιάς. \nΣτην αίθουσα “Β. Γκατσόπουλος” θα παρουσιαστεί το ιστορικό ντοκιμαντέρ της φιλολόγου και Προέδρου του Δημοτικού Συμβουλίου Κηφισιάς\, Νέας Ερυθραίας και Εκάλης\, Λίλα Παπαδημητρίου\, με τίτλο: «Μεσολόγγι – Φάρος Ελευθερίας\, Θυσίας και Περηφάνειας». \nΗ διοργάνωση φιλοδοξεί να αναδείξει τη διαχρονική σημασία της Εξόδου του Μεσολογγίου ως συμβόλου ελευθερίας\, εθνικής αξιοπρέπειας και αγωνιστικού φρονήματος\, μεταφέροντας το ιστορικό μήνυμα στις νεότερες γενιές.
URL:https://livingforfree.gr/event/mesolongi-faros-eleftherias-thysias-ke-perifanias-stin-kifisia/
LOCATION:Δημαρχείο Κηφισιάς\, Διονύσου & Μυρσίνης\, Κηφισιά\, Αττική\, Greece
CATEGORIES:Προβολή
ATTACH;FMTTYPE=image/jpeg:https://livingforfree.gr/wp-content/uploads/2026/04/prosklisi_mesologgi.jpeg
GEO:38.0775911;23.8144281
X-APPLE-STRUCTURED-LOCATION;VALUE=URI;X-ADDRESS=Δημαρχείο Κηφισιάς Διονύσου & Μυρσίνης Κηφισιά Αττική Greece;X-APPLE-RADIUS=500;X-TITLE=Διονύσου & Μυρσίνης:geo:23.8144281,38.0775911
END:VEVENT
BEGIN:VEVENT
DTSTART;TZID=Europe/Athens:20260423T200000
DTEND;TZID=Europe/Athens:20260423T220000
DTSTAMP:20260423T132140
CREATED:20260403T185341Z
LAST-MODIFIED:20260403T185341Z
UID:10015464-1776974400-1776981600@livingforfree.gr
SUMMARY:Mims Baptist Church Worship Choir στη Νέα Σμύρνη
DESCRIPTION:Πέμπτη 23 Απριλίου 2026 | Ωρα 20:00 στην Εστία Νέας Σμύρνης. Μουσική Παράσταση από την Χορωδία Mims Baptist Church Worship Choir!\nH Χορωδία Mims Baptist Church Worship Choir υπό τον μαέστρο Director Allen Lowe\, από το Texas των Ηνωμένων Πολιτειών Αμερικής θα μας ταξιδέψει σε μια μοναδική μουσική παράσταση!\nΜια μη κερδοσκοπική πολιτιστική παράσταση στο πλαίσιο προώθησης των Ελληνοαμερικανικών πολιτιστικών σχέσεων! \nΕΙΣΟΔΟΣ ΕΛΕΥΘΕΡΗ
URL:https://livingforfree.gr/event/mims-baptist-church-worship-choir-sti-nea-smyrni/
LOCATION:Εστία Νέας Σμύρνης\, Κωνσταντίνου Παλαιολόγου 1\, Νέα Σμύρνη\, Αττική\, 17121\, Greece
CATEGORIES:Μουσική
ATTACH;FMTTYPE=image/jpeg:https://livingforfree.gr/wp-content/uploads/2026/04/miips.jpg
GEO:37.9482849;23.7102836
X-APPLE-STRUCTURED-LOCATION;VALUE=URI;X-ADDRESS=Εστία Νέας Σμύρνης Κωνσταντίνου Παλαιολόγου 1 Νέα Σμύρνη Αττική 17121 Greece;X-APPLE-RADIUS=500;X-TITLE=Κωνσταντίνου Παλαιολόγου 1:geo:23.7102836,37.9482849
END:VEVENT
BEGIN:VEVENT
DTSTART;TZID=Europe/Athens:20260423T200000
DTEND;TZID=Europe/Athens:20260423T220000
DTSTAMP:20260423T132140
CREATED:20260421T164141Z
LAST-MODIFIED:20260421T164141Z
UID:10015595-1776974400-1776981600@livingforfree.gr
SUMMARY:Προβολή On Lavender στο Περιστέρι
DESCRIPTION:Την Πέμπτη 23 Απριλίου 2026 στις 20.00 θα μαζευτούμε να παρακολουθήσουμε και να συζητήσουμε με τους συντελεστές για το ντοκιμαντέρ “On Lavender” του Μάκη Ευαγγελάτου. Είσοδος όπως πάντα ελεύθερη.\n*Στον χωρο θα υπάρχει κουτί οικονομικής ενίσχυσης για την Ε.\n**Τα έσοδα θα διατεθούν για την οικονομική ενίσχυση του χώρου και την διοργάνωση μουσικοπολιτικών δράσεων.\n***Ρατσιστικές\, σεξιστικές\, ομοφοβικές και εξουσιαστικές συμπεριφορές δεν θα γίνονται δεκτές ούτε στον χώρο ούτε σε καμία από τις εκδηλώσεις μας \nΛΙΓΑ ΛΟΓΙΑ ΓΙΑ ΤΟ ΝΤΟΚΙΜΑΝΤΕΡ Το ON LAVENDER είναι μια εξερεύνηση των πολλαπλοτήτων της ταυτότητας φύλου στη σύγχρονη ελληνική κοινωνία. Η ταινία ερευνά τη δυναμική της συγκρότησης του φύλου και τις κοινωνικό-πολιτισμικές προεκτάσεις\, προσκαλώντας τον θεατή να εισέλθει σε έναν κόσμο όπου διαφορετικές οπτικές διασταυρώνονται μέσα από ένα μωσαϊκό αφηγήσεων που αντανακλά την πολυπλοκότητα της ταυτότητας στον συνεχώς εξελισσόμενο κόσμο μας.\nΕίναι η πρώτη μεγάλου μήκους ταινία και για τους δύο σκηνοθέτες\, και αποτελεί την πρώτη εις βάθος διερεύνηση της ταυτότητας φύλου στην Ελλάδα-το αποτέλεσμα μιας τετραετούς προσπάθειας\, χρηματοδοτούμενης ως επί το πλείστον από τους συντελεστές της.\nΔιάρκεια: 74 λεπτά\nΈτος Παραγωγής: 2024\nΒραβεία: 27th Thessaloniki International Documentary Festival\, Mermaid Award Special Mention\nΣκηνοθεσία: Μάκης Ευαγγελάτος Συν-Σκηνοθεσία: Ειρήνη Χατζή\nΠαραγωγή: Μάκης Ευαγγελάτος\, Ειρήνη Χατζή\, Στέλιος Δάγκας\nCast: Άλκης Παπασταθόπουλος\, Αρτεμισία Ρέππα\, Χρήστος Σκούρτας\, Dion\, Dolly Vara\, Φένια Αποστόλου\, Ίαν\, Kassandra el Najjar\, Λουίζα Ναταλία Πέππε\, Naomi Frisson\, Ορφέας Τουμπακάρης\, Paris (Atossa)\, Reject aka Lex\, Soni (Qasbah)\, Βασιλεία Κάγκα\, Βασιλική Λαζαρίδου\nΔιεύθυνση Φωτογραφίας: Στέλιος Δάγκας\nΚινηματογράφηση: Στέλιος Δάγκας και Μάκης Ευαγγελάτος\nΒοηθός Κάμερας: Κωνσταντίνος Τούντας\nDrone: Παναγιώτης Φραγκούλης\nΗχοληψία: Δημήτρης Κοντούλης\nΦωτογράφος Πλατό: Κατερίνα Παρασκευά\nCasting Director: Αρτεμισία Ρέππα\nΚαλλιτεχνική Διεύθυνση: Μάκης Ευαγγελάτος\nΣκηνογραφία: Δάφνη Τζούμη\nΜακιγιάζ: Λουίζα Ναταλία Πέππε\nΑ’ Βοηθός Σκηνοθέτη: Άννα Γκαραφλή\nΒ’ Βοηθός Σκηνοθέτη/Συνεντεύξεις: Ηλιάνα Μπούτση\nScript Supervisor – Βοηθός Παραγωγής: Κατερίνα Σπύρου\nΒοηθός Παραγωγής: Κατερίνα Παρασκευά\nΜοντάζ: Ειρήνη Χατζή\nColorist: Μάνος Χαμηλάκης\nPost-Picture Services: Authorwave\nΣχεδιασμός Ήχου: Αντώνης Καραγιάννης\nAnimation: Μπάμπης Αλεξιάδης και Δημήτρης Αρμενάκης\nΜουσική: Cathedral Echo\, Daimonio\, Dolly Vara\, Qasbah\nGraphic Design: Ηρώ Καραβία\nΦυτά\, Κεραμικά: RIZOM\, Katais\nΧώροι Συνεντεύξεων: Communitism\, RIZOM\, Katais\, House of Pilates \nΣυντροφικα Χιπ Χοπ Καφενές Τομεζά 3
URL:https://livingforfree.gr/event/provoli-on-lavender-sto-peristeri/
LOCATION:Χιπ Χοπ καφενές Περιστέρι\, Τομεζά 3\, Περιστέρι\, Αττική\, 12131\, Greece
CATEGORIES:Προβολή
ATTACH;FMTTYPE=image/jpeg:https://livingforfree.gr/wp-content/uploads/2026/04/lavender.jpg
GEO:38.005157;23.696478
X-APPLE-STRUCTURED-LOCATION;VALUE=URI;X-ADDRESS=Χιπ Χοπ καφενές Περιστέρι Τομεζά 3 Περιστέρι Αττική 12131 Greece;X-APPLE-RADIUS=500;X-TITLE=Τομεζά 3:geo:23.696478,38.005157
END:VEVENT
BEGIN:VEVENT
DTSTART;TZID=Europe/Athens:20260423T203000
DTEND;TZID=Europe/Athens:20260423T223000
DTSTAMP:20260423T132140
CREATED:20260421T163216Z
LAST-MODIFIED:20260421T163216Z
UID:10015594-1776976200-1776983400@livingforfree.gr
SUMMARY:Προβολή 4 ντοκιμαντέρ στα Προσφυγικά Αλεξάνδρας
DESCRIPTION:Προβολή 4 Ντοκιμαντέρ “Cuba\, a people in resistance” \nΤην Πέμπτη 23/4 στις 20:30 στο Κιόσκι των Προσφυγικών (Λ. Αλεξάνδρας & Κούζη) θα προβληθούν 4 ντοκιμαντέρ μικρού μήκους συνολικής διάρκειας 1 ώρα και 30 λεπτά και έχουν αγγλικούς υπότιτλους. Τα ντοκιμαντέρ που θα προβληθούν είναι τα εξής: \n\n200 Χρόνια Δόγματος Μονρόε : Ένα ταξίδι από το Δόγμα Μονρόε και την επιρροή του στη Λατινική Αμερική μέχρι σήμερα. Η αλληλεγγύη του κουβανικού λαού και η αντίστασή του στον αντιιμπεριαλιστικό αγώνα.\nΟ Πόλεμος στην Κούβα 1\,2\,3\nΑπό τη Γάζα μέχρι τη Κούβα\nΚούβα\, ένας λαός που αντιστέκεται\n\nΗ Δομή Σινεμά επίσης οργανώνει προβολές για παιδιά κάθε Σάββατο στις 19.00 στο Στέκι των Κατειλημμένων Προσφυγικών (Κούζη & Τριχωνίδος).\nΣυνέλευση Κατειλημμένων Προσφυγικών (ΣΥ.ΚΑ.ΠΡΟ)\nΜail: sykapro_squat@riseup.net\nBlog: sykaprosquat.noblogs.org\nInstagram : @sykapro\nTwitter: @Prosfygika \n4 Documentaries Projection “Cuba\, a people in resistance” \nOn Thursday 23/4 at 20:30 at the Kioski of Prosfygika (L. Alexandras & Kouzi) 4 short documentaries will be screened with total duration 1 hour and 30 minutes and english subtitles. The documentaries that will be screened are: \n\n200 years of Monroe Doctrine : A journey from the Monroe Doctrine and its influence on Latin America to the present day. The solidarity of the Cuban people and their resistance in the anti-imperialist struggle.\nThe War on Cuba 1\, 2\, 3\nFrom Gaza to Cuba\nCuba\, a people in resistance\n\nFurthermore\, the Cinema Structure organizes movie screenings for children every Saturday at 19.00 at the Steki of Squatted Prosfygika (Kouzi & Trichonidos).\nAssembly of Squatted Prosfygika (SY.KA.PRO.)\nΜail: sykapro_squat@riseup.net\nBlog: sykaprosquat.noblogs.org\nInstagram: @sykapro\nTwitter: @Prosfygika
URL:https://livingforfree.gr/event/provoli-4-ntokimanter-sta-prosfygika-alexandras/
LOCATION:Προσφυγικές Πολυκατοικίες Λεωφόρου Αλεξάνδρας Αθήνα\, Αριστοτέλους Κούζη\, Αθήνα\, Αττική\, 11522\, Greece
CATEGORIES:Ξενόγλωσσο,Προβολή
ATTACH;FMTTYPE=image/jpeg:https://livingforfree.gr/wp-content/uploads/2026/04/cuba.jpg
GEO:37.9885026;23.7548679
X-APPLE-STRUCTURED-LOCATION;VALUE=URI;X-ADDRESS=Προσφυγικές Πολυκατοικίες Λεωφόρου Αλεξάνδρας Αθήνα Αριστοτέλους Κούζη Αθήνα Αττική 11522 Greece;X-APPLE-RADIUS=500;X-TITLE=Αριστοτέλους Κούζη:geo:23.7548679,37.9885026
END:VEVENT
END:VCALENDAR