BEGIN:VCALENDAR
VERSION:2.0
PRODID:-//LIVING for free - ECPv6.15.20//NONSGML v1.0//EN
CALSCALE:GREGORIAN
METHOD:PUBLISH
X-ORIGINAL-URL:https://livingforfree.gr
X-WR-CALDESC:Events for LIVING for free
REFRESH-INTERVAL;VALUE=DURATION:PT1H
X-Robots-Tag:noindex
X-PUBLISHED-TTL:PT1H
BEGIN:VTIMEZONE
TZID:Europe/Athens
BEGIN:DAYLIGHT
TZOFFSETFROM:+0200
TZOFFSETTO:+0300
TZNAME:EEST
DTSTART:20250330T010000
END:DAYLIGHT
BEGIN:STANDARD
TZOFFSETFROM:+0300
TZOFFSETTO:+0200
TZNAME:EET
DTSTART:20251026T010000
END:STANDARD
BEGIN:DAYLIGHT
TZOFFSETFROM:+0200
TZOFFSETTO:+0300
TZNAME:EEST
DTSTART:20260329T010000
END:DAYLIGHT
BEGIN:STANDARD
TZOFFSETFROM:+0300
TZOFFSETTO:+0200
TZNAME:EET
DTSTART:20261025T010000
END:STANDARD
BEGIN:DAYLIGHT
TZOFFSETFROM:+0200
TZOFFSETTO:+0300
TZNAME:EEST
DTSTART:20270328T010000
END:DAYLIGHT
BEGIN:STANDARD
TZOFFSETFROM:+0300
TZOFFSETTO:+0200
TZNAME:EET
DTSTART:20271031T010000
END:STANDARD
END:VTIMEZONE
BEGIN:VEVENT
DTSTART;TZID=Europe/Athens:20260425T190000
DTEND;TZID=Europe/Athens:20260425T210000
DTSTAMP:20260423T132321
CREATED:20260422T143805Z
LAST-MODIFIED:20260422T143805Z
UID:10015621-1777143600-1777150800@livingforfree.gr
SUMMARY:167 Στιχο-Ποιήματα αφιερωμένα στον Στέλιο Καζαντζίδη
DESCRIPTION:Ο Δήμος Αιγάλεω και το Αρχείο Ιστορίας για το Αιγάλεω «Α.Ι.Γ.Α.»\, συνδιοργανώνουν τη μουσική παρουσίαση του βιβλίου των Γιώργου Μιχελάκου και Τάσου Κακλαμάνη με τίτλο «167 Στιχο-Ποιήματα αφιερωμένα στον Στέλιο Καζαντζίδη». Η εκδήλωση θα πραγματοποιηθεί το Σάββατο 25 Απριλίου\, στις 19:00\, στο Πνευματικό Κέντρο Αιγάλεω «ΓΙΑΝΝΗΣ ΡΙΤΣΟΣ» (Δημαρχείου 17 & Κουντουριώτου). Πρόκειται για μια ξεχωριστή βραδιά αφιερωμένη σε μία από τις σημαντικότερες μορφές του ελληνικού τραγουδιού\, μέσα από έναν συνδυασμό λόγου και μουσικής. \nΤα ποιήματα των δημιουργών συνομιλούν με το έργο και την παρακαταθήκη του Στέλιου Καζαντζίδη\, αναδεικνύοντας τη διαχρονική απήχηση και τη βαθιά συναισθηματική του σύνδεση με το κοινό. Για το βιβλίο θα μιλήσουν οι Παναγιώτης Χατζηαντώνογλου\, Γιώργος Κοντογιάννης και Κώστας Μπαλαχούτης\, ενώ τον συντονισμό της εκδήλωσης θα έχει η Ευαγγελία Αγαπητού. Τη βραδιά θα πλαισιώσουν μουσικά οι Γιάννης Χαραλαμπάκης (κιθάρα / τραγούδι)\, Μάκης Βρακάς (μπαγλαμάς / τραγούδι)\, Σπύρος Βαδεν (μπουζούκι) και Δάνης Τζαμτζής (ακορντεόν)\, δημιουργώντας μια ατμόσφαιρα που θα αναδείξει με αυθεντικότητα το ύφος και τη δύναμη των τραγουδιών του μεγάλου ερμηνευτή. \nΗ εκδήλωση είναι ανοιχτή για το κοινό και θα τηρηθεί σειρά προτεραιότητας. Ο Δήμος Αιγάλεω συνεχίζει να στηρίζει δράσεις πολιτισμού που αναδεικνύουν τη συλλογική μνήμη και ενισχύουν τη σχέση της πόλης με την ελληνική μουσική και δημιουργία.
URL:https://livingforfree.gr/event/167-sticho-piimata-afieromena-ston-stelio-kazantzidi/
LOCATION:Πολιτιστικό Κέντρο Γιάννης Ρίτσος Αιγάλεω\, Δημαρχείου 17 & Κουντουριώτου\, Αιγάλεω\, Αττική\, 12242\, Greece
CATEGORIES:Αφήγηση - Βιβλίο,Μουσική
ATTACH;FMTTYPE=image/jpeg:https://livingforfree.gr/wp-content/uploads/2026/04/167.jpg
GEO:37.995406;23.683728
X-APPLE-STRUCTURED-LOCATION;VALUE=URI;X-ADDRESS=Πολιτιστικό Κέντρο Γιάννης Ρίτσος Αιγάλεω Δημαρχείου 17 & Κουντουριώτου Αιγάλεω Αττική 12242 Greece;X-APPLE-RADIUS=500;X-TITLE=Δημαρχείου 17 & Κουντουριώτου:geo:23.683728,37.995406
END:VEVENT
BEGIN:VEVENT
DTSTART;TZID=Europe/Athens:20260425T193000
DTEND;TZID=Europe/Athens:20260425T213000
DTSTAMP:20260423T132322
CREATED:20260306T210622Z
LAST-MODIFIED:20260422T172919Z
UID:10015196-1777145400-1777152600@livingforfree.gr
SUMMARY:Νέοι Σολίστ στο Αετοπούλειο
DESCRIPTION:Νέοι Σολίστ στο Αετοπούλειο\nΗ Συμφωνική Ορχήστρα Νέων του Δήμου Χαλανδρίου φέρνει στην πόλη μια πανηγυρική «Μουσική Άνοιξη»\, με πρωταγωνιστές νέους μουσικούς. Αυτό το Σάββατο 25 Απριλίου\, στις 19.30\, τέσσερις νέοι πιανίστες έρχονται στο Αετοπούλειο\, στο πλαίσιο κύκλου συναυλιών «Νέοι σολίστ»\, για να ερμηνεύουν έργα Beethoven\, Mozart\, Schubert\, Schumann\, Mendelssohn\, Chopin\, Lizt\, Ravel\, Debussy και Rachmaninov. \nΠαίρνουν μέρος οι:\nEthan Yuchen Xie\nΝίκος Γονιδάκης\nΑγγελική Γεωργά\nΕιρήνη Πανταζοπούλου\nΕπιμέλεια- Διδασκαλία: Αγάθη Λεϊμονή\nΑετοπούλειο Πολιτιστικό Κέντρο (Φιλικής Εταιρείας & Τομπάζη) \n«Νέοι σολίστ στο Αετοπούλειο» για 3η χρονιά Οι εκδηλώσεις «Νέοι σολίστ στο Αετοπούλειο» αποτελούν συνέχεια και επέκταση του εγχειρήματος που ξεκίνησε με τη λειτουργία της Συμφωνικής Ορχήστρας Νέων\, και έχουν στόχο να συνενώσουν νέους μουσικούς από το Χαλάνδρι -και όχι μόνο- και να διαδραματίσουν έναν αξιοσημείωτο ρόλο στη μουσική ζωή της Αθήνας. Συνεχίζεται για 3η χρονιά\, ένας ευρύς κύκλος\, με ρεσιτάλ πιάνου\, βιολιού\, τσέλου\, κλαρινέτου\, φλάουτου κ.α.\, όπως και μικρών συνόλων μουσικής δωματίου. Το κοινό θα έχει την ευκαιρία να απολαύσει νέους σολίστ που με τη νεανική δυναμικότητα προσδίδουν πάντα ένα ιδιαίτερο ενδιαφέρον στην ερμηνεία των μεγάλων έργων\, παράλληλα δε\, πετυχαίνουν με την παρουσία τους\, να προσελκύουν ένα πολύχρωμο κοινό που επικοινωνεί ουσιαστικά με την παγκόσμια μουσική δημιουργία\, όλων των στυλ και των ιστορικών περιόδων. \n«Μουσική Άνοιξη» Ειδικά για την περίοδο Μαρτίου – Ιουνίου 2026 έχουν προβλεφθεί εννέα συναυλίες με πρωταγωνιστές πλήθος νέων μουσικών\, δίνουν μια αισιόδοξη νότα και μια αισθητική άποψη που συνιστούν ένα σαφές κοινωνικό μήνυμα συνεργασίας\, σύμπραξης\, συνύπαρξης\, συναντίληψης. Το Αετοπούλειο Πολιτιστικό Κέντρο του Δήμου μας γίνεται για 3 μήνες πόλος συσπείρωσης της μουσικής νεότητας της χώρας μας. Προσφέρει ένα βήμα έκφρασης για τους νέους καλλιτέχνες και μια ευκαιρία αισθητικής απόλαυσης για τους πολίτες του Χαλανδρίου και όλης της Αθήνας. Εννέα Σάββατα συνάντησης με τη μεγάλη και σημαντική εργογραφία της παγκόσμιας μουσικής δημιουργίας. \nΠατήστε ΕΔΩ για να δείτε όλο το πρόγραμμα
URL:https://livingforfree.gr/event/nei-solist-sto-aetopoulio-8/
LOCATION:Αετοπούλειο Πολιτιστικό Κέντρο – Δημοτική Βιβλιοθήκη Χαλανδρίου\, Φιλικής Εταιρίας 11\, Χαλάνδρι\, Αττική\, 15232\, Greece
CATEGORIES:Μουσική
ATTACH;FMTTYPE=image/jpeg:https://livingforfree.gr/wp-content/uploads/2026/03/Neoi-Solistes_25-April-2026_low-1536x985-1.jpg
GEO:38.0173877;23.7902298
X-APPLE-STRUCTURED-LOCATION;VALUE=URI;X-ADDRESS=Αετοπούλειο Πολιτιστικό Κέντρο – Δημοτική Βιβλιοθήκη Χαλανδρίου Φιλικής Εταιρίας 11 Χαλάνδρι Αττική 15232 Greece;X-APPLE-RADIUS=500;X-TITLE=Φιλικής Εταιρίας 11:geo:23.7902298,38.0173877
END:VEVENT
BEGIN:VEVENT
DTSTART;TZID=Europe/Athens:20260425T193000
DTEND;TZID=Europe/Athens:20260425T230000
DTSTAMP:20260423T132322
CREATED:20260422T173819Z
LAST-MODIFIED:20260422T173819Z
UID:10015644-1777145400-1777158000@livingforfree.gr
SUMMARY:1ο International Jazz Day Festival Chalandri
DESCRIPTION:1ο International Jazz Day Festival Chalandri\nΟ Δήμος Χαλανδρίου διοργανώνει φέτος\, για πρώτη φορά στην Ελλάδα\, το International Jazz Day Festival Chalandri (25–30 Απριλίου 2026)\, με αφορμή την Παγκόσμια Ημέρα Τζαζ 2026\, η οποία αποτελεί διεθνή πρωτοβουλία της UNESCO\, εντάσσοντας τη χώρα μας στο χάρτη των 190+ χωρών που συμμετέχουν κάθε χρόνο στη γιορτή.\nΤο Χαλάνδρι συνδέει τη χώρα μας με έναν από τους σημαντικότερους διεθνείς πολιτιστικούς θεσμούς\, διαχέοντας την τζαζ σε όλη την πόλη\, με τη συμμετοχή 15 μουσικών σχημάτων και 39 σολίστ\, σε συναυλίες και jam sessions\, που θα πραγματοποιηθούν σε 12 διαφορετικούς χώρους\, δημόσιους\, αλλά και μπαρ κάβες της πόλης και σταθμούς του ΜΕΤΡΟ. \nΠατήστε ΕΔΩ για να δείτε όλο το πρόγραμμα \nΣάββατο 25/4\nΧώρος Πολιτισμού «κτίριο Νόμπελ» – Ήβης 30\, Χαλάνδρι\n20.00 Kasimmavik (Νίκη Κοκκόλη – Σίμος Ρηνιώτης)\nΚέντρο Νεότητας Δήμου Χαλανδρίου – Αντιγόνης & Δαναΐδων\n20.00 Γιάννης Παπαδόπουλος\, solo piano\n21.30 Κώστας Πατσιώτης Quartet \nΗ είσοδος σε όλες τις εκδηλώσεις είναι ελεύθερη
URL:https://livingforfree.gr/event/jazz-day-festival-chalandri-1/
LOCATION:Κτήριο Νόμπελ χώρος πολιτισμού Δήμου Χαλανδρίου\, Ήβης 30 & Τυμφρηστού\, Χαλάνδρι\, Αττική\, 15234\, Greece
CATEGORIES:Μουσική
ATTACH;FMTTYPE=image/jpeg:https://livingforfree.gr/wp-content/uploads/2026/04/Jazz-αφισα-μουσικοι-714x1024-1.jpg
GEO:38.0234129;23.8159958
X-APPLE-STRUCTURED-LOCATION;VALUE=URI;X-ADDRESS=Κτήριο Νόμπελ χώρος πολιτισμού Δήμου Χαλανδρίου Ήβης 30 & Τυμφρηστού Χαλάνδρι Αττική 15234 Greece;X-APPLE-RADIUS=500;X-TITLE=Ήβης 30 & Τυμφρηστού:geo:23.8159958,38.0234129
END:VEVENT
BEGIN:VEVENT
DTSTART;TZID=Europe/Athens:20260425T200000
DTEND;TZID=Europe/Athens:20260425T220000
DTSTAMP:20260423T132322
CREATED:20260302T183316Z
LAST-MODIFIED:20260302T183316Z
UID:10015168-1777147200-1777154400@livingforfree.gr
SUMMARY:Ρεσιτάλ Κιθάρας Ντίνος Παπαδημητρίου
DESCRIPTION:Ρεσιτάλ Κιθάρας Ντίνος Παπαδημητρίου\n(37ος κύκλος Οι Νέοι για τους Νέους)\nΗ σειρά συναυλιών “Οι Νέοι για τους Νέους” αποτελεί βήμα έκφρασης και σημαντικό θεσμό ανάδειξης των επίλεκτων νέων ερμηνευτών κλασικής μουσικής. To έτος 2026\, η σειρά διανύει τον 37ο κύκλο της και οι νέοι καλλιτέχνες που προκρίθηκαν μέσω διαγωνισμού ενθαρρύνονται να αγγίξουν τα υψηλότερα επίπεδα της μουσικής έκφρασης με την προσωπική τους συναυλία στην Αίθουσα Συναυλιών Φίλιππος Νάκας. Το Σάββατο 25 Απριλίου και ώρα 8 μ.μ. η Αίθουσα Συναυλιών Φίλιππος Νάκας έχει τη χαρά να φιλοξενεί τον ταλαντούχο νέο κιθαριστή Ντίνο Παπαδημητρίου\, ο οποίος θα ερμηνεύσει έργα Johann Sebastian Bach\, Francis Poulenc\, Darius Milhaud\, Manuel María Ponce και Agustín Barrios Mangoré. \nΠΡΟΓΡΑΜΜΑ\nJohann Sebastian Bach – Lute Suite BWV 997 (trans. Tilman Hoppstock)\nFrancis Poulenc – Sarabande pour guitare\, FP 179\nDarius Milhaud – Segoviana\, op. 366\nManuel María Ponce – Sonata Romantica (Hommage a Fr. Schubert)\nAgustín Barrios Mangoré – Mazurka Apassionata – Mabelita – Junto a tu Corazón \nΟ Ντίνος Παπαδημητρίου γεννήθηκε το 2000 και μεγάλωσε στα Βάγια Βοιωτίας. Σε ηλικία 10 ετών\, ξεκίνησε μαθήματα κλασικής κιθάρας στο Δημοτικό Ωδείο Θήβας με καθηγητή τον Δημήτρη Δερδενέ\, από όπου αποφοίτησε τον Ιούνιο του 2023 παίρνοντας Δίπλωμα Κιθάρας με βαθμό Άριστα παμψηφεί και Α´ Βραβείο. Από τον Ιανουάριο του 2024\, συνεχίζει τις σπουδές του παρακολουθώντας μαθήματα με τον Αντώνη Χατζηνικολάου.\nΈχει λάβει μέρος και έχει διακριθεί σε διαγωνισμούς στα πλαίσια διεθνών Φεστιβάλ Κιθάρας\, όπως: Α’ Βραβείο στον διαγωνισμό musicArte 2025\, Β’ Βραβείο στο 30ό Διεθνές Φεστιβάλ Κιθάρας Πάτρας 2023\, Β’ Βραβείο στο 11ο Φεστιβάλ Παλαιού Φαλήρου 2023\, Β´ Βραβείο στο 2ο Διεθνές Φεστιβάλ Κιθάρας Ρόδου 2022\, Γ’ Βραβείο στο 29ο Διεθνές Φεστιβάλ Κιθάρας Πάτρας 2022\, Γ’ Βραβείο στις «Γιορτές Κιθάρας 2023».\nΈλαβε μέρος ως υπότροφος στο 17ο Volterra Project (Ιούλιος 2023)\, τη θερινή κιθαριστική ακαδημία που πραγματοποιείται στην Volterra της Ιταλίας υπό την καλλιτεχνική διεύθυνση της Αντιγόνης Γκόνη.\nΠαράλληλα\, έχει παρακολουθήσει masterclasses με εξέχοντες μουσικούς\, όπως οι Ε. Ασημακόπουλος\, Λ. Ζώη\, Α. Γκόνη\, Μ. Κονταξάκης\, Φ. Κουτσοθόδωρος\, Α. Μουζουράκης\, O. Ghiglia\, D. Bogdanovic\, M. Dylla\, L. Kuropaczewski\, J. Perroy\, T. Hoppstock\, L. Snowden\, S. Prieto\, G. Krivokapic\, D. Cerovic\, R. Mamedkuliev\, A. Baranov\, V. Kocic\, S. Vlaskalic.\nΈχει δώσει ρεσιτάλ σε αρκετές πόλεις της Ελλάδας (Αθήνα\, Πάτρα\, Θήβα\, Χαλκίδα\, Κοζάνη\, Πτολεμαΐδα\, κ.α.)\, με σημαντικότερη την εμφάνισή του στο 31ο Διεθνές Φεστιβάλ Κιθάρας Πάτρας τον Απρίλιο του 2024.\nΑπό το 2018 ζει στην Αθήνα\, όπου\, παράλληλα με τη μουσική\, σπουδάζει στο τμήμα Ηλεκτρολόγων Μηχανικών και Μηχανικών Υπολογιστών του Εθνικού Μετσόβιου Πολυτεχνείου. \nΣΑΒΒΑΤΟ 25 ΑΠΡΙΛΙΟΥ 2026 | ΩΡΑ 20:00\nΕΙΣΟΔΟΣ ΕΛΕΥΘΕΡΗ\nΑΙΘΟΥΣΑ ΣΥΝΑΥΛΙΩΝ ΦΙΛΙΠΠΟΣ ΝΑΚΑΣ | ΙΠΠΟΚΡΑΤΟΥΣ 41 ΑΘΗΝΑ | ΤΗΛ.: 2103634000
URL:https://livingforfree.gr/event/resital-kitharas-ntinos-papadimitriou/
LOCATION:Αίθουσα συναυλιών Φίλιππος Νάκας\, Ιπποκράτους 41\, Αθήνα\, Αττική\, Greece
CATEGORIES:Μουσική
ATTACH;FMTTYPE=image/jpeg:https://livingforfree.gr/wp-content/uploads/2026/03/Ρεσιτάλ-Κιθάρας-Ντίνος-Παπαδημητρίου.jpg
GEO:37.9832229;23.7361586
X-APPLE-STRUCTURED-LOCATION;VALUE=URI;X-ADDRESS=Αίθουσα συναυλιών Φίλιππος Νάκας Ιπποκράτους 41 Αθήνα Αττική Greece;X-APPLE-RADIUS=500;X-TITLE=Ιπποκράτους 41:geo:23.7361586,37.9832229
END:VEVENT
BEGIN:VEVENT
DTSTART;TZID=Europe/Athens:20260425T200000
DTEND;TZID=Europe/Athens:20260425T220000
DTSTAMP:20260423T132322
CREATED:20260422T191851Z
LAST-MODIFIED:20260422T191851Z
UID:10015659-1777147200-1777154400@livingforfree.gr
SUMMARY:Κλασικά Αριστουργήματα στην Αγία Παρασκευή
DESCRIPTION:Η Φιλαρμονική Ορχήστρα του Δήμου Αγίας Παρασκευής παρουσιάζει τη συναυλία «Κλασικά Αριστουργήματα». Η εκδήλωση θα πραγματοποιηθεί το Σάββατο 25 Απριλίου 2026 και ώρα 20:00\, στο 1ο\, 2ο ΕΠΑΛ & Ε.Κ. Αγίας Παρασκευής (Παπαφλέσσα 17). \nΗμερομηνία: Σάββατο 25 Απριλίου 2026\nΏρα: 20:00\nΤοποθεσία: 1ο\, 2ο ΕΠΑΛ & Ε.Κ. Αγίας Παρασκευής (Παπαφλέσσα 17)\nΕίσοδος: Ελεύθερη\nΤο πρόγραμμα περιλαμβάνει έργα για συμφωνική ορχήστρα από συνθέτες της ευρωπαϊκής μουσικής παράδοσης\, καθώς και αποσπάσματα με φωνητική συμμετοχή. Στη συναυλία συμμετέχουν οι λυρικοί καλλιτέχνες Γιάννης Κάβουρας και Εβίτα Χιώτη\, καθώς και το φωνητικό σύνολο Athenae Vocalis Ensemble. Την καλλιτεχνική επιμέλεια και μουσική διεύθυνση έχει ο συνθέτης Αντώνης Καρατζίκης. \nΠρόγραμμα\nGiuseppe Verdi – Εισαγωγή από την όπερα Nabucco\nEdvard Grieg – Peer Gynt Suite No. 1\nFranz von Suppé – Εισαγωγή Poet and Peasant\nJohannes Brahms – Hungarian Dance No. 5\nLudwig van Beethoven – Συμφωνία αρ. 5 (1ο μέρος)\nGiuseppe Verdi – Dies Irae από το Requiem\nΑντώνης Καρατζίκης – «Είσοδος Τεύκρου» από την όπερα Ελένη\nΦιλαρμονική Ορχήστρα Δήμου Αγίας Παρασκευής σε ζωντανή υπαίθρια συναυλία υπό τη διεύθυνση του αρχιμουσικού \nΗ Φιλαρμονική Ορχήστρα του Δήμου Αγίας Παρασκευής ιδρύθηκε το 1965 και αποτελεί σταθερό στοιχείο της πολιτιστικής δραστηριότητας της πόλης. Από το 2024 διευθύνεται από τον αρχιμουσικό Αντώνη Καρατζίκης και αναπτύσσει δράσεις που συνδυάζουν την καλλιτεχνική δημιουργία με τη μουσική εκπαίδευση και τη συμμετοχή των νέων.
URL:https://livingforfree.gr/event/klasika-aristourgimata-stin-agia-paraskevi/
LOCATION:1ο ΕΠΑΛ Αγίας Παρασκευής\, Παπαφλέσσα 17\, Αγία Παρασκευή\, Αττική\, 15341\, Greece
CATEGORIES:Μουσική
ATTACH;FMTTYPE=image/webp:https://livingforfree.gr/wp-content/uploads/2026/04/klasiki.webp
GEO:38.0062734;23.811446
X-APPLE-STRUCTURED-LOCATION;VALUE=URI;X-ADDRESS=1ο ΕΠΑΛ Αγίας Παρασκευής Παπαφλέσσα 17 Αγία Παρασκευή Αττική 15341 Greece;X-APPLE-RADIUS=500;X-TITLE=Παπαφλέσσα 17:geo:23.811446,38.0062734
END:VEVENT
BEGIN:VEVENT
DTSTART;TZID=Europe/Athens:20260425T200000
DTEND;TZID=Europe/Athens:20260425T220000
DTSTAMP:20260423T132322
CREATED:20260422T192609Z
LAST-MODIFIED:20260422T192609Z
UID:10015660-1777147200-1777154400@livingforfree.gr
SUMMARY:Ρεμπέτικα ερωτικά τραγούδια στη Πεύκη
DESCRIPTION:Ο Δήμος Λυκόβρυσης – Πεύκης έχει να προτείνει στο μουσικόφιλο κοινό για το ερχόμενο Σάββατο\, 25 Απριλίου 2026 και ώρα 20:00\, μια αξιόλογη όσο και ενδιαφέρουσα μουσική εκδήλωση: Τη μουσική παράσταση «Ομορφιές & Δυσκολίες» από τη Ρεμπέτικη Κομπανία «ΑΤΑΛΑΝΤΗ». Οι θεατές της παράστασης θα έχουν την ευκαιρία να απολαύσουν μια πλειάδα ρεμπέτικων ερωτικών τραγουδιών\, που θα τους ταξιδέψουν σε μια ατμόσφαιρα αυθεντικού λαϊκού ηχοχρώματος\, με βαθιές ρίζες στη μουσική μας παράδοση. Στην εκδήλωση\, η οποία θα πραγματοποιηθεί στο Δημοτικό Θέατρο Πεύκης (Χρ. Σμύρνης και Ρ. Φεραίου\, Πεύκη)\, θα συμμετάσχουν ο Νίκος Θεοδωράκης στο τραγούδι και η Νίκη Γκουντούμη στο πιάνο. \nΗ είσοδος θα είναι ελεύθερη για το κοινό. \nΟ Δήμαρχος Λυκόβρυσης-Πεύκης κ. Μάριος Ψυχάλης δηλώνει: «Με ιδιαίτερη χαρά προσκαλούμε τους συμπολίτες μας να παρακολουθήσουν μια ξεχωριστή μουσική βραδιά αφιερωμένη στο ρεμπέτικο τραγούδι\, έναν από τους πιο αυθεντικούς εκφραστές της λαϊκής μας ψυχής. Η παράσταση “Ομορφιές & Δυσκολίες” από τη Ρεμπέτικη Κομπανία “ΑΤΑΛΑΝΤΗ” αποτελεί μια όμορφη ευκαιρία να έρθουμε πιο κοντά στη μουσική μας παράδοση. \nΣας περιμένουμε όλους στο Δημοτικό Θέατρο Πεύκης για να απολαύσουμε μαζί μια βραδιά γεμάτη μουσική\, συναίσθημα και αυθεντικότητα.»
URL:https://livingforfree.gr/event/rebetika-erotika-tragoudia-sti-pefki/
LOCATION:Δημοτικό Θέατρο Πεύκης\, Χρυσοστόμου Σμύρνης & Ρήγα Φεραίου\, Πεύκη\, Αττική\, 15121\, Greece
CATEGORIES:Μουσική
ATTACH;FMTTYPE=image/jpeg:https://livingforfree.gr/wp-content/uploads/2026/04/Ρεμπέτικα-ερωτικά-τραγούδια-στο-Δημοτικό-Θέατρο-Πεύκης.jpg
GEO:38.0568692;23.7935158
X-APPLE-STRUCTURED-LOCATION;VALUE=URI;X-ADDRESS=Δημοτικό Θέατρο Πεύκης Χρυσοστόμου Σμύρνης & Ρήγα Φεραίου Πεύκη Αττική 15121 Greece;X-APPLE-RADIUS=500;X-TITLE=Χρυσοστόμου Σμύρνης & Ρήγα Φεραίου:geo:23.7935158,38.0568692
END:VEVENT
BEGIN:VEVENT
DTSTART;TZID=Europe/Athens:20260425T203000
DTEND;TZID=Europe/Athens:20260425T223000
DTSTAMP:20260423T132322
CREATED:20260422T124050Z
LAST-MODIFIED:20260422T124050Z
UID:10015616-1777149000-1777156200@livingforfree.gr
SUMMARY:Βαγγέλης Κονιτόπουλος και Λευτέρης Μπαφαλούκος στους Άγιους Ανάργυρους
DESCRIPTION:Ένα εορταστικό Διήμερο θα πραγματοποιηθεί στην πόλη μας την Παρασκευή 24 και το Σάββατο 25 Απριλίου με αφορμή τον εορτασμό του Αγίου Γεωργίου και των Μυροφόρων. \nΑρχικά στις 24 Απριλίου και ώρα 21.00 ο Γιάννης Καψάλης και ο Μάκης Τσίκος θα μας κρατήσουν παρέα στην πλατεία Δημοκρατίας στο Καματερό\, με αφορμή τον Πολιούχο που γιορτάζεται στις 23 Απριλίου. \nΣτη συνέχεια το Σάββατο 25 Απριλίου 2026 και ώρα 20.30 ο Βαγγέλης Κονιτόπουλος και ο Λευτέρης Μπαφαλούκος θα τραγουδήσουν στην πλατεία Πλαπούτα μετά τον εορτασμό των Αγίων Μυροφόρων και Νικοδήμου. Στη χορευτική βραδιά θα πάρουν μέρος και οι χορευτικές ομάδες της Ένωσης Νησιωτών Αιγαίου Αγίων Αναργύρων Καματερού.
URL:https://livingforfree.gr/event/vangelis-konitopoulos-ke-lefteris-bafaloukos-stous-agious-anargyrous/
LOCATION:Πλατεία Πλαπούτα Άγιοι Ανάργυροι\, Πλατεία Πλαπούτα\, Άγιοι Ανάργυροι\, Αττική\, Greece
CATEGORIES:Μουσική
ATTACH;FMTTYPE=image/jpeg:https://livingforfree.gr/wp-content/uploads/2026/04/neo-25-04.jpg
GEO:38.0453916;23.7324382
X-APPLE-STRUCTURED-LOCATION;VALUE=URI;X-ADDRESS=Πλατεία Πλαπούτα Άγιοι Ανάργυροι Πλατεία Πλαπούτα Άγιοι Ανάργυροι Αττική Greece;X-APPLE-RADIUS=500;X-TITLE=Πλατεία Πλαπούτα:geo:23.7324382,38.0453916
END:VEVENT
END:VCALENDAR