BEGIN:VCALENDAR
VERSION:2.0
PRODID:-//LIVING for free - ECPv6.15.20//NONSGML v1.0//EN
CALSCALE:GREGORIAN
METHOD:PUBLISH
X-ORIGINAL-URL:https://livingforfree.gr
X-WR-CALDESC:Events for LIVING for free
REFRESH-INTERVAL;VALUE=DURATION:PT1H
X-Robots-Tag:noindex
X-PUBLISHED-TTL:PT1H
BEGIN:VTIMEZONE
TZID:Europe/Athens
BEGIN:DAYLIGHT
TZOFFSETFROM:+0200
TZOFFSETTO:+0300
TZNAME:EEST
DTSTART:20240331T010000
END:DAYLIGHT
BEGIN:STANDARD
TZOFFSETFROM:+0300
TZOFFSETTO:+0200
TZNAME:EET
DTSTART:20241027T010000
END:STANDARD
BEGIN:DAYLIGHT
TZOFFSETFROM:+0200
TZOFFSETTO:+0300
TZNAME:EEST
DTSTART:20250330T010000
END:DAYLIGHT
BEGIN:STANDARD
TZOFFSETFROM:+0300
TZOFFSETTO:+0200
TZNAME:EET
DTSTART:20251026T010000
END:STANDARD
BEGIN:DAYLIGHT
TZOFFSETFROM:+0200
TZOFFSETTO:+0300
TZNAME:EEST
DTSTART:20260329T010000
END:DAYLIGHT
BEGIN:STANDARD
TZOFFSETFROM:+0300
TZOFFSETTO:+0200
TZNAME:EET
DTSTART:20261025T010000
END:STANDARD
END:VTIMEZONE
BEGIN:VEVENT
DTSTART;TZID=Europe/Athens:20251223T200000
DTEND;TZID=Europe/Athens:20251223T220000
DTSTAMP:20260420T054250
CREATED:20251219T100003Z
LAST-MODIFIED:20251219T100003Z
UID:10014550-1766520000-1766527200@livingforfree.gr
SUMMARY:Σινεμά & Ψυχολογία στα Βριλήσσια
DESCRIPTION:11η Συνάντηση Σεμιναρίου «Σινεμά & Ψυχολογία»\nΗ ταινία βασίζεται στο διήγημα «The Greatest Gift» του Philip Van Doren Stern. Οι Jo Swerling\, Michael Wilson\, Dorothy Parker και ο ίδιος ο σκηνοθέτης επεξεργάστηκαν το σενάριο. Όταν πρωτοκυκλοφόρησε δεν έκανε καλή εντύπωση στο κοινό και τους κριτικούς και απέτυχε στα ταμεία. Σε αυτό βοήθησε η έκθεση του FBI που τη χαρακτήριζε φιλοκομουνιστική. Το καλύτερο που συνέβη στην ταινία είναι ότι στις αρχές της δεκαετίας του ’70\, εξαιτίας ενός λογιστικού λάθους\, έμεινε ελεύθερη πνευματικών δικαιωμάτων\, με αποτέλεσμα να παίζεται αλλεπάλληλες φορές από τα αμερικάνικα τηλεοπτικά δίκτυα. Μέσα σε λίγα χρόνια λατρεύτηκε από το κοινό και η λατρεία αυτή που πολλαπλασιαζόταν χρόνο με το χρόνο έφερε την σταδιακή επανεκτίμηση της. Σήμερα θεωρείται η απόλυτη χριστουγεννιάτικη χολιγουντιανή ταινία και σχεδόν όλα τα αμερικάνικα κανάλια την προβάλλουν στην περίοδο των γιορτών. Το χειρότερο που της συνέβη είναι ο επιχρωματισμός της. Μια φανταχτερή χρωματισμένη εκδοχή που καταστρέφει την καθαρότητα των κλασικών πρωτότυπων εικόνων έχει αντικαταστήσει την ασπρόμαυρη. «Προσπάθησα να δω την έγχρωμη εκδοχή\, αλλά έπρεπε να την απενεργοποιήσω – με έκανε να νιώθω άρρωστος» λέει ο James Stewart. Είναι μεγάλη ειρωνεία το γεγονός ότι η επιχρωματισμένη εκδοχή έχει πνευματικά δικαιώματα. Αλλά αυτή προτιμούν τα κανάλια. \nΤο αξιοσημείωτο με το «It’s a Wonderful Life» είναι η αντοχή του στο πέρασμα των χρόνων\, γεγονός που το κατατάσσει στην κατηγορία των αγέραστων ταινιών δίπλα στην «Καζαμπλάνκα»\, τον «Τρίτο Άνθρωπο» και άλλες. Ο Capra δεν είχε σκοπό να κάνει μια «χριστουγεννιάτικη ταινία». Επιστρέφοντας από τον Β’ Παγκόσμιο Πόλεμο ήθελε η πρώτη του μεταπολεμική ταινία να είναι ξεχωριστή: ένας εορτασμός της ζωής και των ονείρων των απλών πολιτών της Αμερικής\, οι οποίοι προσπαθούσαν όσο καλύτερα μπορούσαν να κάνουν το σωστό για τον εαυτό τους και το κοινωνικό σύνολο. Ο James Stewart αποδέχτηκε το ρόλο επιθυμώντας να συνεργαστεί πάλι με τον Capra στου οποίου το φιλμ «Mr. Smith Goes to Washington (1939)\, είχε πρωταγωνιστήσει. H ερμηνεία του αποτυπώνει την εύθραυστη ισορροπία ανάμεσα στην απογοήτευση και την ελπίδα. \nΣτο φιλμ συναρπάζει το γεγονός ότι ο Frank Capra συνθέτει ένα συγκινητικό πορτρέτο καθημερινού ηρωισμού\, όπου η αξία της ζωής μετριέται στις μικρές πράξεις καλοσύνης. Το Bedford Falls γίνεται ένας ζωντανός οργανισμός\, σύμβολο κοινότητας και αλληλεγγύης. Είναι απορίας άξιο το πως ο σκηνοθέτης\, ένας μετανάστης από την Ιταλία\, προσέφερε στην Αμερική μια εικόνα του εαυτού της\, πιο όμορφη και περισσότερο αγνή από την πραγματικότητα\, αλλά ταυτόχρονα πιο σκοτεινή και εφιαλτική από αυτό που δείχνουν οι ταινίες. Όπως ο Walt Disney\, έτσι και ο Capra συχνά παρερμηνεύεται ως οπτιμιστής\, αλλά η εφιαλτική φύση των σκοτεινών επεισοδίων στο «It’s a Wonderful Life» δείχνει ότι κατανοεί τον τρόμο και το σκοτάδι. Είναι ένας εφιάλτης που συνορεύει με το Αμερικανικό Όνειρο και την αμερικανική ψυχή. Υπάρχει πάντα αυτή η πιο ανατριχιαστική\, πιο σκοτεινή\, πιο αιχμηρή πλευρά της καλοσύνης. Η ελπίδα στο τέλος υπάρχει μόνο μέσα από την αντίθεση. Η κωμική αίσθηση\, η μελωδικότητα και το μελόδραμα είναι εδώ τέλεια εναρμονισμένα. \nΤο σεμινάριο πραγματοποιείται κάθε Τρίτη στις 8.00μ.μ. στο στέκι της Δράσης\, (Πάρνηθος 21\, Βριλήσσια) και διαδικτυακά μέσω της πλατφόρμας zoom. \nΕισηγητής ο Παναγιώτης Δενδραμής\, πτυχιούχος τμήματος Ψυχολογίας του ΕΚΠΑ\, με δίπλωμα σκηνοθεσίας (Σχολή Σταυράκου) και μεταπτυχιακό δίπλωμα ειδίκευσης στην ιστορία και θεωρία του κινηματογράφου. Είναι διδάκτορας του τμήματος Φιλολογίας του Πανεπιστημίου Κρήτης (διατριβή “Η κινηματογραφική εκπαίδευση στην Ελλάδα”)\, όπου δίδαξε ως ακαδημαϊκός υπότροφος. Διδάσκει ιστορία του κινηματογράφου στη Σχολή Σταυράκου.
URL:https://livingforfree.gr/event/sinema-psychologia-sta-vrilissia-5/
LOCATION:Κίνηση Δημοτών Βριλησσίων Δράση\, Πάρνηθος 21\, Βριλήσσια\, Αττική\, 15235\, Greece
CATEGORIES:Online,Ομιλίες
ATTACH;FMTTYPE=image/jpeg:https://livingforfree.gr/wp-content/uploads/2025/12/Σινεμά-και-Ψυχολογία.jpg
GEO:38.038096;23.833127
X-APPLE-STRUCTURED-LOCATION;VALUE=URI;X-ADDRESS=Κίνηση Δημοτών Βριλησσίων Δράση Πάρνηθος 21 Βριλήσσια Αττική 15235 Greece;X-APPLE-RADIUS=500;X-TITLE=Πάρνηθος 21:geo:23.833127,38.038096
END:VEVENT
END:VCALENDAR