BEGIN:VCALENDAR
VERSION:2.0
PRODID:-//LIVING for free - ECPv6.15.20//NONSGML v1.0//EN
CALSCALE:GREGORIAN
METHOD:PUBLISH
X-WR-CALNAME:LIVING for free
X-ORIGINAL-URL:https://livingforfree.gr
X-WR-CALDESC:Events for LIVING for free
REFRESH-INTERVAL;VALUE=DURATION:PT1H
X-Robots-Tag:noindex
X-PUBLISHED-TTL:PT1H
BEGIN:VTIMEZONE
TZID:Europe/Athens
BEGIN:DAYLIGHT
TZOFFSETFROM:+0200
TZOFFSETTO:+0300
TZNAME:EEST
DTSTART:20250330T010000
END:DAYLIGHT
BEGIN:STANDARD
TZOFFSETFROM:+0300
TZOFFSETTO:+0200
TZNAME:EET
DTSTART:20251026T010000
END:STANDARD
BEGIN:DAYLIGHT
TZOFFSETFROM:+0200
TZOFFSETTO:+0300
TZNAME:EEST
DTSTART:20260329T010000
END:DAYLIGHT
BEGIN:STANDARD
TZOFFSETFROM:+0300
TZOFFSETTO:+0200
TZNAME:EET
DTSTART:20261025T010000
END:STANDARD
BEGIN:DAYLIGHT
TZOFFSETFROM:+0200
TZOFFSETTO:+0300
TZNAME:EEST
DTSTART:20270328T010000
END:DAYLIGHT
BEGIN:STANDARD
TZOFFSETFROM:+0300
TZOFFSETTO:+0200
TZNAME:EET
DTSTART:20271031T010000
END:STANDARD
END:VTIMEZONE
BEGIN:VEVENT
DTSTART;TZID=Europe/Athens:20260113T200000
DTEND;TZID=Europe/Athens:20260113T220000
DTSTAMP:20260420T021339
CREATED:20260107T161517Z
LAST-MODIFIED:20260107T161517Z
UID:10014711-1768334400-1768341600@livingforfree.gr
SUMMARY:Σινεμά & Ψυχολογία Όταν Πετούν οι Γερανοί
DESCRIPTION:12η Συνάντηση Σεμιναρίου «Σινεμά & Ψυχολογία»\, Τρίτη 13 Ιανουαρίου 2025\, 8:00μμ\, ζωντανά και διαδικτυακά \nΣτην 12η Συνάντηση του Σεμιναρίου «Σινεμά & Ψυχολογία» (Τρίτη 13/1/2026\, 8:00μμ) συζητάμε το βραβευμένο με τον Χρυσό Φοίνικα του Φεστιβάλ Καννών αντιπολεμικό φιλμ «Όταν Περνούν οι Γερανοί» του Mikhail Kalatozov. Ασπρόμαυρο σοβιετικό αριστούργημα γυρισμένο το 1957\, πάνω στο ανατρεπτικό για τα κινηματογραφικά δεδομένα της εποχής\, σενάριο του Viktor Rozov. Λυρικό και σκληρό δοκίμιο για τα αιώνια θέματα που απασχολούν τον άνθρωπο και τον κινηματογράφο: τον έρωτα\, το χωρισμό\, το καθήκον\, την πατρίδα\, την προσωπική αγωνία\, το θάνατο\, την αθανασία\, την ελπίδα\, την πίστη\, την προσδοκία\, κυρίως όμως τον αντίκτυπο του πολέμου πάνω στους πολίτες. Η επιθυμία να αποφύγουν τα αγαπημένα πρόσωπα τη συνάντηση με το θάνατο\, ο χαμός τους\, οι κακουχίες\, οι στερήσεις και όλα όσα συνοδεύουν τον πόλεμο μπαίνουν στο κινηματογραφικό παιχνίδι μέσα από τα μάτια μιας νέας γυναίκας\, κάτι που δεν είχε ξαναγίνει.\nΟι συναντήσεις γίνονται ζωντανά στο στέκι της ΔΡΑΣΗΣ για μια Άλλη Πόλη και διαδικτυακά μέσω της πλατφόρμας zoom στη διεύθυνση: https://us06web.zoom.us/j/86868047020?pwd=0stO5LQ9rpaJ6LVHaUZpTgw01CT1Wm.1#success \nΌταν Πετούν οι Γερανοί/ Летят журавли/The Cranes are Flying\nΕΣΣΔ\, Δραματική\, 1957. Σκηνοθεσία: Mikhail Kalatozov. Σενάριο: Viktor Rozov. Πρωταγωνιστούν: Tatyana Samohlova\, Aleksey Batalov\, Vasili Merkuryev\, Aleksandr Shvorin.\nΣτιγμές-στιγμές\, θαρρώ πως οι στρατιώτες\,\nπου πέσανε στη ματωμένη γη\,\nδεν κείτονται θαρρώ κάτω απ’ το χώμα\nαλλά έχουν γίνει άσπροι γερανοί\nΠετούν και μας καλούν με τις κραυγές τους\nαπ’ τους καιρούς αυτούς τους μακρινούς\nκι ίσως γι’ αυτό πολλές φορές σιωπώντας\nκοιτάμε τους θλιμμένους ουρανούς\nΠετάει\, ψηλά το κουρασμένο σμάρι\,\nστης δύσης τη θαμπή φεγγοβολή\nκαι βλέπω ένα κενό στη φάλαγγά του\nκαι είναι ίσως\, η δική μου η θέση\, αυτή\nΘα ‘ρθει μια ‘μέρα που μ’ αυτό το σμάρι\,\nστο μέγα θάμπος θα πετώ κι εγώ\nσαν γερανός\, καλώντας απ’ τα ουράνια\,\nόλους εσάς\, που έχω αφήσει εδώ\n(Οι Γερανοί (Журавли ) Μουσική: Ян Френкель/Στίχοι: Расул Гамзатов\, Απόδοση στα ελληνικά Γιάννης Ρίτσος) \nΟ Μεγάλος Πατριωτικός Πόλεμος και τα 24 εκατομμύρια νεκροί του αποτέλεσαν πηγή έμπνευσης για πολλές σοβιετικές ταινίες. Οι περισσότερες εξυμνούσαν τον ηρωισμό των στρατιωτών\, την αυταπάρνηση\, το καθήκον προς την πατρίδα. Από ένα σημείο και μετά όμως οι δημιουργοί στράφηκαν στους καθημερινούς ανθρώπους και στην επίδραση του πολέμου στη ζωή τους. Τούτη η ταινία ανήκει σε αυτή την κατηγορία. Παραμονές του Β` Παγκοσμίου Πολέμου. Η Βερόνικα και ο αγαπημένος της Μπόρις ζούνε στιγμές ευτυχίας. Πάνω τους πετούν οι γερανοί συμπληρώνοντας ειδυλλιακά το ερωτικό σκηνικό της ευτυχίας. Ο έρωτας τους\, αγνός και άδολος δεν ολοκληρώνεται ποτέ γιατί «τα πράγματα δυστυχώς δεν είναι όπως τα θελήσαμε»\, όπως λέει και ο πατέρας- του Μπόρις\, όταν ξεσπάει ο πόλεμος. Η άψογη\, απαστράπτουσα εικόνα της Μόσχας σύντομα μετατρέπεται σε μια απέραντη πολεμική ζώνη με οδοφράγματα\, ερείπια\, αποκαΐδια\, καταστροφή. Ο πόλεμος\, σκληρός\, απάνθρωπος και αδιάφορος για κάθε τι ωραίο\, χωρίζει το ζευγάρι. Οι Γερμανοί εισβάλλουν και κηρύσσεται γενική επιστράτευση. Παρά τη θέληση όλης της οικογένειάς του και της Βερόνικα\, ο Μπόρις κατατάσσεται εθελοντής και φεύγει για το μέτωπο. Μετά από ένα τρομερό βομβαρδισμό\, η Βερόνικα χάνει τους δικούς της και καταφεύγει στην οικογένεια του Μπόρις. Ο αδερφός του\, ο Μαρκ\, τη βιάζει και υποχρεωτικά παντρεύονται. Τα γερμανικά στρατεύματα προελαύνουν\, η οικογένεια μετακινείται στην Σιβηρία και ο Μπόρις αγνοείται. Αλλά κανείς δεν μπορεί να τους ενημερώσει για την τύχη του. Η Βερόνικα θα αποπειραθεί να αυτοκτονήσει όταν\, λόγω των ενοχών της\, αντιλαμβάνεται ως προσωπική επίθεση ένα επικριτικό σχόλιο του πατέρα του Μπόρις σχετικά με τις γυναίκες που προδίδουν τους αγαπημένους τους που βρίσκονται στο μέτωπο. Καθώς όμως σταδιακά αποκαλύπτεται η δολιότητα του Μαρκ και κυρίως όταν έρχεται στα χέρια της καθυστερημένα το αποχαιρετιστήριο γράμμα του Μπόρις\, οργίζεται\, βγαίνει από την παθητικότητα και τον λήθαργο και ενεργοποιείται. Μια σειρά από πράξεις την εξαγνίζουν\, έχει άλλωστε πληροφορηθεί ότι ο αγαπημένος της έχει πεθάνει. Επιστρέφει στη Μόσχα μαζί με άλλους επιζώντες\, επιβεβαιώνει τα κακά μαντάτα που αρνιόταν να αποδεχτεί γίνεται ένα με το πλήθος που γιορτάζει την ειρήνη\, προσφέροντάς σε άλλους τα λουλούδια που προόριζε για εκείνον. Κοιτάζει τον ουρανό\, τον οποίο διασχίζει ένα κοπάδι γερανών.\nΑυτό το ερωτικό – αντιπολεμικό ποίημα έκανε εκατομμύρια μάτια να δακρύσουν. Και σήμερα\, μετά 69 χρόνια η ιστορία της Βερόνικα συγκινεί το ίδιο\, μας πλημμυρίζει θλίψη\, αλλά και αισιοδοξία καθώς υμνεί τον έρωτα\, τον μοναδικό\, ανεπανάληπτο\, αθώο\, άδολο έρωτα που ζει και ανθίζει όπου υπάρχουν άνθρωποι\, που βλέπουν τους γερανούς να πετούν και συγκινούνται. Το φιλμ παίχτηκε με τεράστια απήχηση εκτός συνόρων\, σε ένα βαθμό αποκρυστάλλωσε το «λιώσιμο των πάγων» ανάμεσα στην ΕΣΣΔ και τη Δύση που την αποδέχτηκε με ενθουσιασμό και τεράστια κοσμοσυρροή. Βραβεύτηκε με τον Χρυσό Φοίνικα του φεστιβάλ Καννών του 1958\, καθιέρωσε ως σουπερστάρ της Ρωσίας την Tatyana Samohlova (1934-2014\, κόρη του Evgeniy Samoylov). Όλη η συγκίνηση αιχμαλωτίζεται στο φακό μέσα από την εύθραυστη ερμηνεία της. Η δωρική ομορφιά και η ψυχρή λιτότητα στο παίξιμο της\, σε συνδυασμό με την αναβλύζουσα ζωντάνια του του συμπρωταγωνιστή της Aleksey Batalov\, που ερμηνεύει τον Μπόρις\, με το καθαρό βλέμμα ενός τίμιου νεαρού άντρα αποτελούν την προσωποποίηση μιας ηθικής παλιάς κοπής\, αν όχι ενός κομμουνιστικού ιδεώδους όπως το οραματίστηκε μια ολόκληρη γενιά το πρώτο μισό του εικοστού αιώνα. Είναι κρίμα που ηθοποιοί του μεγέθους της Samohlova και του Batalov είναι άγνωστα σήμερα.
URL:https://livingforfree.gr/event/sinema-psychologia-otan-petoun-i-gerani/
LOCATION:Κίνηση Δημοτών Βριλησσίων Δράση\, Πάρνηθος 21\, Βριλήσσια\, Αττική\, 15235\, Greece
CATEGORIES:Online,Ομιλίες
ATTACH;FMTTYPE=image/jpeg:https://livingforfree.gr/wp-content/uploads/2026/01/612850529_10241601954287880_6633040688567487962_n.jpg
GEO:38.038096;23.833127
X-APPLE-STRUCTURED-LOCATION;VALUE=URI;X-ADDRESS=Κίνηση Δημοτών Βριλησσίων Δράση Πάρνηθος 21 Βριλήσσια Αττική 15235 Greece;X-APPLE-RADIUS=500;X-TITLE=Πάρνηθος 21:geo:23.833127,38.038096
END:VEVENT
BEGIN:VEVENT
DTSTART;TZID=Europe/Athens:20260114T180000
DTEND;TZID=Europe/Athens:20260114T200000
DTSTAMP:20260420T021339
CREATED:20260110T200157Z
LAST-MODIFIED:20260110T200157Z
UID:10014741-1768413600-1768420800@livingforfree.gr
SUMMARY:Ακαδημία Γονέων 11ος κύκλος
DESCRIPTION:11ος κύκλος των Ακαδημιών Γονέων «Από το Α έως το Ω: μια Ακαδημία για Γονείς» που πραγματοποιείται από το ΠΜΣ «Στρατηγικές Αναπτυξιακής και Εφηβικής Υγείας» της Ιατρικής Σχολής του Εθνικού και Καποδιστριακού Πανεπιστημίου Αθηνών και την Ελληνική Εταιρεία Εφηβικής Ιατρικής (Ε.Ε.Ε.Ι.)\, σε συνεργασία με UNESCO Έδρα Παγκόσμιας Υγείας/Εκπαίδευσης και το Εθνικό Διαδημοτικό Δίκτυο Υγιών Πόλεων και Προαγωγής Υγείας (ΕΔΔΥΠΠΥ) του Παγκόσμιου Οργανισμού Υγείας (Π.Ο.Υ.). Πρόκειται για 4 – 8 δίωρες διαδραστικές συναντήσεις γονέων τη δεύτερη ή τρίτη Τετάρτη κάθε μήνα 18.15-20.00\, από Ιανουάριο 2026 έως Μάιο 2026\, όπου παρουσιάζονται θέματα σχετικά με την υγεία\, την ανάπτυξη και τη συμπεριφορά των παιδιών\, τις σχέσεις στην οικογένεια και το σχολείο κ.λπ. \n1η Συνάντηση Τετάρτη 14 Ιανουαρίου 2026\n«Ανάπτυξη\, συμπεριφορά και φροντίδα υγείας παιδιού και εφήβου – “χρυσοί κανόνες” για γονείς»\nΆρτεμις Κ. Τσίτσικα\nΚαθηγήτρια Εθνική Εκπρόσωπος\, UNESCO Έδρας για την Παγκόσμια Υγεία & Εκπαίδευση Αναπλ. Καθηγήτρια Παιδιατρικής-Εφηβικής Ιατρικής ΕΚΠΑ Ιατρική Σχολή Εθνικού και Καποδιστριακού Πανεπιστημίου Αθηνών Επιστ. Υπεύθυνος Μονάδας Εφηβικής Υγείας (Μ.Ε.Υ.) Β΄ Παιδιατρική Κλινική ΕΚΠΑ – Νοσοκομείο Παίδων “Π. & Α. Κυριακού”\nΔιευθύντρια ΠΜΣ «Στρ. Αναπτυξιακής και Εφηβικής Υγείας» Πρόεδρος Ελληνικής Εταιρείας Εφηβικής Ιατρικής (ΕΕΕΙ)/UNESCO LoI \nΓια την προεγγραφή και την παρακολούθηση το link είναι:\nhttps://us06web.zoom.us/webinar/register/WN_otrUC5G-THicEKADJNq-Yw\nΟι Ακαδημίες πραγματοποιούνται με διαδικτυακή κάλυψη για το Δίκτυο των Ακαδημιών και του ΕΔΔΥΠΠΥ σε όλη την επικράτεια
URL:https://livingforfree.gr/event/akadimia-goneon-11os-kyklos/
LOCATION:Αττική
CATEGORIES:Online,Ομιλίες
ATTACH;FMTTYPE=image/jpeg:https://livingforfree.gr/wp-content/uploads/2026/01/akadimia_goneon.jpg
END:VEVENT
BEGIN:VEVENT
DTSTART;TZID=Europe/Athens:20260115T190000
DTEND;TZID=Europe/Athens:20260115T210000
DTSTAMP:20260420T021339
CREATED:20260102T132842Z
LAST-MODIFIED:20260102T132842Z
UID:10014681-1768503600-1768510800@livingforfree.gr
SUMMARY:Οι Συναντήσεις της Πέμπτης στην Ελληνοαμερικανική Ένωση
DESCRIPTION:Παρουσίαση και συζήτηση γύρω από το έργο σύγχρονων Ελλήνων φωτογράφων με τον Πλάτωνα Ριβέλλη\nΣτις Συναντήσεις της Πέμπτης\, ο Πλάτων Ριβέλλης επιλέγει και παρουσιάζει σύγχρονους Έλληνες φωτογράφους-μέλη του «Φωτογραφικού Κύκλου»\, αναλύει το καλλιτεχνικό έργο τους και συνομιλεί μαζί τους για τις θεματικές\, τις προσεγγίσεις και τις επιλογές τους. Στη συνέχεια\, το κοινό θέτει τα ερωτήματά του και μοιράζεται τις σκέψεις του για τις φωτογραφίες που προβλήθηκαν.\nH πρώτη παρουσίαση του χρόνου πραγματοποιείται στις 15 Ιανουαρίου\, ώρα 19:00 και εστιάζει στο έργο του Αντώνη Δουλγερίδη και του Πάνου Ροζάκη. \nΟι παρουσιάσεις πραγματοποιούνται μέσω της πλατφόρμας Zoom.\nΕλεύθερη παρακολούθηση για όλους με προεγγραφές. \nΒιογραφικό Ο Πλάτων Ριβέλλης γεννήθηκε στην Αθήνα το 1945. Σπούδασε Νομικά στην Αθήνα (1963-1968)\, Πολιτικές Επιστήμες στο Παρίσι (1968-1970) και Φωτογραφία στις ΗΠΑ (1983). Εργάστηκε ως δικηγόρος στην Αθήνα για δώδεκα χρόνια (1971-1983). Διδάσκει φωτογραφία από το 1981 μέχρι σήμερα. Οργάνωσε τα πρότυπα τμήματα φωτογραφίας της Λαϊκής Επιμόρφωσης (Υπουργείο Παιδείας) και δίδαξε τους επιμορφωτές τους. Έχει επιμεληθεί σειρά από εκπομπές της κρατικής τηλεόρασης για τη φωτογραφία. Έχει παραδώσει πολλά σεμινάρια και διαλέξεις για τη φωτογραφία στην Αθήνα\, σε επαρχιακές πόλεις και στην Κύπρο. Έχει εκθέσει τις φωτογραφίες του σε ατομικές και ομαδικές εκθέσεις. Άρθρα του έχουν φιλοξενηθεί σε πολλά ελληνικά περιοδικά και εφημερίδες. Διευθύνει τις εκδόσεις «Φωτοχώρος». Ίδρυσε το 1988 το σωματείο «Φωτογραφικός Κύκλος»\, του οποίου είναι πρόεδρος. Έχει συγγράψει τεχνικά βιβλία\, θεωρητικά βιβλία και λευκώματα.
URL:https://livingforfree.gr/event/i-synantisis-tis-pebtis-stin-ellinoamerikaniki-enosi-3/
LOCATION:Αττική
CATEGORIES:Online,Ομιλίες
END:VEVENT
END:VCALENDAR