BEGIN:VCALENDAR
VERSION:2.0
PRODID:-//LIVING for free - ECPv6.15.20//NONSGML v1.0//EN
CALSCALE:GREGORIAN
METHOD:PUBLISH
X-ORIGINAL-URL:https://livingforfree.gr
X-WR-CALDESC:Events for LIVING for free
REFRESH-INTERVAL;VALUE=DURATION:PT1H
X-Robots-Tag:noindex
X-PUBLISHED-TTL:PT1H
BEGIN:VTIMEZONE
TZID:Europe/Athens
BEGIN:DAYLIGHT
TZOFFSETFROM:+0200
TZOFFSETTO:+0300
TZNAME:EEST
DTSTART:20250330T010000
END:DAYLIGHT
BEGIN:STANDARD
TZOFFSETFROM:+0300
TZOFFSETTO:+0200
TZNAME:EET
DTSTART:20251026T010000
END:STANDARD
BEGIN:DAYLIGHT
TZOFFSETFROM:+0200
TZOFFSETTO:+0300
TZNAME:EEST
DTSTART:20260329T010000
END:DAYLIGHT
BEGIN:STANDARD
TZOFFSETFROM:+0300
TZOFFSETTO:+0200
TZNAME:EET
DTSTART:20261025T010000
END:STANDARD
BEGIN:DAYLIGHT
TZOFFSETFROM:+0200
TZOFFSETTO:+0300
TZNAME:EEST
DTSTART:20270328T010000
END:DAYLIGHT
BEGIN:STANDARD
TZOFFSETFROM:+0300
TZOFFSETTO:+0200
TZNAME:EET
DTSTART:20271031T010000
END:STANDARD
END:VTIMEZONE
BEGIN:VEVENT
DTSTART;TZID=Europe/Athens:20260428T213000
DTEND;TZID=Europe/Athens:20260428T233000
DTSTAMP:20260423T132847
CREATED:20260401T163233Z
LAST-MODIFIED:20260401T163233Z
UID:10015423-1777411800-1777419000@livingforfree.gr
SUMMARY:Ο φάρος στο Εμπρος
DESCRIPTION:Ο φάρος στο Εμπρος\nΣτα βόρεια περίχωρα του Δουβλίνου\, λίγα χιλιόμετρα έξω από την προβλήτα του Χάουθ\, ξημερώνει παραμονή Χριστουγέννων. Ο Σάρκυ\, ένας αλκοολικός σε φάση απεξάρτησης\, ο μεγάλος αδερφος του\, Ρίτσαρντ\, πρόσφατα τυφλωμένος\, και ο Ιβάν\, φίλος από παλιά\, συνέρχονται ύστερα απο μια ακόμη βέρα ιρλανδέζικη βραδιά και ετοιμάζονται να γιορτάσουν. Η γέννηση του Θείου Βρέφους θα τιμηθεί δεόντως: με ποτό\, χαρτιά και μια απρόσμενη βεγγέρα. Ο Νίκυ\, φίλος του Ρίτσαρντ\, καταφθάνει στη μάζωξη μαζί με ένα μυστηριώδη επισκέπτη\, τον κύριο Λόκχαρτ\, φέρνοντας γιορτινή διάθεση στο κατά τα άλλα μίζερο υπόγειο.\nΌσο\, όμως\, η νύχτα προχωρά και τα μπουκάλια αδειάζουν\, ιστορίες από το παρελθόν επιστρέφουν για να στοιχειώσουν τη συντροφιά. Ανοιχτοί λογαριασμοί\, ενοχές και η φθορά της ζωής παίρνουν θέση στο τραπέζι του ποτού και του πόκερ\, όσο το παιχνίδι μεταλάσσεται σε κάτι σκοτεινότερο – και διακύβευμα δεν είναι πλεόν μόνο το χρήμα.\nΟ Κόνορ Μακφέρσον\, εμπνεόμενος από τους προσωπικούς του δαίμονες\, συνθέτει μια μαύρη κωμωδία\, όπου οι ήρωες τοποθετούνται στο μεταίχμιο ανάμεσα στην αυτοκαταστροφή και την σωτηρία\, στην παραίτηση και την πίστη\, στο σκοτάδι και το φως.\nΚαι η νύχτα προχωρά… \nΔΙΑΝΟΜΗ [με σειρά εμφάνισης]:\nΤΖΕΙΜΣ “ΣΑΡΚΥ” ΧΑΡΚΙΝ: Πούλος Παναγιώτης\nΡΙΤΣΑΡΝΤ ΧΑΡΚΙΝ: Γκίκας Παναγιώτης\nΙΒΑΝ ΚΑΡΥ: Χολέβας Εμμανουήλ\nΝΙΚΥ ΓΚΙΜΠΛΙΝ: Βαλαβανίδης Χρήστος\nΚΥΡΙΟΣ ΛΟΚΧΑΡΤ: Νέζης Παναγιώτης Ιωάννης\nΗ παράσταση είναι μια παραγωγή της θεατρικής ομάδας απARTία. \nΑπόδοση και σκηνοθεσία: Ομάδα απARTία\nΚαλλιτεχνική επιμέλεια & διεύθυνση: Πούλος Παναγιώτης\nΠρωτότυπη μουσική σύνθεση & μουσική επιμέλεια: Βαλαβανίδης Χρήστος\nΜουσική εκτέλεση: Δρούσιας Χρήστος\, Χέλμη Ευαγγελία\, Νίνε Ανέστης\nΕπιμέλεια κοστουμιών: Γκίκας Παναγιώτης\nΣκηνογραφία: Διαμαντοπούλου Αδαμαντία\nΕπιμέλεια κίνησης – Χορογραφία: Κουρή Κωνσταντίνα\nΕικαστική επιμέλεια αφίσας: Μαγιάτη Άννα\nΣχεδιασμός & εκτέλεση φωτισμών – Τεχνική υποστήριξη παράστασης: Φαρμακαλίδης Γεώργιος \nΗ διάρκεια της παράστασης ειναι 120′\, χωρίς διάλειμμα. \nΕλεύθερο Αυτοδιαχειριζόμενο Θέατρο Εμπρός\nΡήγα Παλαμήδου 2\, Ψυρρή\, Αθήνα\nemail : contact@embros.gr
URL:https://livingforfree.gr/event/o-faros-sto-ebros/2026-04-28/
LOCATION:θέατρο Εμπρός\, Ρήγα Παλαμήδου 2\, Αθήνα\, Αττική\, 10554\, Greece
CATEGORIES:Θέατρο
ATTACH;FMTTYPE=image/jpeg:https://livingforfree.gr/wp-content/uploads/2026/04/faros.jpg
GEO:37.979039;23.724017
X-APPLE-STRUCTURED-LOCATION;VALUE=URI;X-ADDRESS=θέατρο Εμπρός Ρήγα Παλαμήδου 2 Αθήνα Αττική 10554 Greece;X-APPLE-RADIUS=500;X-TITLE=Ρήγα Παλαμήδου 2:geo:23.724017,37.979039
END:VEVENT
BEGIN:VEVENT
DTSTART;TZID=Europe/Athens:20260429T213000
DTEND;TZID=Europe/Athens:20260429T233000
DTSTAMP:20260423T132847
CREATED:20260401T163233Z
LAST-MODIFIED:20260401T163233Z
UID:10015424-1777498200-1777505400@livingforfree.gr
SUMMARY:Ο φάρος στο Εμπρος
DESCRIPTION:Ο φάρος στο Εμπρος\nΣτα βόρεια περίχωρα του Δουβλίνου\, λίγα χιλιόμετρα έξω από την προβλήτα του Χάουθ\, ξημερώνει παραμονή Χριστουγέννων. Ο Σάρκυ\, ένας αλκοολικός σε φάση απεξάρτησης\, ο μεγάλος αδερφος του\, Ρίτσαρντ\, πρόσφατα τυφλωμένος\, και ο Ιβάν\, φίλος από παλιά\, συνέρχονται ύστερα απο μια ακόμη βέρα ιρλανδέζικη βραδιά και ετοιμάζονται να γιορτάσουν. Η γέννηση του Θείου Βρέφους θα τιμηθεί δεόντως: με ποτό\, χαρτιά και μια απρόσμενη βεγγέρα. Ο Νίκυ\, φίλος του Ρίτσαρντ\, καταφθάνει στη μάζωξη μαζί με ένα μυστηριώδη επισκέπτη\, τον κύριο Λόκχαρτ\, φέρνοντας γιορτινή διάθεση στο κατά τα άλλα μίζερο υπόγειο.\nΌσο\, όμως\, η νύχτα προχωρά και τα μπουκάλια αδειάζουν\, ιστορίες από το παρελθόν επιστρέφουν για να στοιχειώσουν τη συντροφιά. Ανοιχτοί λογαριασμοί\, ενοχές και η φθορά της ζωής παίρνουν θέση στο τραπέζι του ποτού και του πόκερ\, όσο το παιχνίδι μεταλάσσεται σε κάτι σκοτεινότερο – και διακύβευμα δεν είναι πλεόν μόνο το χρήμα.\nΟ Κόνορ Μακφέρσον\, εμπνεόμενος από τους προσωπικούς του δαίμονες\, συνθέτει μια μαύρη κωμωδία\, όπου οι ήρωες τοποθετούνται στο μεταίχμιο ανάμεσα στην αυτοκαταστροφή και την σωτηρία\, στην παραίτηση και την πίστη\, στο σκοτάδι και το φως.\nΚαι η νύχτα προχωρά… \nΔΙΑΝΟΜΗ [με σειρά εμφάνισης]:\nΤΖΕΙΜΣ “ΣΑΡΚΥ” ΧΑΡΚΙΝ: Πούλος Παναγιώτης\nΡΙΤΣΑΡΝΤ ΧΑΡΚΙΝ: Γκίκας Παναγιώτης\nΙΒΑΝ ΚΑΡΥ: Χολέβας Εμμανουήλ\nΝΙΚΥ ΓΚΙΜΠΛΙΝ: Βαλαβανίδης Χρήστος\nΚΥΡΙΟΣ ΛΟΚΧΑΡΤ: Νέζης Παναγιώτης Ιωάννης\nΗ παράσταση είναι μια παραγωγή της θεατρικής ομάδας απARTία. \nΑπόδοση και σκηνοθεσία: Ομάδα απARTία\nΚαλλιτεχνική επιμέλεια & διεύθυνση: Πούλος Παναγιώτης\nΠρωτότυπη μουσική σύνθεση & μουσική επιμέλεια: Βαλαβανίδης Χρήστος\nΜουσική εκτέλεση: Δρούσιας Χρήστος\, Χέλμη Ευαγγελία\, Νίνε Ανέστης\nΕπιμέλεια κοστουμιών: Γκίκας Παναγιώτης\nΣκηνογραφία: Διαμαντοπούλου Αδαμαντία\nΕπιμέλεια κίνησης – Χορογραφία: Κουρή Κωνσταντίνα\nΕικαστική επιμέλεια αφίσας: Μαγιάτη Άννα\nΣχεδιασμός & εκτέλεση φωτισμών – Τεχνική υποστήριξη παράστασης: Φαρμακαλίδης Γεώργιος \nΗ διάρκεια της παράστασης ειναι 120′\, χωρίς διάλειμμα. \nΕλεύθερο Αυτοδιαχειριζόμενο Θέατρο Εμπρός\nΡήγα Παλαμήδου 2\, Ψυρρή\, Αθήνα\nemail : contact@embros.gr
URL:https://livingforfree.gr/event/o-faros-sto-ebros/2026-04-29/
LOCATION:θέατρο Εμπρός\, Ρήγα Παλαμήδου 2\, Αθήνα\, Αττική\, 10554\, Greece
CATEGORIES:Θέατρο
ATTACH;FMTTYPE=image/jpeg:https://livingforfree.gr/wp-content/uploads/2026/04/faros.jpg
GEO:37.979039;23.724017
X-APPLE-STRUCTURED-LOCATION;VALUE=URI;X-ADDRESS=θέατρο Εμπρός Ρήγα Παλαμήδου 2 Αθήνα Αττική 10554 Greece;X-APPLE-RADIUS=500;X-TITLE=Ρήγα Παλαμήδου 2:geo:23.724017,37.979039
END:VEVENT
END:VCALENDAR