BEGIN:VCALENDAR
VERSION:2.0
PRODID:-//LIVING for free - ECPv6.15.20//NONSGML v1.0//EN
CALSCALE:GREGORIAN
METHOD:PUBLISH
X-ORIGINAL-URL:https://livingforfree.gr
X-WR-CALDESC:Events for LIVING for free
REFRESH-INTERVAL;VALUE=DURATION:PT1H
X-Robots-Tag:noindex
X-PUBLISHED-TTL:PT1H
BEGIN:VTIMEZONE
TZID:Europe/Athens
BEGIN:DAYLIGHT
TZOFFSETFROM:+0200
TZOFFSETTO:+0300
TZNAME:EEST
DTSTART:20250330T010000
END:DAYLIGHT
BEGIN:STANDARD
TZOFFSETFROM:+0300
TZOFFSETTO:+0200
TZNAME:EET
DTSTART:20251026T010000
END:STANDARD
BEGIN:DAYLIGHT
TZOFFSETFROM:+0200
TZOFFSETTO:+0300
TZNAME:EEST
DTSTART:20260329T010000
END:DAYLIGHT
BEGIN:STANDARD
TZOFFSETFROM:+0300
TZOFFSETTO:+0200
TZNAME:EET
DTSTART:20261025T010000
END:STANDARD
BEGIN:DAYLIGHT
TZOFFSETFROM:+0200
TZOFFSETTO:+0300
TZNAME:EEST
DTSTART:20270328T010000
END:DAYLIGHT
BEGIN:STANDARD
TZOFFSETFROM:+0300
TZOFFSETTO:+0200
TZNAME:EET
DTSTART:20271031T010000
END:STANDARD
END:VTIMEZONE
BEGIN:VEVENT
DTSTART;TZID=Europe/Athens:20260502T210000
DTEND;TZID=Europe/Athens:20260502T230000
DTSTAMP:20260422T003039
CREATED:20260421T160213Z
LAST-MODIFIED:20260421T160213Z
UID:10015590-1777755600-1777762800@livingforfree.gr
SUMMARY:Η νεκροκεφαλή από φελλό πέθανε πριν από 1 δευτερόλεπτο
DESCRIPTION:Η νεκροκεφαλή από φελλό πέθανε πριν από 1 δευτερόλεπτο\nΈνα θέατρο του ημι-παραλογου από την θεατρική ομάδα “Τα κουρέλια” φοιτητών του τμήματος Ψηφιακών Τεχνών και Κινηματογράφου.\nΥπόθεση: 1799 Βενετία. Δυο χρόνια μετά την απαγόρευση της διεξαγωγής του καρναβαλιού από τον Ναπολέοντα\, ένας περιοδεύων τετραμελής θίασος\, κατευθύνεται μυστικά προς την Σικελία. Ο θίασος αυτός παίζει ένα και μοναδικό έργο “Τον θάνατο του Πουλτσινέλα”. Στην πορεία του ταξιδιού τους ο ηθοποιός που παίζει τον Πουλτσινέλα αρρωσταίνει βαριά και πεθαίνει. Έτσι πρέπει να παίξουν το έργο τους με έναν νεκρό. Μια υβριδική παράσταση ανάμεσα στο κλασσικό θέατρο και το performance. \nΣυντελεστές:\nΓυναίκα: Ελεάνα Αλεξίου\nΡιντοτό: Ευθύμης Κουτσογιαννόπουλος\nΘλίψη: Ειρήνη Μάντζιου\nΠιέρ: Ιάσονας Δκαίος\nΠουλτσινέλα: Ισιδώρα Παπαγιάννη\nΤυμπανιστής 2: Κίμων Μαρσέλλος\nΚολομπίνα: Μαρία Παπουτσάκη\nΤυμπανιστής 3: Νίκος Γκουβάς\nΒρικόλακας: Παναγιώτης Μπούκουρας\nΤυμπανιστής 1: Σεραφείμ Παντός\nΖαν-Πωλ Μαρά: Χριστίνα Αλογκάρι\nΠαππάς “Αντίο”: Χάρης Τζαβάρας\nΔημιουργία σκηνικών: Κουρέλια και Φίλοι\nΕπικεφαλής Σκηνικών-Ενδυματολογικού: Ισμήνη Τσαλίκη\, Δήμητρα Τράντζα\nΦωτισμός-Ήχος: Ηρακλής Μαρινόπουλος\nΚείμενο-Σκηνοθεσία: Κωνσταντής Κουρούβανης
URL:https://livingforfree.gr/event/i-nekrokefali-apo-fello-pethane-prin-apo-1-defterolepto/2026-05-02/
LOCATION:θέατρο Εμπρός\, Ρήγα Παλαμήδου 2\, Αθήνα\, Αττική\, 10554\, Greece
CATEGORIES:Θέατρο
ATTACH;FMTTYPE=image/jpeg:https://livingforfree.gr/wp-content/uploads/2026/04/Afisa_teleia1-724x1024-1.jpg
GEO:37.979039;23.724017
X-APPLE-STRUCTURED-LOCATION;VALUE=URI;X-ADDRESS=θέατρο Εμπρός Ρήγα Παλαμήδου 2 Αθήνα Αττική 10554 Greece;X-APPLE-RADIUS=500;X-TITLE=Ρήγα Παλαμήδου 2:geo:23.724017,37.979039
END:VEVENT
BEGIN:VEVENT
DTSTART;TZID=Europe/Athens:20260503T210000
DTEND;TZID=Europe/Athens:20260503T230000
DTSTAMP:20260422T003039
CREATED:20260421T160213Z
LAST-MODIFIED:20260421T160213Z
UID:10015591-1777842000-1777849200@livingforfree.gr
SUMMARY:Η νεκροκεφαλή από φελλό πέθανε πριν από 1 δευτερόλεπτο
DESCRIPTION:Η νεκροκεφαλή από φελλό πέθανε πριν από 1 δευτερόλεπτο\nΈνα θέατρο του ημι-παραλογου από την θεατρική ομάδα “Τα κουρέλια” φοιτητών του τμήματος Ψηφιακών Τεχνών και Κινηματογράφου.\nΥπόθεση: 1799 Βενετία. Δυο χρόνια μετά την απαγόρευση της διεξαγωγής του καρναβαλιού από τον Ναπολέοντα\, ένας περιοδεύων τετραμελής θίασος\, κατευθύνεται μυστικά προς την Σικελία. Ο θίασος αυτός παίζει ένα και μοναδικό έργο “Τον θάνατο του Πουλτσινέλα”. Στην πορεία του ταξιδιού τους ο ηθοποιός που παίζει τον Πουλτσινέλα αρρωσταίνει βαριά και πεθαίνει. Έτσι πρέπει να παίξουν το έργο τους με έναν νεκρό. Μια υβριδική παράσταση ανάμεσα στο κλασσικό θέατρο και το performance. \nΣυντελεστές:\nΓυναίκα: Ελεάνα Αλεξίου\nΡιντοτό: Ευθύμης Κουτσογιαννόπουλος\nΘλίψη: Ειρήνη Μάντζιου\nΠιέρ: Ιάσονας Δκαίος\nΠουλτσινέλα: Ισιδώρα Παπαγιάννη\nΤυμπανιστής 2: Κίμων Μαρσέλλος\nΚολομπίνα: Μαρία Παπουτσάκη\nΤυμπανιστής 3: Νίκος Γκουβάς\nΒρικόλακας: Παναγιώτης Μπούκουρας\nΤυμπανιστής 1: Σεραφείμ Παντός\nΖαν-Πωλ Μαρά: Χριστίνα Αλογκάρι\nΠαππάς “Αντίο”: Χάρης Τζαβάρας\nΔημιουργία σκηνικών: Κουρέλια και Φίλοι\nΕπικεφαλής Σκηνικών-Ενδυματολογικού: Ισμήνη Τσαλίκη\, Δήμητρα Τράντζα\nΦωτισμός-Ήχος: Ηρακλής Μαρινόπουλος\nΚείμενο-Σκηνοθεσία: Κωνσταντής Κουρούβανης
URL:https://livingforfree.gr/event/i-nekrokefali-apo-fello-pethane-prin-apo-1-defterolepto/2026-05-03/
LOCATION:θέατρο Εμπρός\, Ρήγα Παλαμήδου 2\, Αθήνα\, Αττική\, 10554\, Greece
CATEGORIES:Θέατρο
ATTACH;FMTTYPE=image/jpeg:https://livingforfree.gr/wp-content/uploads/2026/04/Afisa_teleia1-724x1024-1.jpg
GEO:37.979039;23.724017
X-APPLE-STRUCTURED-LOCATION;VALUE=URI;X-ADDRESS=θέατρο Εμπρός Ρήγα Παλαμήδου 2 Αθήνα Αττική 10554 Greece;X-APPLE-RADIUS=500;X-TITLE=Ρήγα Παλαμήδου 2:geo:23.724017,37.979039
END:VEVENT
END:VCALENDAR